Workbook

Sheet 仕様書
A1: 別冊
A2: 仕 様 書
A4: 物件名 事務用品・生活雑貨・家電機器類
A6: 整理 番号 | B6: 品 名 | C6: 品 質 規 格 | D6: 数量 | E6: 単位 | F6: 同等品 事前確認 | AE6: 0 | AF6: 0 | AG6: 0 | AH6: 0 | AI6: 0 | AJ6: 0 | AK6: 0 | AL6: 0 | AM6: 0 | AN6: 0 | AO6: 0 | AP6: 0 | AQ6: 0 | AR6: 0 | AS6: 0 | AT6: 0 | AU6: 0 | AV6: 0 | AW6: 0 | AX6: 0 | AY6: 0 | AZ6: 0 | BA6: 0 | BB6: 0 | BC6: 0 | BD6: 0 | BE6: 0 | BF6: 0 | BG6: 0 | BH6: 0 | BI6: 0 | BJ6: 0 | BK6: 0 | BL6: 0 | BM6: 0 | BN6: 0 | BO6: 0 | BP6: 0 | BQ6: 0 | BR6: 0 | CZ6: 1153
A7: 1 | B7: データバインダー | C7: サイズ：T11×Y15、収容枚数：約350枚 【参考品：コクヨ 5102-8114と同等品又は同等品以上】 | D7: 200 | E7: 冊 | F7: 要
A8: 2 | B8: データバインダー | C8: サイズ：T11×Y15、収容枚数：約280枚 【参考品：コクヨ 5184-7203と同等品又は同等品以上】 | D8: 120 | E8: 冊 | F8: 要
A9: 3 | B9: チューブファイル | C9: サイズ：B4ヨコ、収容枚数：約300枚 【参考品：コクヨ 5113-9711と同等品又は同等品以上】 | D9: 60 | E9: 枚 | F9: 要
A10: 4 | B10: ＯＡタップ（平型） | C10: コンセント口数：３、定格：125V/15A/1500W、PSE(電気用品安全法)：適合 【参考品：JOINTEX 262-293と同等品又は同等品以上】 | D10: 2 | E10: 個 | F10: 要
A11: 5 | B11: 車載用タブレットホルダー | C11: 7～11インチのタブレットに対応、ホルダーを真空ゲル吸盤で固定 【参考品：サンワサプライ CAR-HLD13BKと同等品又は同等以上】 | D11: 4 | E11: 個 | F11: 要
A12: 6 | B12: 緑茶（カートカン） | C12: 内容量：195g 【参考品：JANコード 4902471103791と同等品又は同等以上】 | D12: 90 | E12: 本 | F12: 要
A13: 7 | B13: 丸盆 | C13: 直径約30cm、木製、漆塗り 【参考品：漆器の伊助 福梅盆 溜 木製 漆塗り トレーと同等品又は同等品以上】 | D13: 2 | E13: 枚 | F13: 要
A14: 8 | B14: 丸盆 | C14: 直径約24cm、木製 【参考品：漆器 山田平安堂 丸盆 白檀（小）と同等品又は同等品以上】 | D14: 2 | E14: 枚 | F14: 要
A15: 9 | B15: 電気ポット | C15: 容量5.0L 【参考品：象印 CD-SE50と同等品又は同等品以上】 | D15: 1 | E15: 台 | F15: 要
A16: 10 | B16: ポリ手提げ袋 | C16: サイズ：巾400×高さ450×マチ200ミリ、20枚セット 【参考品：マツシロ ハッポーバック ブルーと同等品又は同等品以上】 | D16: 1 | E16: セット | F16: 要
A17: 11 | B17: レジ袋 | C17: サイズ：縦600㎜×横350㎜、マチ幅150㎜、厚さ0.03㎜、乳白色、100枚入 【参考品：JOINTEX 708-129と同等品又は同等品以上】 | D17: 3 | E17: パック | F17: 要
A18: 12 | B18: 式辞用紙 | C18: 外寸：縦210㎜×横470㎜、A4インクジェットプリンター対応 【参考品：JOINTEX 334-60と同等品又は同等品以上】 | D18: 10 | E18: パック | F18: 要
... A70: 64 | B70: デスクライト | C70: LED使用、サイズ：約W100×H400×D420mm、電源：ACアダプター、明るさ：750ルーメン 【参考品：GENTOS DK-R270WHと同等品又は同等品以上】 | D70: 10 | E70: 個 | F70: 要

Sheet 仕様書2
A1: １．納入期限
A2: 令和８年３月25日（水）
A4: ２．納入場所
A5: 東北森林管理局計画課 秋田県秋田市中通５丁目９－16
A7: ３．調達部署担当者
A8: 秋田県秋田市中通５丁目９－16
A9: 東北森林管理局 計画保全部 計画課 企画係
A10: 電話 018-836-2204
A11: e-mail t_keikaku@maff.go.jp
A13: ４．その他
A14: ①納入品は「グリーン購入法」適合商品とする。適合商品が存在しない場合はこの限りでない。
A15: ②納入品は、未使用・最新のものとし、付属品については全て付属すること。

Sheet 見積内訳書
A1: 別冊
A2: 見 積 内 訳 書
A4: =仕様書!A4 -> 物件名 事務用品・生活雑貨・家電機器類
A6: 整理 番号 | B6: 品 名 | C6: 品 質 規 格 | D6: 数量 | E6: 単位 | F6: 単 価 | G6: 価 格
A7: =仕様書!A7 -> 1 | B7: =仕様書!B7 -> データバインダー | C7: =仕様書!C7 -> サイズ：T11×Y15、収容枚数：約350枚 【参考品：コクヨ 5102-8114と同等品又は同等品以上】 | D7: =仕様書!D7 -> 200 | E7: =仕様書!E7 -> 冊
A8: =仕様書!A8 -> 2 | B8: =仕様書!B8 -> データバインダー | C8: =仕様書!C8 -> サイズ：T11×Y15、収容枚数：約280枚 【参考品：コクヨ 5184-7203と同等品又は同等品以上】 | D8: =仕様書!D8 -> 120 | E8: =仕様書!E8 -> 冊
A9: =仕様書!A9 -> 3 | B9: =仕様書!B9 -> チューブファイル | C9: =仕様書!C9 -> サイズ：B4ヨコ、収容枚数：約300枚 【参考品：コクヨ 5113-9711と同等品又は同等品以上】 | D9: =仕様書!D9 -> 60 | E9: =仕様書!E9 -> 枚
A10: =仕様書!A10 -> 4 | B10: =仕様書!B10 -> ＯＡタップ（平型） | C10: =仕様書!C10 -> コンセント口数：３、定格：125V/15A/1500W、PSE(電気用品安全法)：適合 【参考品：JOINTEX 262-293と同等品又は同等品以上】 | D10: =仕様書!D10 -> 2 | E10: =仕様書!E10 -> 個
A11: =仕様書!A11 -> 5 | B11: =仕様書!B11 -> 車載用タブレットホルダー | C11: =仕様書!C11 -> 7～11インチのタブレットに対応、ホルダーを真空ゲル吸盤で固定 【参考品：サンワサプライ CAR-HLD13BKと同等品又は同等以上】 | D11: =仕様書!D11 -> 4 | E11: =仕様書!E11 -> 個
A12: =仕様書!A12 -> 6 | B12: =仕様書!B12 -> 緑茶（カートカン） | C12: =仕様書!C12 -> 内容量：195g 【参考品：JANコード 4902471103791と同等品又は同等以上】 | D12: =仕様書!D12 -> 90 | E12: =仕様書!E12 -> 本 | H12: 消費税8％
A13: =仕様書!A13 -> 7 | B13: =仕様書!B13 -> 丸盆 | C13: =仕様書!C13 -> 直径約30cm、木製、漆塗り 【参考品：漆器の伊助 福梅盆 溜 木製 漆塗り トレーと同等品又は同等品以上】 | D13: =仕様書!D13 -> 2 | E13: =仕様書!E13 -> 枚
A14: =仕様書!A14 -> 8 | B14: =仕様書!B14 -> 丸盆 | C14: =仕様書!C14 -> 直径約24cm、木製 【参考品：漆器 山田平安堂 丸盆 白檀（小）と同等品又は同等品以上】 | D14: =仕様書!D14 -> 2 | E14: =仕様書!E14 -> 枚
A15: =仕様書!A15 -> 9 | B15: =仕様書!B15 -> 電気ポット | C15: =仕様書!C15 -> 容量5.0L 【参考品：象印 CD-SE50と同等品又は同等品以上】 | D15: =仕様書!D15 -> 1 | E15: =仕様書!E15 -> 台
A16: =仕様書!A16 -> 10 | B16: =仕様書!B16 -> ポリ手提げ袋 | C16: =仕様書!C16 -> サイズ：巾400×高さ450×マチ200ミリ、20枚セット 【参考品：マツシロ ハッポーバック ブルーと同等品又は同等品以上】 | D16: =仕様書!D16 -> 1 | E16: =仕様書!E16 -> セット
A17: =仕様書!A17 -> 11 | B17: =仕様書!B17 -> レジ袋 | C17: =仕様書!C17 -> サイズ：縦600㎜×横350㎜、マチ幅150㎜、厚さ0.03㎜、乳白色、100枚入 【参考品：JOINTEX 708-129と同等品又は同等品以上】 | D17: =仕様書!D17 -> 3 | E17: =仕様書!E17 -> パック
A18: =仕様書!A18 -> 12 | B18: =仕様書!B18 -> 式辞用紙 | C18: =仕様書!C18 -> 外寸：縦210㎜×横470㎜、A4インクジェットプリンター対応 【参考品：JOINTEX 334-60と同等品又は同等品以上】 | D18: =仕様書!D18 -> 10 | E18: =仕様書!E18 -> パック
A19: =仕様書!A19 -> 13 | B19: =仕様書!B19 -> ワンタッチ傘 耐風骨 | C19: =仕様書!C19 -> 全長：99㎝、傘直径：約1380㎜ 【参考品：JOINTEX 147-248と同等品又は同等品以上】 | D19: =仕様書!D19 -> 20 | E19: =仕様書!E19 -> 本
A20: =仕様書!A20 -> 14 | B20: =仕様書!B20 -> 折りたたみ傘 | C20: =仕様書!C20 -> 全長：伸長時55㎝、伸縮時：23㎝ 、傘直径：1000㎜、色：ブラック 【参考品：JOINTEX 221-834と同等品又は同等品以上】 | D20: =仕様書!D20 -> 10 | E20: =仕様書!E20 -> 本
A21: =仕様書!A21 -> 15 | B21: =仕様書!B21 -> 吸水バック | C21: =仕様書!C21 -> 外寸280×380mm、64g 【参考品：JOINTEX 856-199と同等品又は同等品以上】 | D21: =仕様書!D21 -> 20 | E21: =仕様書!E21 -> 枚
A22: =仕様書!A22 -> 16 | B22: =仕様書!B22 -> 軍手 | C22: =仕様書!C22 -> 全長約230mm 【参考品：JOINTEX 864-354と同等品又は同等品以上】 | D22: =仕様書!D22 -> 1 | E22: =仕様書!E22 -> パック
A23: =仕様書!A23 -> 17 | B23: =仕様書!B23 -> ポリウレタンオールコート手袋 | C23: =仕様書!C23 -> 全長約270mm、Mサイズ 【参考品：JOINTEX 723-259と同等品又は同等品以上】 | D23: =仕様書!D23 -> 5 | E23: =仕様書!E23 -> 双
A24: =仕様書!A24 -> 18 | B24: =仕様書!B24 -> ポリウレタンオールコート手袋 | C24: =仕様書!C24 -> 全長約270mm、Lサイズ 【参考品：JOINTEX 723-260と同等品又は同等品以上】 | D24: =仕様書!D24 -> 5 | E24: =仕様書!E24 -> 双
... A43: =仕様書!A43 -> 37 | B43: =仕様書!B43 -> ラミネーター | C43: =仕様書!C43 -> 外寸（幅×奥×高）：522×179×128mm 【参考品：キスパ 2005-3352と同等品又は同等品以上】 | D43: =仕様書!D43 -> 1 | E43: =仕様書!E43 -> 台
A44: =仕様書!A44 -> 38 | B44: =仕様書!B44 -> 緑茶 | C44: =仕様書!C44 -> 1袋100g、3袋入り 【参考品：JOINTEX 160-463と同等品又は同等品以上】 | D44: =仕様書!D44 -> 2 | E44: =仕様書!E44 -> セット | H44: 消費税8％
A45: =仕様書!A45 -> 39 | B45: =仕様書!B45 -> 電子レンジ | C45: =仕様書!C45 -> サイズ：幅456×奥行352×高さ280㎜ 【参考品：エコール 1302-0728と同等品又は同等品以上】 | D45: =仕様書!D45 -> 1 | E45: =仕様書!E45 -> 台
A46: =仕様書!A46 -> 40 | B46: =仕様書!B46 -> LEDトレース台 | C46: =仕様書!C46 -> 調光式A3型、サイズ：幅473×奥行349×高さ8㎜ 【参考品：JOINTEX 123-205と同等品又は同等品以上】 | D46: =仕様書!D46 -> 1 | E46: =仕様書!E46 -> 台
A47: =仕様書!A47 -> 41 | B47: =仕様書!B47 -> 電源タップ | C47: =仕様書!C47 -> サイズ：幅49×奥行31×高さ195㎜、4個口 【参考品：JOINTEX 225-037と同等品又は同等品以上】 | D47: =仕様書!D47 -> 1 | E47: =仕様書!E47 -> 個
A48: =仕様書!A48 -> 42 | B48: =仕様書!B48 -> フラットファイル | C48: =仕様書!C48 -> サイズ：B4-S、収容枚数：150枚 【参考品：コクヨ 品番フ-V14Bと同等品又は同等品以上） | D48: =仕様書!D48 -> 20 | E48: =仕様書!E48 -> 冊
A49: =仕様書!A49 -> 43 | B49: =仕様書!B49 -> ラベルシール | C49: =仕様書!C49 -> 光沢白、A4全面ノーカット、10枚入 【参考品：JOINTEX 384-127と同等品又は同等以上】 | D49: =仕様書!D49 -> 10 | E49: =仕様書!E49 -> 冊
A50: =仕様書!A50 -> 44 | B50: =仕様書!B50 -> ラベルシール | C50: =仕様書!C50 -> 白ツヤ消、A4全面ノーカット、10枚入 【参考品：JOINTEX 821-753と同等品又は同等以上】 | D50: =仕様書!D50 -> 4 | E50: =仕様書!E50 -> 冊
A51: =仕様書!A51 -> 45 | B51: =仕様書!B51 -> 保存容器（米びつ） | C51: =仕様書!C51 -> 寸法：W185×D260×H130mm、3㎏用 【参考品：パール金属 品番H-5541と同等品又は同等以上】 | D51: =仕様書!D51 -> 2 | E51: =仕様書!E51 -> 個
A52: =仕様書!A52 -> 46 | B52: =仕様書!B52 -> 除湿剤 | C52: =仕様書!C52 -> 内容量：140g、1袋10個入り 【参考品：アズワン 品番B-20と同等品又は同等以上】 | D52: =仕様書!D52 -> 1 | E52: =仕様書!E52 -> 袋
A53: =仕様書!A53 -> 47 | B53: =仕様書!B53 -> 除湿剤（シートタイプ） | C53: =仕様書!C53 -> 50×72cm 、1枚入 【参考品：テクナード シリカクリン激取りMAX大判シートと同等品又は同等以上】 | D53: =仕様書!D53 -> 2 | E53: =仕様書!E53 -> 枚
A54: =仕様書!A54 -> 48 | B54: =仕様書!B54 -> ゴミ袋 | C54: =仕様書!C54 -> ボックスタイプ、透明、45L、1箱100枚入 【参考品：JOINTEX 354-167と同等品又は同等以上】 | D54: =仕様書!D54 -> 2 | E54: =仕様書!E54 -> 箱
A55: =仕様書!A55 -> 49 | B55: =仕様書!B55 -> 紙コップ | C55: =仕様書!C55 -> 1パック50個入、間伐材使用 【参考品：JOINTEX 384-948と同等品又は同等以上】 | D55: =仕様書!D55 -> 10 | E55: =仕様書!E55 -> パック
A56: =仕様書!A56 -> 50 | B56: =仕様書!B56 -> 収納ケース | C56: =仕様書!C56 -> 容量：7L 【参考品：JEJアステージ JANコード4945296013678と同等品又は同等品以上】 | D56: =仕様書!D56 -> 2 | E56: =仕様書!E56 -> 個
... A70: =仕様書!A70 -> 64 | B70: =仕様書!B70 -> デスクライト | C70: =仕様書!C70 -> LED使用、サイズ：約W100×H400×D420mm、電源：ACアダプター、明るさ：750ルーメン 【参考品：GENTOS DK-R270WHと同等品又は同等品以上】 | D70: =仕様書!D70 -> 10 | E70: =仕様書!E70 -> 個
A71: 小計
A72: 消費税及び地方消費税の額（8%）
A73: 消費税及び地方消費税の額（10%）
A74: 合計

Sheet 契約内訳書
A1: 別冊
A2: 契 約 内 訳 書
A4: =仕様書!A4 -> 物件名 事務用品・生活雑貨・家電機器類
A6: 整理 番号 | B6: 品 名 | C6: 品 質 規 格 | D6: 数量 | E6: 単位 | F6: 単 価 | G6: 価 格
A7: =仕様書!A7 -> 1 | B7: =仕様書!B7 -> データバインダー | C7: =仕様書!C7 -> サイズ：T11×Y15、収容枚数：約350枚 【参考品：コクヨ 5102-8114と同等品又は同等品以上】 | D7: =仕様書!D7 -> 200 | E7: =仕様書!E7 -> 冊 | G7: =D7*F7 -> 0
A8: =仕様書!A8 -> 2 | B8: =仕様書!B8 -> データバインダー | C8: =仕様書!C8 -> サイズ：T11×Y15、収容枚数：約280枚 【参考品：コクヨ 5184-7203と同等品又は同等品以上】 | D8: =仕様書!D8 -> 120 | E8: =仕様書!E8 -> 冊 | G8: =D8*F8 -> 0
A9: =仕様書!A9 -> 3 | B9: =仕様書!B9 -> チューブファイル | C9: =仕様書!C9 -> サイズ：B4ヨコ、収容枚数：約300枚 【参考品：コクヨ 5113-9711と同等品又は同等品以上】 | D9: =仕様書!D9 -> 60 | E9: =仕様書!E9 -> 枚 | G9: =D9*F9 -> 0
A10: =仕様書!A10 -> 4 | B10: =仕様書!B10 -> ＯＡタップ（平型） | C10: =仕様書!C10 -> コンセント口数：３、定格：125V/15A/1500W、PSE(電気用品安全法)：適合 【参考品：JOINTEX 262-293と同等品又は同等品以上】 | D10: =仕様書!D10 -> 2 | E10: =仕様書!E10 -> 個 | G10: =D10*F10 -> 0
A11: =仕様書!A11 -> 5 | B11: =仕様書!B11 -> 車載用タブレットホルダー | C11: =仕様書!C11 -> 7～11インチのタブレットに対応、ホルダーを真空ゲル吸盤で固定 【参考品：サンワサプライ CAR-HLD13BKと同等品又は同等以上】 | D11: =仕様書!D11 -> 4 | E11: =仕様書!E11 -> 個 | G11: =D11*F11 -> 0
A12: =仕様書!A12 -> 6 | B12: =仕様書!B12 -> 緑茶（カートカン） | C12: =仕様書!C12 -> 内容量：195g 【参考品：JANコード 4902471103791と同等品又は同等以上】 | D12: =仕様書!D12 -> 90 | E12: =仕様書!E12 -> 本 | G12: =D12*F12 -> 0
A13: =仕様書!A13 -> 7 | B13: =仕様書!B13 -> 丸盆 | C13: =仕様書!C13 -> 直径約30cm、木製、漆塗り 【参考品：漆器の伊助 福梅盆 溜 木製 漆塗り トレーと同等品又は同等品以上】 | D13: =仕様書!D13 -> 2 | E13: =仕様書!E13 -> 枚 | G13: =D13*F13 -> 0
A14: =仕様書!A14 -> 8 | B14: =仕様書!B14 -> 丸盆 | C14: =仕様書!C14 -> 直径約24cm、木製 【参考品：漆器 山田平安堂 丸盆 白檀（小）と同等品又は同等品以上】 | D14: =仕様書!D14 -> 2 | E14: =仕様書!E14 -> 枚 | G14: =D14*F14 -> 0
A15: =仕様書!A15 -> 9 | B15: =仕様書!B15 -> 電気ポット | C15: =仕様書!C15 -> 容量5.0L 【参考品：象印 CD-SE50と同等品又は同等品以上】 | D15: =仕様書!D15 -> 1 | E15: =仕様書!E15 -> 台 | G15: =D15*F15 -> 0
A16: =仕様書!A16 -> 10 | B16: =仕様書!B16 -> ポリ手提げ袋 | C16: =仕様書!C16 -> サイズ：巾400×高さ450×マチ200ミリ、20枚セット 【参考品：マツシロ ハッポーバック ブルーと同等品又は同等品以上】 | D16: =仕様書!D16 -> 1 | E16: =仕様書!E16 -> セット | G16: =D16*F16 -> 0
A17: =仕様書!A17 -> 11 | B17: =仕様書!B17 -> レジ袋 | C17: =仕様書!C17 -> サイズ：縦600㎜×横350㎜、マチ幅150㎜、厚さ0.03㎜、乳白色、100枚入 【参考品：JOINTEX 708-129と同等品又は同等品以上】 | D17: =仕様書!D17 -> 3 | E17: =仕様書!E17 -> パック | G17: =D17*F17 -> 0
A18: =仕様書!A18 -> 12 | B18: =仕様書!B18 -> 式辞用紙 | C18: =仕様書!C18 -> 外寸：縦210㎜×横470㎜、A4インクジェットプリンター対応 【参考品：JOINTEX 334-60と同等品又は同等品以上】 | D18: =仕様書!D18 -> 10 | E18: =仕様書!E18 -> パック | G18: =D18*F18 -> 0
... A70: =仕様書!A70 -> 64 | B70: =仕様書!B70 -> デスクライト | C70: =仕様書!C70 -> LED使用、サイズ：約W100×H400×D420mm、電源：ACアダプター、明るさ：750ルーメン 【参考品：GENTOS DK-R270WHと同等品又は同等品以上】 | D70: =仕様書!D70 -> 10 | E70: =仕様書!E70 -> 個 | G70: =D70*F70 -> 0
A71: 小計 | G71: =SUM(G7:G70) -> 0
A72: 消費税及び地方消費税の額（8%）
A73: 消費税及び地方消費税の額（10%） | G73: =INT(G71*10%) -> 0
A74: 合計 | G74: =SUM(G71:G73) -> 0
