Workbook

Sheet 様式1
B3: 令和6年11月版 | K3: 様式１
I5: 令和○○年○○月○○日
C7: 分任支出負担行為担当官
D8: ○○森林管理署長（所長）殿
H10: 住所 | I10: 〒○○○－○○○○
I11: ○○県○○市○○町○○番
H12: 商号又は 名称
H14: 代表者 氏名
E17: 技術提案書の提出について
B19: 令和○年○月○日付けで公告のありました ○○事業（○○山△△林小班外１○○作業外１） の受注を希望したいので、下記の技術提案書を提出いたします。 なお、予算決算及び会計令（昭和２２年勅令第１６５号）第７０条の規定に該当する者でないこと及び技術提案書の内容については、事実と相違ないことを誓約します。
H21: 記
B22: １ | D22: 事業計画に係る技術提案 | H22: ・・・・・・ | I22: （様式１）
D23: ・ | E23: 添付書類の省略一覧(様式10～11) | H23: ・・・・・・ | I23: （様式１付表）
D24: ① | E24: 事業計画上の考慮事項 | H24: ・・・・・・ | I24: （様式２）
D25: ② | E25: 事業計画の工程管理 | H25: ・・・・・・ | I25: （様式３）
D26: ③ | E26: 発注者が指定した課題への対応 | H26: ・・・・・・ | I26: （様式４）
D27: ④ | E27: 作業方法等による品質確保 | H27: ・・・・・・ | I27: （様式５） | J27: 「簡易型」は省略
D28: ⑤ | E28: 安全確保に向けた対策 | H28: ・・・・・・ | I28: （様式６）
D29: ⑥ | E29: 効率化の工夫（一貫作業） | H29: ・・・・・・ | I29: （様式７） 一貫作業に適用
D30: ⑦ | E30: 効率化の工夫（複数年事業） | H30: ・・・・・・ | I30: （様式８） 複数年事業に適用
B31: ２ | D31: 企業の事業実績等 | H31: ・・・・・・ | I31: （様式９）
D32: ・ | E32: 過去２年間の事業成績評定点 | H32: ・・・・・・ | I32: （様式９付表1・2）
B33: ３ | D33: 配置予定作業員等の能力 | H33: ・・・・・・ | I33: （様式10）
B34: ４ | D34: 地域への貢献 | H34: ・・・・・・ | I34: （様式11）
B35: ５ | D35: 企業の信頼性
D36: ① | E36: 作業員の雇用形態等 | H36: ・・・・・・ | I36: （様式12） | J36: （証明書等の添付書類不要）
D37: ② | E37: 安全対策等 | H37: ・・・・・・ | I37: （様式13）
B38: ６ | D38: 上記１の参考図書若しくは２から５（５①は不要）の内容を証明するための書面
B39: ７ | D39: 問合せ先
E40: 担当者名： | F40: ○○○○
E41: 部署： | F41: ○○(株)○○部○○課
E42: 電話番号： | F42: （代）○○－○○○－○○○○
E43: メールアドレス： | F43: ○○○○○○＠△△.△△.△△

Sheet 様式１付表
B2: =様式1!$B$3 -> 令和6年11月版 | F2: 様式１付表
B4: 添付書類の省略一覧（様式９～10）
B6: 様式 | C6: 項目 | D6: 添付書類 | E6: 提出確認 | F6: （省略する場合）
B7: 様式９ | C7: ①同種事業の実績 | D7: 事業評定通知書 又は 契約書等(写) | E7: 提出／省略 | F7: 【記載例】 ○○事業(○○山○○作業)（令和○年○月○日公告）の申請時に提出済み。（内容に異同なし）
C8: ②事業成績評定点 | D8: 全ての事業評 定通知書(写) | E8: 提出／省略 有／無
C9: ③事業に関する表彰実績 | D9: 証明資料等(写) | E9: 提出／省略 有／無 | F9: 【記載例】 ○○事業(○○山○○作業)（令和○年○月○日公告）の申請時に提出済み。（内容に異同なし）
C10: ④立木販売 購入の有無 | D10: 契約書等(写) | E10: 提出／省略 有／無
C11: ⑤本店・支店又は営業所の所在の有無 | D11: 添付資料なし
C12: ⑥低入札の有無 | D12: 調査対象の事業成績評定通知書(写) | E12: 提出／省略 有／無
B13: 様式１０ | C13: ⑦配置予定 技術者の実務経験 | D13: 事業成績評定通知書等(写) | E13: 提出／省略
C14: ⑧配置予定 技術者の保有資格 (現場代理人) | D14: 資格等の(写) ・ 従事履歴の証 | E14: 提出／省略
C15: ⑨配置予定 作業員 (従事予定作業員) の研修等 | D15: 研修修了証 ・ 認定証 (写) | E15: 提出／省略
B16: (備考)１ | C16: 提出済とする添付書類は、以下の全ての項目を満たした場合のみであること。 ① 当該年度内に同一署（所）へ提出した書類であること ② 今回の申請内容と異同がないこと ③ 競争参加資格が有りとした入札に係る書類であること
B17: ２ | C17: 上記添付書類の提出を省略する場合は、「省略」を選択の上、当該資料を提出した入札の情報を記載すること。 なお、当該年度において初参加の入札の場合は、「提出」を選択の上、添付書類を提出すること。
B18: ３ | C18: 上記項目の①②⑦については、造林事業と素材生産事業で必要となる書類が異なることに留意すること。
B19: ４ | C19: 様式１～８、１１～１３は省略の対象外

Sheet 様式2
B3: =様式1!$B$3 -> 令和6年11月版 | I3: 様式２
C5: 事業計画上の考慮事項 (「簡易型」は記載・添付不要）
C7: ○○事業（○○山△△林小班外1○○作業外１）
G9: 会社名：
C11: □ | D11: 標記の技術提案については以下のとおり提案します。 なお、認められない場合には、標準案に基づき実施します。
C12: □ | D12: 標記の技術提案については以下のとおり提案します。 なお、認められない場合には、入札参加を希望しません。
C13: □ | D13: 標記については、標準案に基づき実施します。
C14: ❈ | D14: いずれかに■またはレ点を記入すること。
C16: ◆ 提案事項 | G16: 事業の手順等の工夫等
C18: 項目 | G18: 具体的な実施方法
D43: （注１） | E43: 参考図書を添付する場合は、別に２枚程度とする。
C44: 注） | D44: 提案事項の履行状況の確認方法について、実行管理基準・作業仕様書等に定める以外の方法を提案する場合は具体的な方法を記入する。

Sheet 様式3
B3: =様式1!$B$3 -> 令和6年11月版 | AN3: 様式３
E4: 事業期間の設定・工程管理 | AF4: （「簡易型」は記載・添付不要）
G5: =様式2!C7 -> ○○事業（○○山△△林小班外1○○作業外１）
D7: 工 程 表 （ 年 度 分）
E9: 履行期間 | M9: 年 | P9: 月 | S9: 日 | AE9: 会社名： | AF9: =様式2!H9 -> 0
B11: 工程 | C11: 単位 | D11: 数量 | E11: 月 | H11: 月 | K11: 月 | N11: 月 | Q11: 月 | T11: 月 | W11: 月 | Z11: 月 | AC11: 月 | AF11: 月 | AI11: 月 | AL11: 月 | AO11: 備考
E12: 上 | F12: 中 | G12: 下 | H12: 上 | I12: 中 | J12: 下 | K12: 上 | L12: 中 | M12: 下 | N12: 上 | O12: 中 | P12: 下 | Q12: 上 | R12: 中 | S12: 下 | T12: 上 | U12: 中 | V12: 下 | W12: 上 | X12: 中 | Y12: 下 | Z12: 上 | AA12: 中 | AB12: 下 | AC12: 上 | AD12: 中 | AE12: 下 | AF12: 上 | AG12: 中 | AH12: 下 | AI12: 上 | AJ12: 中 | AK12: 下 | AL12: 上 | AM12: 中 | AN12: 下
B23: ■ 工程管理に係わる技術的所見
B26: 注１． | C26: 技術提案をする場合は、必ず「工程管理に係わる技術的所見」欄に提案事項を記載すること。
B27: 注２． | C27: 提案事項の履行状況の確認方法について、実行管理基準・作業仕様書等に定める以外の方法を提案する場合は具体的な方法を記載すること。
B28: 注３． | C28: 複数年度にわたる事業の場合は、各年度毎に別葉で作成すること。
B29: 注４． | C29: 複数年度にわたる事業の場合は、初年度及び２年度目にあっては毎年度１回以上の部分払（部分検査）を計画し、その時期を明示すること。また、最終年度（完成年度）は完成払（完了検査）の時期を明示すること。
B30: 注５． | C30: 複数年度にわたる事業においては、年度毎の間伐等予定区域、路網整備予定線及び植付が判読できる図面を添付すること。

Sheet 様式4
B3: =様式1!$B$3 -> 令和6年11月版 | I3: 様式４
C5: 発注者が指定した課題への対応（「簡易型」は記載・添付不要）
C7: =様式2!C7 -> ○○事業（○○山△△林小班外1○○作業外１）
G9: 会社名： | H9: =様式2!H9 -> 0
C11: □ | D11: 標記の技術提案については以下のとおり提案します。 なお、認められない場合には、標準案に基づき実施します。
C12: □ | D12: 標記の技術提案については以下のとおり提案します。 なお、認められない場合には、入札参加を希望しません。
C13: □ | D13: 標記については、標準案に基づき実施します。
C14: ❈ | D14: いずれかに■またはレ点を記入すること。
C16: ◆ 指定課題
C18: 項目 | G18: 具体的な実施方法
D43: （注１） | E43: 参考図書を添付する場合は、別に２枚程度とする。
C44: 注） | D44: 提案事項の履行状況の確認方法について、実行管理基準・作業仕様書等に定める以外の方法を提案する場合は具体的な方法を記入する。

Sheet 様式5
B3: =様式1!$B$3 -> 令和6年11月版 | I3: 様式５
C5: 作業における品質確保 （「簡易型」は記載・添付不要）
C7: =様式2!C7 -> ○○事業（○○山△△林小班外1○○作業外１）
G9: 会社名： | H9: =様式2!H9 -> 0
C11: □ | D11: 標記の技術提案については以下のとおり提案します。 なお、認められない場合には、標準案に基づき実施します。
C12: □ | D12: 標記の技術提案については以下のとおり提案します。 なお、認められない場合には、入札参加を希望しません。
C13: □ | D13: 標記については、標準案に基づき実施します。
C14: ❈ | D14: いずれかに■またはレ点を記入すること。
C16: ◆ 提案事項 | G16: 品質を確保するための作業方法等の工夫等
C18: 項目 | G18: 具体的な実施方法
D43: （注１） | E43: 参考図書を添付する場合は、別に２枚程度とする。
C44: 注） | D44: 提案事項の履行状況の確認方法について、実行管理基準・作業仕様書等に定める以外の方法を提案する場合は具体的な方法を記入する。

Sheet 様式6
B3: =様式1!$B$3 -> 令和6年11月版 | I3: 様式６
C5: 安全確保に向けた対策 （「簡易型」は記載・添付不要）
C7: =様式2!C7 -> ○○事業（○○山△△林小班外1○○作業外１）
G9: 会社名： | H9: =様式2!H9 -> 0
C11: □ | D11: 標記の技術提案については以下のとおり提案します。 なお、認められない場合には、標準案に基づき実施します。
C12: □ | D12: 標記の技術提案については以下のとおり提案します。 なお、認められない場合には、入札参加を希望しません。
C13: □ | D13: 標記については、標準案に基づき実施します。
C14: ❈ | D14: いずれかに■またはレ点を記入すること。
C16: ◆ 提案事項 | G16: 作業時の安全確保に向けた対策等
C18: 項目 | G18: 具体的な実施方法
D43: （注１） | E43: 参考図書を添付する場合は、別に２枚程度とする。
C44: 注） | D44: 提案事項の履行状況の確認方法について、実行管理基準・作業仕様書等に定める以外の方法を提案する場合は具体的な方法を記入する。

Sheet 様式7
B3: =様式1!$B$3 -> 令和6年11月版 | I3: 様式７
C5: 効率化の工夫（一貫作業）（「簡易型」は記載・添付不要）
C7: =様式2!C7 -> ○○事業（○○山△△林小班外1○○作業外１）
G9: 会社名： | H9: =様式2!H9 -> 0
C11: □ | D11: 標記の技術提案については以下のとおり提案します。 なお、認められなかった項目については、標準案に基づき実施します。
C12: □ | D12: 標記の技術提案については以下のとおり提案します。 なお、認められない項目があった場合には、入札参加を希望しません。
C13: □ | D13: 標記については、標準案に基づき実施します。
C14: ❈ | D14: いずれかに■またはレ点を記入すること。
C16: ◆ 提案事項 | G16: 造林経費の削減や効率的な作業システム等に関する取組
C18: 項目 | G18: 具体的な実施方法
C19: ① | D19: 集材、枝条整理等の作業に当たって、造林経費の削減のための工夫等 | G19: （一貫作業の場合に記載する）
C20: ② | D20: 林業機械等を活用して造林作業を省力・省略化する作業方法等の工夫等 | G20: （一貫作業の場合に記載する）
C21: ③ | D21: 確実な更新と造林費縮減のため、植栽木の生長促進、下層植生の繁茂抑制等にかかる工夫等 | G21: （一貫作業の場合に記載する）
D23: （注１） | E23: 参考図書を添付する場合は、別に２枚程度とする。
C24: 注） | D24: 提案事項の履行状況の確認方法について、実行管理基準・作業仕様書等に定める以外の方法を提案する場合は具体的な方法を記入する。

Sheet 様式８
B3: =様式1!$B$3 -> 令和6年11月版 | I3: 様式８
C5: 効率化の工夫（複数年事業）（「簡易型」は記載・添付不要）
C7: =様式2!C7 -> ○○事業（○○山△△林小班外1○○作業外１）
G9: 会社名： | H9: =様式2!H9 -> 0
C11: □ | D11: 標記の技術提案については以下のとおり提案します。 なお、認められなかった項目については、標準案に基づき実施します。
C12: □ | D12: 標記の技術提案については以下のとおり提案します。 なお、認められない項目があった場合には、入札参加を希望しません。
C13: □ | D13: 標記については、標準案に基づき実施します。
C14: ❈ | D14: いずれかに■またはレ点を記入すること。
C16: ◆ 提案事項 | G16: 造林経費の削減や効率的な作業システム等に関する取組
C18: 項目 | G18: 具体的な実施方法
C19: ① | D19: 複数年の事業期間を活かした作業員や機械の配置等、効率的な作業システムに関する取組 | G19: （複数年度事業の場合に記載する）
C20: ② | D20: 効率的かつ低コストで耐久性の高い森林作業道の計画・施行及び保全管理への配慮などに関する取組 | G20: （複数年度事業の場合に記載する）
C21: ③ | D21: （植栽を含む一貫作業の場合に限る） 種苗の安定的供給体制の構築に資する年度毎の植栽計画（植栽時期、苗木本数等） | G21: （複数年度事業であって、植栽を含む一貫作業の場合に記載する）
D23: （注１） | E23: 参考図書を添付する場合は、別に２枚程度とする。
C24: 注） | D24: 提案事項の履行状況の確認方法について、実行管理基準・作業仕様書等に定める以外の方法を提案する場合は具体的な方法を記入する。

Sheet 様式9
B3: =様式1!$B$3 -> 令和6年11月版 | O3: 様式９
E5: 企業の事業実績等
E7: =様式2!C7 -> ○○事業（○○山△△林小班外1○○作業外１）
K9: 会社名： | L9: =様式2!H9 -> 0
B11: 項目 | E11: 具体的な項目 | O11: 有無
C13: 同種事業の実績 | F13: ① | G13: 国有林（四国森林管理局管内）における実績の有無 | O13: 有・無
C14: (過去15年間) | H14: 有の場合： | I14: １事例の実績 | K14: 元請負 ・ 下請負
H15: 発注者： | K15: 事業名：
G16: ・ | H16: 記載事項を証明する資料を添付する。
H17: 事業成績評定通知書(下記評定点の資料と兼用で可)又は契約書写し等
F19: ② | G19: 国（四国森林管理局管内の国有林を除く。）又は地方公共団体での実績の有無 | O19: 有・無
H20: 有の場合： | I20: １事例の実績 | K20: 元請負 ・ 下請負
H21: 発注者： | K21: 事業名：
G22: ・ | H22: 記載事項を証明する資料（契約書の写し等）を添付する。
G24: 注１: | H24: ①が有る場合は、②の記載は必要ない。
G25: 注２: | H25: 事業成績評定が65点未満の事業は実績として認めない。
C27: 事業成績評定点 | F27: ○ | G27: 同種事業における事業成績評定点の有無 | O27: 有・無
C28: (過去２年間) | H28: 有の場合： | I28: 全ての事業成績評定通知書の写しを添付する。
I29: (共同事業体の構成員として受注した事業も含む)
G30: 注： | H30: 過去２年間の事業成績評定点のとりまとめを同様式付表１及び付表２に記入し、添付資料漏れがないか確認し提出する。
C32: 事業に関する表彰実績 | F32: ① | G32: 国有林間伐・再造林推進コンクールで林野庁において最優秀賞又は優秀賞を過去10年間に受けたことがある。 | O32: 有・無
K33: 受賞年度： | M33: 年度
F34: ② | G34: 国有林間伐・再造林推進コンクールに優良事例として森林管理局長から過去５年間に推薦を受けたことがある。 | O34: 有・無
K35: 推薦年度： | M35: 年度
F36: ③ | G36: 四国森林管理局主催による技術研究発表会等で、最優秀賞又は優秀賞を過去５年間に受けたことがある（共同発表等により表彰等に事業体名が明記されている場合を含む） | O36: 有・無
K37: 受賞年度： | M37: 年度
F38: ④ | G38: 国（四国森林管理局を除く）の機関、都道府県、市町村から造林又は素材生産事業に関する表彰を過去５年間に受けたことがある。 | O38: 有・無
K39: 受賞年度： | M39: 年度
G40: 有の場合： | I40: 記載事項を証明する資料等の写しを添付する。
C42: 立木販売（支障木を除く）購入の有無（契約日が公告日の属する年度及び当該年度より過去３年間） | F42: ○ | G42: 国有林（四国局管内）における立木販売を購入した実績の有無 | O42: 有・無
H43: 有の場合： | I43: 記載事項を証明する資料（契約書の写し等）を添付する。
C45: 本店、支店又は営業所の所在の有・無 | F45: ○ | G45: 当該事業実施個所の県内又は四国局管内の本店、支店又は営業所の有無 | O45: 有・無
H46: 有の場合： | I46: 本店等の名称
I47: 本店等の所在市町村
G48: 注： | H48: 名称には本店、支店又は営業所を明記する。
C50: 低入札の有無 | F50: ○ | G50: 造林事業又は素材生産事業に係る入札における低入札の調査対象の有無 | O50: 有・無
C51: （前々年度から当該公告日の前日までの間） | H51: 有の場合： | I51: 国有林において低入札の調査対象となった事業の事業成績評定がすべて85点以上の有無
K52: 件 | M52: 点
G53: ・ | H53: 調査対象となった全ての事業成績評定通知書の写しを添付する。
C56: 注） | D56: 「過去○年間」とは、本公告が属する年度の始期から遡って過去○年間のことをいう。
...

Sheet 様式9付表1
B3: =様式1!$B$3 -> 令和6年11月版 | N3: 様式９付表１
B5: 過去２年間の事業成績評定点
B7: =様式2!C7 -> ○○事業（○○山△△林小班外1○○作業外１）
J9: 会社名： | K9: =様式2!H9 -> 0
B11: 件数 | E11: 事業名 | H11: 発注 森林管理署（所）名 | K11: 完了 年度 | L11: 事業成績 評定点 | N11: 低入札価格 調査の該当の有・無
C12: 1
C13: 2
C14: 3
C15: 4
C16: 5
C17: 6
C18: 7
C19: 8
C20: 9
C21: 10
C22: 11
C23: 12
... C31: 20
F32: 合計 | L32: =SUM(L12:L31) -> 0
F33: 平均 | L33: =IF(L32=0,0,AVERAGE(L12:L31)) -> 0
D35: 注１） | E35: 国有林野事業における同種事業で、過去２年間に完成、引き渡し、事業成績評定を受けた全ての事業成績評定結果を記載すること。（本店、支店、営業所の合計とする。該当の無い場合は「該当なし」と記入する。）
D36: 注２） | E36: 低入札については、低入札の有無を上記欄に該当する場合のみ「有」と記入する。
D37: 注３） | E37: 「過去２年間」とは、本公告が属する年度の始期から遡って過去２年間のことをいう。

Sheet 様式9付表2
B3: =様式1!$B$3 -> 令和6年11月版 | N3: 様式９付表２
B5: 過去２年間の事業成績評定点
B7: =様式2!C7 -> ○○事業（○○山△△林小班外1○○作業外１）
J9: 会社名： | K9: =様式2!H9 -> 0
B11: 件数 | E11: 事業名 | H11: 発注 森林管理署（所）名 | K11: 完了 年度 | L11: 事業成績 評定点 | N11: 低入札価格 調査の該当の有・無
C12: 21
C13: 22
C14: 23
C15: 24
C16: 25
C17: 26
C18: 27
C19: 28
C20: 29
C21: 30
C22: 31
C23: 32
... C36: 45
F37: 合計 | L37: =IF(L12="","",SUM(L12:L32)+様式9付表1!L32)
F38: 平均 | L38: =IF(L37="","",AVERAGE(様式9付表1!L12:L31,L12:L32))

Sheet 様式10
B3: =様式1!$B$3 -> 令和6年11月版 | O3: 様式10
E5: 配置予定技術者等の能力
E7: =様式2!C7 -> ○○事業（○○山△△林小班外1○○作業外１）
K9: 会社名： | L9: =様式2!H9 -> 0
B11: 項目 | E11: 具体的な項目 | O11: 有無
C13: 配置予定技術者の実務経験 (過去15年間) （現場代理人） (複数名の記載も可) | F13: ○ | G13: 林野庁（森林管理局、森林管理署(所)を含む）の発注する同種事業の現場代理人として、年１回以上の実務経験の有無 | O13: 有・無
G14: 配置予定技術者の氏名 | K14: 実務経験年数
L15: 年
L16: 年
L17: 年
H19: 注： | I19: 記載事項を証明する書類（事業成績評定通知書の写し等）を添付する。
C21: 配置予定技術者の保有資格 (現場代理人) | F21: ○ | G21: 技術士（森林部門）、林業技士、作業士（林業に関して県知事が認定した資格に限る）又は技術職員（造林又は素材生産において実務10年以上の経験を有する者）の有無 | O21: 有・無
H22: 有の場合： | I22: 技術士、林業技士、作業士の場合は資格等の写し、技術職員の場合は従事履歴を証するものを添付する。
C24: 配置予定技術者（従事予定作業員）の研修等の受講状況 （過去５年間） | F24: ① | G24: 林野庁が主催・実施（委託事業を含む）する森林作業道の企画や作設等の向上にむけた各種研修の受講者の有無、又は緑の雇用関係で現場管理責任者（フォレストリーダー）または統括現場管理責任者（フォレストマネージャー）の研修プログラムの受講生の有無 | O24: 有・無
F27: ② | G27: 地方公共団体が主催・実施する作業道開設に係る研修又は高性能林業機械技術研修の受講者の有無、若しくは緑の雇用関係で林業作業士（フォレストワーカー）の研修プログラムの受講生の有無 | O27: 有・無
F29: ③ | G29: 森林に関する継続教育（CPD）のポイントを取得している者の有無（過去３年間） | O29: 有・無
G30: 注： | H30: 研修の終了証書（写）認定証（写）等を添付する。
C34: 注１： | D34: 「過去○年間」とは、本公告が属する年度の始期から遡って過去○年間のことをいう。
C35: 注２： | D35: 「技術士」とは、技術士法第14条に規定する技術士(森林部門）の登録を受けた者のことをいい、「林業技士」とは、社団法人日本森林技術協会が実施する養成講習会等を終了し、林業技士として登録された者のことをいい、「作業士」とは、林業に関して県知事の認定を受けた者のことをいう。
C36: 注３： | D36: ①の「森林作業道の企画や作設等の向上にむけた各種研修」とは、「低コスト作業路企画者（技術者）養成研修」、「森林作業道作設オペレーター研修」又は「高度架線技能者育成研修」のことをいう。
C37: 注４： | D37: 記載事項を証明する書類の添付がない場合は、評価の対象となりません。
C38: 注５： | D38: 記載事項の証明する書類の上部余白に様式○○又は様式○○の△事項と該当する項目を記入する。

Sheet 様式11
B3: =様式1!$B$3 -> 令和6年11月版 | P3: 様式11
E5: 地域への貢献
E7: =様式2!C7 -> ○○事業（○○山△△林小班外1○○作業外１）
K9: 会社名： | L9: =様式2!H9 -> 0
B11: 項目 | E11: 具体的な項目 | P11: 有無
C13: 災害協定等 （申請時） | F13: ○ | G13: 国、都道府県又は市町村との災害協定の締結の有無 | P13: 有・無
H14: 有の場合： | I14: 協定書等の写しを添付する。
C16: 防災活動に関する表彰 (過去２年間) | F16: ○ | G16: 国、都道府県又は市町村から防災活動に関する表彰の有無 | P16: 有・無
H17: 有の場合： | I17: 記載事項を証明する国又は地方公共団体からの証明や表彰等の写しを添付する。
C19: ボランティア活動の実績 (公告日の属する年度及び当該年度より過去２年間) | F19: ○ | G19: 国有林又は地方公共団体等における防災に資するボランティア活動（災害復旧時の機械・資材・労力の提供、林道のカーブミラー清掃等）の実績がある又は四国森林管理局管内で実施する現地検討会、現場説明、新技術等への協力、貢献の実績の有無 | P19: 有・無
H20: 有の場合： | I20: 記載事項を証明する国又は地方公共団体等からの証明書、要請文等の写しを添付する。
C22: 獣害対策活動の実績 (公告日の属する年度及び当該年度より過去２年間) | F22: ○ | G22: 国有林又は民有林における獣害対策活動にボランティアで貢献した実績の有無 | P22: 有・無
G23: (箱罠等の貸出・見回り・獣害対策イベント等を対象）
G24: ・ | H24: 箱罠等の貸出： | K24: 有 | L24: ・ | M24: 無
G25: ・ | H25: 見回り： | K25: 有 | L25: ・ | M25: 無
G26: ・ | H26: イベント： | K26: 有 | L26: ・ | M26: 無
H27: 上記活動回数： | M27: 回
H28: 場 所：
H29: 参加者： | M29: 名
H30: 期 間： | I30: 自 | K30: 年 月 日
I31: 至 | K31: 年 月 日
H32: 有の場合： | I32: 国、地方公共団体、又はボランティア団体代表者が発行する獣害対策ボランティア活動証明書等の写しを添付する。
C34: 国土緑化活動に対する取組みの実績 | F34: ① | G34: 四国森林管理局管内における分収造林、又は分収育林の現在の契約の有無 | P34: 有・無
G35: 有の場合は次を選択： | K35: 分収造林 | L35: ・ | M35: 分収育林
F37: ② | G37: 国又は地方公共団体等から国土緑化活動に係る表彰等の実績の有無（過去５年間） | P37: 有・無
H38: 有の場合： | I38: 記載事項を証明する契約書又は表彰等の写しを添付する。
C40: 地域の民有林管理への貢献の取組 | F40: ① | G40: 市町村長から森林経営管理法に基づく経営管理実施権の設定の有無 | P40: 有・無
F41: ② | G41: 県知事から森林経営管理法第36条第2項の要件に適合する者としての公表の有無 | P41: 有・無
F42: ③ | G42: 「育成を図る林業経営体」（H30.2.6長官通知）の選定の有無 | P42: 有・無
F43: ④ | G43: 森林法に基づく森林経営計画を自ら作成し、認定の有無（過去５年間） | P43: 有・無
F44: ⑤ | G44: 前年度に民有林における森林整備作業を請け負った実績の有無 | P44: 有・無
H45: 有の場合： | I45: 証明することのできる書類等を添付する。
D48: 注） | E48: 「過去○年間」とは、本公告が属する年度の始期から遡って過去○年間のことをいう。
E49: 記載事項を証明する書類の添付がない場合は、評価の対象となりません。
E50: 記載事項の証明する書類の上部余白に様式○○又は様式○○の△事項と該当する項目を記入する。

Sheet 様式12
B3: =様式1!$B$3 -> 令和6年11月版 | P3: 様式12
B4: 作業員の雇用形態等
C5: =様式2!C7 -> ○○事業（○○山△△林小班外1○○作業外１）
K6: 会社名： | L6: =様式2!H9 -> 0
B8: No | C8: 作業員氏名 | D8: 雇用形態 | H8: 地元雇用 | K8: 月給制 | N8: 労働福祉
D9: 直雇 ・ 下請 別 | E9: 常用 ・ 臨時 別 | F9: 適否 | G9: 備考 | H9: 居住地 | I9: 適否 | J9: 備考 | K9: 賃金制度 | L9: 適否 | M9: 備考 | N9: 退職 手当 制度 | O9: 適否 | P9: 備考
D10: (注2) | E10: (注2) | F10: (注3) | G10: (注4) | H10: (注5) | I10: (注6) | J10: (注4) | K10: (注7) | L10: (注8) | M10: (注9) | N10: (注10) | O10: (注11) | P10: (注9)
B11: 1 | C11: ○○ ○○ | D11: 直雇 | E11: 常用 | F11: 適 | H11: ○○市 | I11: 適 | K11: 月給 | L11: 適 | N11: 林退共 | O11: 適
B12: 2 | C12: ○○ ○○ | D12: 直雇 | E12: 常用 | F12: 適 | H12: ○○町 | I12: 適 | K12: 月給 | L12: 適 | N12: 建退共 | O12: 適
B13: 3 | C13: ○○ ○○ | D13: 直雇 | E13: 常用 | F13: 適 | H13: ○○村 | I13: 適 | K13: 月給 | L13: 適 | N13: 中退共 | O13: 適
B14: 4 | C14: ○○ ○○ | D14: 直雇 | E14: 常用 | F14: 適 | H14: □□市 | I14: － | K14: 日給 | L14: － | N14: その他 | O14: 適
B15: 5 | C15: ○○ ○○ | D15: 直雇 | E15: 臨時 | F15: － | H15: ○○市 | I15: 適 | K15: － | L15: － | N15: － | O15: －
B16: 6 | C16: ○○ ○○ | D16: 下請 | E16: － | F16: － | H16: ○○村 | I16: 適 | K16: － | L16: － | N16: － | O16: －
B17: 7
B18: 8
B19: 9
B20: 10
B21: 11
B22: 12
B23: 13
B24: 14
B25: 15
B26: 16
B27: 17
B28: 18
... B30: 20
C31: ① | F31: ② | G31: ②÷① | I31: ③ | J31: ③÷① | L31: ④ | M31: ④÷② | O31: ⑤ | P31: ⑤÷②
B32: 合計 | C32: =COUNTA(C11:C30) -> 6 | F32: =COUNTIFS(F11:F30,"適") -> 4 | G32: =TEXT(F32,"標準")&"÷"&TEXT($C$32,"標準")&"=" -> 4÷6= | I32: =COUNTIFS(I11:I30,"適") -> 5 | J32: =TEXT(I32,"標準")&"÷"&TEXT($C$32,"標準")&"=" -> 5÷6= | L32: =COUNTIFS(L11:L30,"適") -> 3 | M32: =TEXT(L32,"標準")&"÷"&TEXT($F$32,"標準")&"=" -> 3÷4= | O32: =COUNTIFS(O11:O30,"適") -> 4 | P32: =TEXT(O32,"標準")&"÷"&TEXT($F$32,"標準")&"=" -> 4÷4=
G33: =F32/C32 -> 0.66666667 | J33: =I32/C32 -> 0.83333333 | M33: =L32/F32 -> 0.75 | P33: =O32/F32 -> 1
B35: 注１： | C35: 事業対象箇所に配置される全ての作業員の雇用状況等を記載する。
B36: 注２： | C36: 「直雇・下請別」欄には、直接雇用者又は下請企業等の雇用者の別を記載し、「常用・臨時別」欄には直接雇用者(作業を行う使用者を含む)に限り、常用又は臨時の雇用の別を記載する。なお、事業協同組合については、当該事業協同組合が直接雇用した者を直接雇用者とし、組合員が直接雇用した者については、下請企業等の雇用者として取り扱うこと。
B37: 注３： | C37: 「適否」欄には、直接雇用で、かつ、常用雇用者の場合に「適」と記載し、合計欄に「適」とする作業員数を記載する。
B38: 注４： | C38: 備考欄には、当該作業員について特に記述すべきことがあれば記載する。また、備考欄の合計欄には、「適」とする作業員数を「対象の作業員数」で除した割合（％）を記載する。
B39: 注５： | C39: 「居住地」欄には、作業員が居住している市町村名を記載する。
B40: 注６： | C40: 「適否」欄には、現場従事者(作業員)のうち発注森林管理署(森林管理事務所)管内に居住している者に「適」と記載し、合計欄に「適」とする作業員数を記載する。 ※発注森林管理署等の管内は付表1別添「森林管理署等管轄市町村一覧」による。
B41: 注７： | C41: 「賃金制度」欄には、直接雇用で常用雇用者について、賃金の支払い方法（日給、月給別）を記載する。なお、日給、月給の区分は付表1「賃金制度の区分」による。また、記載する対象者は常用雇用者のみとし、臨時雇用者・下請けの雇用者は除く。
B42: 注８： | C42: 「適否」欄には、月給制の場合のみ「適」と記載し、合計欄に「適」とする作業員数を記載する。
B43: 注９： | C43: 備考欄には、当該作業員について特に記述すべきことがあれば記載し、合計欄に「適」とする作業員数を「直接雇用者(臨時雇用者は除く)の作業員数」で除した割合（％）を記載する。
B44: 注10： | C44: 「退職手当制度」欄には、直接雇用で常用雇用者について、林業退職金共済の被共済者の場合は「林退共」、建設業退職金共済の被共済者の場合は「建退共」、中小企業退職金共済の被共済者の場合は「中退共」と記載し、その他の退職金制度は｢その他」と記載する。
B45: 注11： | C45: 「適否」欄には、直接雇用で林退共等の退職手当制度が適用になる者に「適」と記載し、合計欄に「適」とする数を記載する。
...

Sheet 新様式13
B3: =様式1!$B$3 -> 令和6年11月版 | Q3: 様式13
E5: 安全対策等
E7: ○○事業（○○山△△林小班外1○○作業外１）
K9: 会社名： | L9: 0
B11: 項目 | E11: 具体的な項目 | Q11: 有無
C13: 伐採・造林に関する行動規範の策定・遵守 | F13: ○ | G13: 伐採・造林に関する行動規範の策定又は所属する業界団体等が作成した行動規範等の遵守の有無 | Q13: 有・無
H14: 有の場合： | I14: 証明することのできる書類等を添付する。
C16: 働き方改革の取組 | F16: ① | G16: 労働生産性の向上のため、効率的な作業システム、工程管理の工夫等、生産性向上の目標を持っての取り組みの有無 | Q16: 有・無
F18: ② | G18: 現場従事者の技術向上に向け、技術指導、研修会・講習会の開催・参加、資格取得等、事業者としての支援の実施の有無 (過去３年間) | Q18: 有・無
F20: ③ | G20: 作業の平準化、天候に応じた就業調整等により、現場作業員の休暇日数の確保と休養、健康管理等の取り組みの有無 | Q20: 有・無
H21: 有の場合： | I21: 取組が証明することのできる書類等を添付する。
C23: ワーク・ライフ・バランス等の推進に関する指標 | F23: ① | G23: ・ | H23: 女性活躍推進法に基づく「えるぼし認定企業」「プラチナえるぼし認定企業」の認定等の有無 | Q23: 有・無
G24: ・ | H24: 一般事業主行動計画（計画期間が満了していないものに限る）を策定・届け出しており、かつ、常時雇用者が100人以下の事業主における行動計画の策定の有無 | Q24: 有・無
F26: ② | G26: 次世代育成支援対策推進法に基づく「プラチナくるみん認定企業」「くるみん認定企業」「トライくるみん認定企業」の認定の有無 | Q26: 有・無
F28: ③ | G28: 若者雇用促進法に基づく「ユースエール認定企業」の認定の有無 | Q28: 有・無
F30: ④ | G30: 企業による若手技術者（35歳未満）の確保・育成への取組状況(公告日の属する年度及び当該年度より過去３年間)
G31: ・ | H31: 若手の新規雇用があり公告の日まで雇用が継続しているかの有無 | Q31: 有・無
G32: ・ | H32: インターンシップの受け入れや合同説明会等への出席、若手技術者の確保・育成への取組状況の有無 | Q32: 有・無
H33: 有の場合： | I33: 認定通知書の写し等、認定されていること等がわかる書類、若手技術者の確保・育成への取組が確認できる書類を添付する。但し、①の一般事業主行動計画については当該行動計画の写し、を添付する。
C35: 安全対策 | F35: ① | G35: 造林及び素材生産事業（民有林も含む）において、前年度から当該公告日の前日までの間における死亡災害の発生の有無 | Q35: 有・無
F37: ② | G37: 上記事業(民有林も含む)において、前年度から当該公告日の前日までの間における休業４日以上の労働災害の発生の有無及び発生件数 | Q37: 有・無
I38: 労働災害発生件数 | O38: 件
F39: ③ | G39: 労働安全コンサルタントによる安全診断の有無 | Q39: 有・無
F40: ④ | G40: リスクアセスメントの取組みの有無（過去２年間）
H41: 有の場合： | I41: 安全診断の写し等、取組が証明することのできる書類等を添付する。（③④のみ） | Q41: 有・無
C43: 林業経営体登録の有無 | G43: ｢林業経営体に関する情報の登録・公表について｣(H24.2.28長官通知)に基づく登録の有無 | Q43: 有・無
G44: 注： | H44: 交付された認定通知書等（写）を添付する。
C46: 不誠実な行為の有無（前年度から当該公告日までの間) | F46: ○ | G46: 指名停止の処分または文書による指導・注意をうけたことの有無 | Q46: 有・無
C49: 賃上げの実施を表明した企業等 | F49: ○ | G49: 賃上げの実施を表明した企業等の有無 | Q49: 有・無
G50: 注： | H50: 従業員への賃金引き上げ計画の表明書を添付する。 中小企業等については、表明書とあわせて直近の事業年度の「法人税申告書別表１(写)」を提出すること。
C53: 注） | D53: 「過去○年間」とは、本公告が属する年度の始期から遡って過去○年間のことをいう。
D54: 添付書類の上部余白に様式○○及び様式○○の△事項と該当する項目を記入する。

Sheet チェックリスト
C3: =様式1!$B$3 -> 令和6年11月版
G5: 技術提案書 提出時のチェックリスト（造林・生産用）
D7: ※ | E7: 「過去○年間」とは、本公告が属する年度の始期から遡って過去○年間のことです。
E9: 技術提案書の提出について | O9: 様式１（付表）
E10: 提出年月日は適切ですか。
E11: 問い合わせ先は記入していますか。
C13: 1 | D13: 事業計画に係る技術提案 | O13: 様式２ | V13: （「簡易型」は記載・添付不要）
D14: ① | E14: 事業実行上の考慮事項
E15: 事業名、会社名が記入されていますか。
E16: 提案の □ にチェックを入れていますか。
E17: 事業の手順等の工夫等について、具体的な実施方法等を記入しましたか。
D19: ② | E19: 事業計画の工程管理 | O19: 様式３ | V19: （「簡易型」は記載・添付不要）
E20: 事業名、会社名が記入されていますか。
E21: 入札公告の履行期間と工程表の事業期間は適切ですか。
E22: 工程表の工程別（工種）・月別欄（範囲・数量）は記入していますか。
E23: 工程管理に係わる技術的所見について、具体的な実施方法等を記入しましたか。
E24: 複数年契約事業において年度別実行区域を図示した図面を添付しましたか。
D25: ③ | E25: 発注者が指定した課題への対応 | O25: 様式４ | V25: （「簡易型」は記載・添付不要）
E26: 事業名、会社名が記入されていますか。
E27: 提案の □ にチェックを入れていますか。
E28: 発注者が提示した課題に対する技術的所見について、具体的な実施方法等を記入しましたか。
E29: 課題に対応する技術的所見となっていますか。
D31: ④ | E31: 作業方法等による品質確保 | O31: 様式５ | V31: （「簡易型」は記載・添付不要）
E32: 事業名、会社名が記入されていますか。
E33: 提案の □ にチェックを入れていますか。
E34: 品質を確保する作業方法等の工夫等について、具体的な実施方法等を記入しましたか。
E35: 品質を確保する技術的所見となっていますか。
D37: ⑤ | E37: 安全確保対策 | O37: 様式６ | V37: （「簡易型」は記載・添付不要）
E38: 事業名、会社名が記入されていますか。
E39: 提案の □ にチェックを入れていますか。
E40: 安全確保対策について、具体的な実施方法等を記入しましたか。
D42: ⑥ | E42: 効率化の工夫（一貫作業） | O42: 様式７ | R42: 一貫作業のみ提出 | X42: （「簡易型」は記載・添付不要）
E43: 事業名、会社名が記入されていますか。
E44: 提案の □ にチェックを入れていますか。
E45: それぞれの項目について、具体的な実施方法等を記入しましたか。
D47: ⑦ | E47: 効率化の工夫（複数年事業） | O47: 様式８ | R47: 複数年事業のみ提出 | X47: （「簡易型」は記載・添付不要）
E48: 事業名、会社名が記入されていますか。
E49: 提案の □ にチェックを入れていますか。
E50: それぞれの項目について、具体的な実施方法等を記入しましたか。
E52: 注意： | F52: 上記①～⑦について、同じ内容の実施方法が記入されていませんか。
...
