Workbook
Name \Z: [1]原本!#REF!

Sheet 内訳（様式）
B2: 内 訳 書（入札書添付用）
B3: 項 目 | E3: 金額（円）
B4: ①【日常清掃】 | E4: ①
C5: 毎日清掃 | D5: =[1]作業内訳書!D43 -> 1084
C6: ゴミ・紙回収 | D6: =[1]作業内訳書!C30 -> 19箇所
C7: 茶殻整理 | D7: =[1]作業内訳書!C31 -> 15箇所
C8: 特定屋外喫煙場所 | D8: =[1]作業内訳書!C32 -> 2箇所
B9: ②【日常清掃】・・・週2日～2週に1日清掃 | E9: ②
C10: 週２日清掃 | D10: =[1]作業内訳書!F43 -> 3200
C11: 週１日清掃 | D11: =[1]作業内訳書!J43 -> 738
C12: ２週に１日清掃 | D12: =[1]作業内訳書!L43 -> 498
B13: ③【定期清掃】・・・四半期に１回～年1回 | E13: ③ | F13: =SUM(F14:F21) -> 0
B14: 四半期 に１回 | C14: ワックス掛け(1,125㎡×４回） | D14: =[1]作業内訳書!N43 -> 1125
B16: 半年に 1回 | C16: 大会議室バルコニー（東・西）（156㎡×2回）（九州森林管理局専有部分） | D16: =[1]作業内訳書!P35 -> 155.52
C17: 窓ガラス等（626㎡×2回）（九州森林管理局専有部分） | D17: =[1]作業内訳書!P36 -> 625.64
C18: ドレン清掃（46個×2回）（九州森林管理局専有部分） | D18: 46個×2回
C19: 換気扇清掃（21箇所×2回）（熊本国税局専有部分） | D19: 21箇所×2回
B20: 年1回 | C20: 地下降階段・地下（九州森林管理局専有部分） | D20: 478
C21: 窓ガラス等（網戸、サッシ、レール含む）（熊本国税局専有部分） | D21: 87
B22: ④【臨時清掃】・・・年24回 | E22: ④
B23: 年24回 | C23: =[1]請負金内訳書!B21 -> 室外外回り(臨時清掃：日常清掃時に実施) | D23: 8027
B24: 直接人件費合計（①＋②＋③＋④） | E24: ⑤ | F24: =IF(SUM(F4,F9,F13,F22)>0,SUM(F4,F9,F13,F22),"")
B25: 直接物品費（消耗品支給を除く） | E25: ⑥
B26: 業務管理費 | E26: ⑦
B27: 一般管理費 | E27: ⑧
B28: 合 計（⑤＋⑥＋⑦＋⑧）【入札金額】 | F28: =SUM(F24:F27) -> 0

Sheet 内訳（記載例）
B2: 内 訳 書（入札書添付用）
B3: 項 目 | E3: 金額（円）
B4: ①【日常清掃】 | E4: ① | F4: 1000000
C5: 毎日清掃 | D5: =[1]作業内訳書!D43 -> 1084
C6: ゴミ・紙回収 | D6: =[1]作業内訳書!C30 -> 19箇所
C7: 茶殻整理 | D7: =[1]作業内訳書!C31 -> 15箇所
C8: 特定屋外喫煙場所 | D8: =[1]作業内訳書!C32 -> 2箇所
B9: ②【日常清掃】・・・週2日～2週に1日清掃 | E9: ② | F9: 1000000
C10: 週２日清掃 | D10: =[1]作業内訳書!F43 -> 3200
C11: 週１日清掃 | D11: =[1]作業内訳書!J43 -> 738
C12: ２週に１日清掃 | D12: =[1]作業内訳書!L43 -> 498
B13: ③【定期清掃】・・・四半期に１回～年1回 | E13: ③ | F13: =SUM(F14:F21) -> 700000
B14: 四半期 に１回 | C14: ワックス掛け(1,125㎡×４回） | D14: =[1]作業内訳書!N43 -> 1125 | F14: 100000
B16: 半年に 1回 | C16: 大会議室バルコニー（東・西）（156㎡×2回）（九州森林管理局専有部分） | D16: =[1]作業内訳書!P35 -> 155.52 | F16: 100000
C17: 窓ガラス等（626㎡×2回）（九州森林管理局専有部分） | D17: =[1]作業内訳書!P36 -> 625.64 | F17: 100000
C18: ドレン清掃（46個×2回）（九州森林管理局専有部分） | D18: 46個×2回 | F18: 100000
C19: 換気扇清掃（21箇所×2回）（熊本国税局専有部分） | D19: 21箇所×2回 | F19: 100000
B20: 年1回 | C20: 地下降階段・地下（九州森林管理局専有部分） | D20: 478 | F20: 100000
C21: 窓ガラス等（網戸、サッシ、レール含む）（熊本国税局専有部分） | D21: 87 | F21: 100000
B22: ④【臨時清掃】・・・年24回 | E22: ④ | F22: 100000
B23: 年24回 | C23: =[1]請負金内訳書!B21 -> 室外外回り(臨時清掃：日常清掃時に実施) | D23: 8027
B24: 直接人件費合計（①＋②＋③＋④） | E24: ⑤ | F24: =IF(SUM(F4,F9,F13,F22)>0,SUM(F4,F9,F13,F22),"") -> 2800000
B25: 直接物品費（消耗品支給を除く） | E25: ⑥ | F25: 100000
B26: 業務管理費 | E26: ⑦ | F26: 100000
B27: 一般管理費 | E27: ⑧ | F27: 100000
B28: 合 計（⑤＋⑥＋⑦＋⑧）【入札金額】 | F28: =SUM(F24:F27) -> 3100000
