Workbook

Sheet 局出力①仕様書(兼　購入数内訳表）
A1: 仕 様 書
A2: 1．入札物件 | D2: 電動刈払機
A3: 番号 | B3: 物品名 | C3: 例示品 | E3: 規格・品質等 | F3: 色 | G3: 数量 | H3: 単位 | I3: 納品先及び数量
C4: メーカー名 | D4: 品名・品番 | I4: 福島森林管理署 白河支署 | J4: 会津森林管理署 | K4: 会津森林管理署 南会津支署 | L4: 磐城森林管理署 | M4: 棚倉森林管理署 | N4: 茨城森林管理署 | O4: 日光森林管理署 | P4: 塩那森林管理署 | Q4: 群馬森林管理署 | R4: 利根沼田森林管理署 | S4: 吾妻森林管理署 | T4: 東京神奈川森林管理署 | U4: 下越森林管理署 | V4: 下越森林管理署 村上支署 | W4: 上越森林管理署 | X4: 静岡森林管理署 | Y4: 天竜森林管理署 | Z4: 伊豆森林管理署 | AA4: 埼玉森林管理事務所 | AB4: 千葉森林管理事務所 | AC4: 山梨森林管理事務所 | AE4: 関東森林管理局 東京事務所 | AF4: 赤谷森林ふれあい推進センター | AG4: 高尾ふれあい推進センター | AH4: 森林技術・支援センター | AI4: 小笠原諸島森林生態系保全センター | AJ4: 大井川治山センター | AK4: 小笠原総合事務所国有林課 | AL4: 関東森林管理局 総務課 | AM4: 関東森林管理局 企画調整課 | AN4: 関東森林管理局 経理課
A5: 1 | B5: 電動刈払機 一式 | C5: やまびこ | D5: BSR510U/2G LBP-50-250G(50Vリチウムイオン２Pバッテリー)、LCJQ-560D(急速充電器)付 | E5: 3軸合成値3.8m/s2以下、バッテリー電圧36v以上・容量3.60Ah以上、リチウムイオン電池、モータ出力210w以上、左右非対称Uハンドル、自動ブレーキ機能付、飛散防護カバー付、肩掛けバンド付、2P バッテリー・充電器付 | F5: 0 | G5: 19 | H5: 式 | I5: 2 | J5: 0 | K5: 1 | L5: 2 | M5: 0 | N5: 2 | O5: 1 | P5: 3 | Q5: 1 | R5: 2 | S5: 0 | T5: 2 | U5: 0 | V5: 0 | W5: 0 | X5: 0 | Y5: 0 | Z5: 0 | AA5: 2 | AB5: 1 | AC5: =SUMIFS([1]入力!$N:$N,[1]入力!$E:$E,#REF!,[1]入力!$F:$F,AC$4) -> #VALUE! | AD5: =SUMIFS([1]入力!$N:$N,[1]入力!$E:$E,#REF!,[1]入力!$F:$F,AD$4) -> #VALUE! | AE5: =SUMIFS([1]入力!$N:$N,[1]入力!$E:$E,#REF!,[1]入力!$F:$F,AE$4) -> #VALUE! | AF5: =SUMIFS([1]入力!$N:$N,[1]入力!$E:$E,#REF!,[1]入力!$F:$F,AF$4) -> #VALUE! | AG5: =SUMIFS([1]入力!$N:$N,[1]入力!$E:$E,#REF!,[1]入力!$F:$F,AG$4) -> #VALUE! | AH5: =SUMIFS([1]入力!$N:$N,[1]入力!$E:$E,#REF!,[1]入力!$F:$F,AH$4) -> #VALUE! | AI5: =SUMIFS([1]入力!$N:$N,[1]入力!$E:$E,#REF!,[1]入力!$F:$F,AI$4) -> #VALUE! | AJ5: =SUMIFS([1]入力!$N:$N,[1]入力!$E:$E,#REF!,[1]入力!$F:$F,AJ$4) -> #VALUE! | ... AN5: =SUMIFS([1]入力!$N:$N,[1]入力!$E:$E,#REF!,[1]入力!$F:$F,AN$4) -> #VALUE!
A6: 2 | B6: バッテリー | C6: やまびこ | D6: LBP-50-250G(50Vリチウムイオン２Pバッテリー) | E6: 仕様書№1に該当する純正品 ※１台につき必要な数量を１組とする。（１組=１本） | F6: 0 | G6: 19 | H6: 組 | I6: 2 | J6: 0 | K6: 1 | L6: 2 | M6: 0 | N6: 2 | O6: 1 | P6: 3 | Q6: 1 | R6: 2 | S6: 0 | T6: 2 | U6: 0 | V6: 0 | W6: 0 | X6: 0 | Y6: 0 | Z6: 0 | AA6: 2 | AB6: 1 | AC6: =SUMIFS([1]入力!$N:$N,[1]入力!$E:$E,#REF!,[1]入力!$F:$F,AC$4) -> #VALUE! | AD6: =SUMIFS([1]入力!$N:$N,[1]入力!$E:$E,#REF!,[1]入力!$F:$F,AD$4) -> #VALUE! | AE6: =SUMIFS([1]入力!$N:$N,[1]入力!$E:$E,#REF!,[1]入力!$F:$F,AE$4) -> #VALUE! | AF6: =SUMIFS([1]入力!$N:$N,[1]入力!$E:$E,#REF!,[1]入力!$F:$F,AF$4) -> #VALUE! | AG6: =SUMIFS([1]入力!$N:$N,[1]入力!$E:$E,#REF!,[1]入力!$F:$F,AG$4) -> #VALUE! | AH6: =SUMIFS([1]入力!$N:$N,[1]入力!$E:$E,#REF!,[1]入力!$F:$F,AH$4) -> #VALUE! | AI6: =SUMIFS([1]入力!$N:$N,[1]入力!$E:$E,#REF!,[1]入力!$F:$F,AI$4) -> #VALUE! | AJ6: =SUMIFS([1]入力!$N:$N,[1]入力!$E:$E,#REF!,[1]入力!$F:$F,AJ$4) -> #VALUE! | ... AN6: =SUMIFS([1]入力!$N:$N,[1]入力!$E:$E,#REF!,[1]入力!$F:$F,AN$4) -> #VALUE!
A7: 3 | B7: バッテリー | C7: やまびこ | D7: LBP-50-250G(50Vリチウムイオン２Pバッテリー) | E7: 純正品 | F7: 0 | G7: 59 | H7: 組 | I7: 0 | J7: 0 | K7: 0 | L7: 5 | M7: 4 | N7: 4 | O7: 2 | P7: 6 | Q7: 2 | R7: 15 | S7: 4 | T7: 4 | U7: 4 | V7: 4 | W7: 0 | X7: 0 | Y7: 0 | Z7: 0 | AA7: 4 | AB7: 1 | AC7: =SUMIFS([1]入力!$N:$N,[1]入力!$E:$E,#REF!,[1]入力!$F:$F,AC$4) -> #VALUE! | AD7: =SUMIFS([1]入力!$N:$N,[1]入力!$E:$E,#REF!,[1]入力!$F:$F,AD$4) -> #VALUE! | AE7: =SUMIFS([1]入力!$N:$N,[1]入力!$E:$E,#REF!,[1]入力!$F:$F,AE$4) -> #VALUE! | AF7: =SUMIFS([1]入力!$N:$N,[1]入力!$E:$E,#REF!,[1]入力!$F:$F,AF$4) -> #VALUE! | AG7: =SUMIFS([1]入力!$N:$N,[1]入力!$E:$E,#REF!,[1]入力!$F:$F,AG$4) -> #VALUE! | AH7: =SUMIFS([1]入力!$N:$N,[1]入力!$E:$E,#REF!,[1]入力!$F:$F,AH$4) -> #VALUE! | AI7: =SUMIFS([1]入力!$N:$N,[1]入力!$E:$E,#REF!,[1]入力!$F:$F,AI$4) -> #VALUE! | AJ7: =SUMIFS([1]入力!$N:$N,[1]入力!$E:$E,#REF!,[1]入力!$F:$F,AJ$4) -> #VALUE! | ... AN7: =SUMIFS([1]入力!$N:$N,[1]入力!$E:$E,#REF!,[1]入力!$F:$F,AN$4) -> #VALUE!
A8: 4 | B8: 充電器 | C8: やまびこ | D8: LCJQ-560D | E8: 純正品 | F8: 0 | G8: 16 | H8: 台 | I8: 0 | J8: 0 | K8: 0 | L8: 0 | M8: 0 | N8: 2 | O8: 0 | P8: 3 | Q8: 1 | R8: 7 | S8: 2 | T8: 0 | U8: 0 | V8: 1 | W8: 0 | X8: 0 | Y8: 0 | Z8: 0 | AA8: 0 | AB8: 0 | AC8: =SUMIFS([1]入力!$N:$N,[1]入力!$E:$E,#REF!,[1]入力!$F:$F,AC$4) -> #VALUE! | AD8: =SUMIFS([1]入力!$N:$N,[1]入力!$E:$E,#REF!,[1]入力!$F:$F,AD$4) -> #VALUE! | AE8: =SUMIFS([1]入力!$N:$N,[1]入力!$E:$E,#REF!,[1]入力!$F:$F,AE$4) -> #VALUE! | AF8: =SUMIFS([1]入力!$N:$N,[1]入力!$E:$E,#REF!,[1]入力!$F:$F,AF$4) -> #VALUE! | AG8: =SUMIFS([1]入力!$N:$N,[1]入力!$E:$E,#REF!,[1]入力!$F:$F,AG$4) -> #VALUE! | AH8: =SUMIFS([1]入力!$N:$N,[1]入力!$E:$E,#REF!,[1]入力!$F:$F,AH$4) -> #VALUE! | AI8: =SUMIFS([1]入力!$N:$N,[1]入力!$E:$E,#REF!,[1]入力!$F:$F,AI$4) -> #VALUE! | AJ8: =SUMIFS([1]入力!$N:$N,[1]入力!$E:$E,#REF!,[1]入力!$F:$F,AJ$4) -> #VALUE! | ... AN8: =SUMIFS([1]入力!$N:$N,[1]入力!$E:$E,#REF!,[1]入力!$F:$F,AN$4) -> #VALUE!
A9: 5 | B9: バッテリー | C9: マキタ | D9: BL1860B(18Vリチウムイオンバッテリ) | E9: 純正品 | F9: 0 | G9: 4 | H9: 個 | I9: 0 | J9: 0 | K9: 0 | L9: 2 | M9: 0 | N9: 0 | O9: 0 | P9: 0 | Q9: 0 | R9: 0 | S9: 0 | T9: 0 | U9: 2 | V9: 0 | W9: 0 | X9: 0 | Y9: 0 | Z9: 0 | AA9: 0 | AB9: 0 | AC9: =SUMIFS([1]入力!$N:$N,[1]入力!$E:$E,#REF!,[1]入力!$F:$F,AC$4) -> #VALUE! | AD9: =SUMIFS([1]入力!$N:$N,[1]入力!$E:$E,#REF!,[1]入力!$F:$F,AD$4) -> #VALUE! | AE9: =SUMIFS([1]入力!$N:$N,[1]入力!$E:$E,#REF!,[1]入力!$F:$F,AE$4) -> #VALUE! | AF9: =SUMIFS([1]入力!$N:$N,[1]入力!$E:$E,#REF!,[1]入力!$F:$F,AF$4) -> #VALUE! | AG9: =SUMIFS([1]入力!$N:$N,[1]入力!$E:$E,#REF!,[1]入力!$F:$F,AG$4) -> #VALUE! | AH9: =SUMIFS([1]入力!$N:$N,[1]入力!$E:$E,#REF!,[1]入力!$F:$F,AH$4) -> #VALUE! | AI9: =SUMIFS([1]入力!$N:$N,[1]入力!$E:$E,#REF!,[1]入力!$F:$F,AI$4) -> #VALUE! | AJ9: =SUMIFS([1]入力!$N:$N,[1]入力!$E:$E,#REF!,[1]入力!$F:$F,AJ$4) -> #VALUE! | ... AN9: =SUMIFS([1]入力!$N:$N,[1]入力!$E:$E,#REF!,[1]入力!$F:$F,AN$4) -> #VALUE!
A10: 6 | B10: チェンソー | C10: 共立 | D10: CS43RS/40R95 | E10: 寸法(長さ×幅×高さ)(㎜)：416×225×277、本体乾燥質量(kg)：4.3、排気量(㎤)：42.9、バーサイズ(呼び寸法㎝)：40、バー形状：スブロケットノーズバー、チェンタイプ：95TXL-68E、始動方式：Iスタート、使用燃料：混合燃料[ガソリン：2サイクルオイル]＝50：1、燃料タンク(L)：0.40、オイルタンク(L)：0.27、3軸合成値(ｍ/ s²)：3.3 | F10: 0 | G10: 9 | H10: 台 | I10: 0 | J10: 1 | K10: 0 | L10: 2 | M10: 0 | N10: 2 | O10: 0 | P10: 0 | Q10: 0 | R10: 0 | S10: 0 | T10: 1 | U10: 0 | V10: 0 | W10: 0 | X10: 0 | Y10: 2 | Z10: 1 | AA10: 0 | AB10: 0 | AC10: =SUMIFS([1]入力!$N:$N,[1]入力!$E:$E,#REF!,[1]入力!$F:$F,AC$4) -> #VALUE! | AD10: =SUMIFS([1]入力!$N:$N,[1]入力!$E:$E,#REF!,[1]入力!$F:$F,AD$4) -> #VALUE! | AE10: =SUMIFS([1]入力!$N:$N,[1]入力!$E:$E,#REF!,[1]入力!$F:$F,AE$4) -> #VALUE! | AF10: =SUMIFS([1]入力!$N:$N,[1]入力!$E:$E,#REF!,[1]入力!$F:$F,AF$4) -> #VALUE! | AG10: =SUMIFS([1]入力!$N:$N,[1]入力!$E:$E,#REF!,[1]入力!$F:$F,AG$4) -> #VALUE! | AH10: =SUMIFS([1]入力!$N:$N,[1]入力!$E:$E,#REF!,[1]入力!$F:$F,AH$4) -> #VALUE! | AI10: =SUMIFS([1]入力!$N:$N,[1]入力!$E:$E,#REF!,[1]入力!$F:$F,AI$4) -> #VALUE! | AJ10: =SUMIFS([1]入力!$N:$N,[1]入力!$E:$E,#REF!,[1]入力!$F:$F,AJ$4) -> #VALUE! | ... AN10: =SUMIFS([1]入力!$N:$N,[1]入力!$E:$E,#REF!,[1]入力!$F:$F,AN$4) -> #VALUE!
A11: 合 計 | G11: =SUM(G5:G10) -> 126 | H11: 0 | I11: =SUM(I5:I10) -> 4 | J11: =SUM(J5:J10) -> 1 | K11: =SUM(K5:K10) -> 2 | L11: =SUM(L5:L10) -> 13 | M11: =SUM(M5:M10) -> 4 | N11: =SUM(N5:N10) -> 12 | O11: =SUM(O5:O10) -> 4 | P11: =SUM(P5:P10) -> 15 | ... AN11: =SUM(AN5:AN10) -> #VALUE!
A13: 上記の規格・品質欄の例示品又は例示品と同等の品質・規格を満たす物品
A14: ２．納入
A15: ① | B15: 納入場所は上記のとおりとする。納入先住所一覧表参照。
A16: ② | B16: 納入数は上記のとおりとする。
A18: ３．責任の所在
A19: ① | B19: 物品の納品については、製造者の如何に関わらず、受注者が最終的に責任を負うこと。
A21: ４．その他
A22: ① | B22: ハードウェアについては、過去において出荷及び稼働実績を有し、高い信頼性を備えていること。ソフトウェアについては、最新のファームウェアを掲載していること。
A24: ② | B24: 受注者においては、物品引き渡し後、向こう１年間にわたり迅速かつ誠実に受注者の負担で製品の保守を行うこと。
A25: ③ | B25: 受注者においては、向こう５年間にわたり、アフターサービス・修理・部品提供等を円滑に行い得る体制を確保すること。
A27: ④ | B27: 詳細な事項及び本仕様に定めのない事項については、担当職員と必要に応じて打ち合わせを行うものとする。
