Workbook
Name _ftn1: 被ばく線量換算係数!#REF!
Name _ftn2: '被ばく線量試算表（１～３月）'!#REF!
Name _ftn2: '被ばく線量試算表（10～12月）'!#REF!
Name _ftn2: '被ばく線量試算表（４～６月）'!#REF!
Name _ftn2: '被ばく線量試算表（７～９月）'!#REF!
Name _ftn2: '被ばく線量試算表（集計）'!#REF!
Name _ftn3: '被ばく線量試算表（１～３月）'!#REF!
Name _ftn3: '被ばく線量試算表（10～12月）'!#REF!
Name _ftn3: '被ばく線量試算表（４～６月）'!#REF!
Name _ftn3: '被ばく線量試算表（７～９月）'!#REF!
Name _ftn3: '被ばく線量試算表（集計）'!#REF!
Name _ftnref1: 被ばく線量換算係数!#REF!
Name _ftnref3: '被ばく線量試算表（１～３月）'!#REF!
Name _ftnref3: '被ばく線量試算表（10～12月）'!#REF!
Name _ftnref3: '被ばく線量試算表（４～６月）'!#REF!
Name _ftnref3: '被ばく線量試算表（７～９月）'!#REF!
Name _ftnref3: '被ばく線量試算表（集計）'!#REF!
Name _Hlk205381928: '被ばく線量試算表（１～３月）'!$A$18
Name _Hlk205381928: '被ばく線量試算表（10～12月）'!$A$18
Name _Hlk205381928: '被ばく線量試算表（４～６月）'!$A$18
Name _Hlk205381928: '被ばく線量試算表（７～９月）'!$A$18
Name _Hlk205381928: '被ばく線量試算表（集計）'!$A$18
Name _Hlk205382469: '被ばく線量試算表（１～３月）'!$A$11
Name _Hlk205382469: '被ばく線量試算表（10～12月）'!$A$11
Name _Hlk205382469: '被ばく線量試算表（４～６月）'!$A$11
Name _Hlk205382469: '被ばく線量試算表（７～９月）'!$A$11
Name _Hlk205382469: '被ばく線量試算表（集計）'!$A$11

Sheet 被ばく線量試算表（集計）
A1: 【被ばく線量の試算（集計）】
A2: 始期：１月１日～終期：12月31日
A6: 作業種 | B6: 被ばく線量（mSv）
B7: １～３月 | C7: ４～６月 | D7: ７～９月 | E7: 10～12月 | F7: 年計
A8: 刈払い・伐倒・造材作業 | B8: =IF('被ばく線量試算表（１～３月）'!N8>0,'被ばく線量試算表（１～３月）'!N8,"") | C8: =IF('被ばく線量試算表（４～６月）'!N8>0,'被ばく線量試算表（４～６月）'!N8,"") | D8: =IF('被ばく線量試算表（７～９月）'!N8>0,'被ばく線量試算表（７～９月）'!N8,"") | E8: =IF('被ばく線量試算表（10～12月）'!N8>0,'被ばく線量試算表（10～12月）'!N8,"") | F8: =IF(SUM(B8:E8)>0,SUM(B8:E8),"-") -> -
A9: 刈払い | B9: =IF('被ばく線量試算表（１～３月）'!N9>0,'被ばく線量試算表（１～３月）'!N9,"") -> 0.06748 | C9: =IF('被ばく線量試算表（４～６月）'!N9>0,'被ばく線量試算表（４～６月）'!N9,"") | D9: =IF('被ばく線量試算表（７～９月）'!N9>0,'被ばく線量試算表（７～９月）'!N9,"") | E9: =IF('被ばく線量試算表（10～12月）'!N9>0,'被ばく線量試算表（10～12月）'!N9,"") | F9: =IF(SUM(B9:E9)>0,SUM(B9:E9),"-") -> 0.06748
A10: 伐倒（針葉樹） | B10: =IF('被ばく線量試算表（１～３月）'!N10>0,'被ばく線量試算表（１～３月）'!N10,"") -> 0.09856 | C10: =IF('被ばく線量試算表（４～６月）'!N10>0,'被ばく線量試算表（４～６月）'!N10,"") | D10: =IF('被ばく線量試算表（７～９月）'!N10>0,'被ばく線量試算表（７～９月）'!N10,"") | E10: =IF('被ばく線量試算表（10～12月）'!N10>0,'被ばく線量試算表（10～12月）'!N10,"") -> 0.16864 | F10: =IF(SUM(B10:E10)>0,SUM(B10:E10),"-") -> 0.2672
A11: 伐倒（広葉樹） | B11: =IF('被ばく線量試算表（１～３月）'!N11>0,'被ばく線量試算表（１～３月）'!N11,"") | C11: =IF('被ばく線量試算表（４～６月）'!N11>0,'被ばく線量試算表（４～６月）'!N11,"") | D11: =IF('被ばく線量試算表（７～９月）'!N11>0,'被ばく線量試算表（７～９月）'!N11,"") | E11: =IF('被ばく線量試算表（10～12月）'!N11>0,'被ばく線量試算表（10～12月）'!N11,"") | F11: =IF(SUM(B11:E11)>0,SUM(B11:E11),"-") -> -
A12: 伐倒（林業機械使用） | B12: =IF('被ばく線量試算表（１～３月）'!N12>0,'被ばく線量試算表（１～３月）'!N12,"") -> 0.212656 | C12: =IF('被ばく線量試算表（４～６月）'!N12>0,'被ばく線量試算表（４～６月）'!N12,"") -> 0.146528 | D12: =IF('被ばく線量試算表（７～９月）'!N12>0,'被ばく線量試算表（７～９月）'!N12,"") | E12: =IF('被ばく線量試算表（10～12月）'!N12>0,'被ばく線量試算表（10～12月）'!N12,"") -> 0.118295 | F12: =IF(SUM(B12:E12)>0,SUM(B12:E12),"-") -> 0.477479
A13: 集材 | B13: =IF('被ばく線量試算表（１～３月）'!N13>0,'被ばく線量試算表（１～３月）'!N13,"") | C13: =IF('被ばく線量試算表（４～６月）'!N13>0,'被ばく線量試算表（４～６月）'!N13,"") | D13: =IF('被ばく線量試算表（７～９月）'!N13>0,'被ばく線量試算表（７～９月）'!N13,"") | E13: =IF('被ばく線量試算表（10～12月）'!N13>0,'被ばく線量試算表（10～12月）'!N13,"") -> 0.08624 | F13: =IF(SUM(B13:E13)>0,SUM(B13:E13),"-") -> 0.08624
A14: 集材（林業機械使用） | B14: =IF('被ばく線量試算表（１～３月）'!N14>0,'被ばく線量試算表（１～３月）'!N14,"") -> 0.12956 | C14: =IF('被ばく線量試算表（４～６月）'!N14>0,'被ばく線量試算表（４～６月）'!N14,"") -> 0.073264 | D14: =IF('被ばく線量試算表（７～９月）'!N14>0,'被ばく線量試算表（７～９月）'!N14,"") | E14: =IF('被ばく線量試算表（10～12月）'!N14>0,'被ばく線量試算表（10～12月）'!N14,"") -> 0.0278355 | F14: =IF(SUM(B14:E14)>0,SUM(B14:E14),"-") -> 0.2306595
A15: 造材 | B15: =IF('被ばく線量試算表（１～３月）'!N15>0,'被ばく線量試算表（１～３月）'!N15,"") | C15: =IF('被ばく線量試算表（４～６月）'!N15>0,'被ばく線量試算表（４～６月）'!N15,"") | D15: =IF('被ばく線量試算表（７～９月）'!N15>0,'被ばく線量試算表（７～９月）'!N15,"") | E15: =IF('被ばく線量試算表（10～12月）'!N15>0,'被ばく線量試算表（10～12月）'!N15,"") -> 0.1613888 | F15: =IF(SUM(B15:E15)>0,SUM(B15:E15),"-") -> 0.1613888
A16: 造材（林業機械使用） | B16: =IF('被ばく線量試算表（１～３月）'!N16>0,'被ばく線量試算表（１～３月）'!N16,"") -> 0.12956 | C16: =IF('被ばく線量試算表（４～６月）'!N16>0,'被ばく線量試算表（４～６月）'!N16,"") -> 0.146528 | D16: =IF('被ばく線量試算表（７～９月）'!N16>0,'被ばく線量試算表（７～９月）'!N16,"") | E16: =IF('被ばく線量試算表（10～12月）'!N16>0,'被ばく線量試算表（10～12月）'!N16,"") -> 0.055671 | F16: =IF(SUM(B16:E16)>0,SUM(B16:E16),"-") -> 0.331759
A17: 枝条等集積 | B17: =IF('被ばく線量試算表（１～３月）'!N17>0,'被ばく線量試算表（１～３月）'!N17,"") | C17: =IF('被ばく線量試算表（４～６月）'!N17>0,'被ばく線量試算表（４～６月）'!N17,"") -> 0.06748 | D17: =IF('被ばく線量試算表（７～９月）'!N17>0,'被ばく線量試算表（７～９月）'!N17,"") | E17: =IF('被ばく線量試算表（10～12月）'!N17>0,'被ばく線量試算表（10～12月）'!N17,"") | F17: =IF(SUM(B17:E17)>0,SUM(B17:E17),"-") -> 0.06748
A18: 路網作設・維持補修（林業機械使用） | B18: =IF('被ばく線量試算表（１～３月）'!N18>0,'被ばく線量試算表（１～３月）'!N18,"") | C18: =IF('被ばく線量試算表（４～６月）'!N18>0,'被ばく線量試算表（４～６月）'!N18,"") -> 0.313992 | D18: =IF('被ばく線量試算表（７～９月）'!N18>0,'被ばく線量試算表（７～９月）'!N18,"") | E18: =IF('被ばく線量試算表（10～12月）'!N18>0,'被ばく線量試算表（10～12月）'!N18,"") -> 0.11214 | F18: =IF(SUM(B18:E18)>0,SUM(B18:E18),"-") -> 0.426132
A19: 丸太筋工 | B19: =IF('被ばく線量試算表（１～３月）'!N19>0,'被ばく線量試算表（１～３月）'!N19,"") | C19: =IF('被ばく線量試算表（４～６月）'!N19>0,'被ばく線量試算表（４～６月）'!N19,"") | D19: =IF('被ばく線量試算表（７～９月）'!N19>0,'被ばく線量試算表（７～９月）'!N19,"") | E19: =IF('被ばく線量試算表（10～12月）'!N19>0,'被ばく線量試算表（10～12月）'!N19,"") -> 0.23072 | F19: =IF(SUM(B19:E19)>0,SUM(B19:E19),"-") -> 0.23072
... A23: その他 | B23: =IF('被ばく線量試算表（１～３月）'!N23>0,'被ばく線量試算表（１～３月）'!N23,"") | C23: =IF('被ばく線量試算表（４～６月）'!N23>0,'被ばく線量試算表（４～６月）'!N23,"") | D23: =IF('被ばく線量試算表（７～９月）'!N23>0,'被ばく線量試算表（７～９月）'!N23,"") | E23: =IF('被ばく線量試算表（10～12月）'!N23>0,'被ばく線量試算表（10～12月）'!N23,"") -> 0.11214 | F23: =IF(SUM(B23:E23)>0,SUM(B23:E23),"-") -> 0.11214
A24: 作業日数合計 | B24: ='被ばく線量試算表（１～３月）'!N24 -> 65 | C24: ='被ばく線量試算表（４～６月）'!N24 -> 63 | D24: ='被ばく線量試算表（７～９月）'!N24 -> 60 | E24: ='被ばく線量試算表（10～12月）'!N24 -> 73 | F24: =SUM(B24:E24) -> 261
A25: 被ばく線量合計 | B25: =SUM(B8:B23) -> 0.637816 | C25: =SUM(C8:C23) -> 0.747792 | D25: =SUM(D8:D23) -> 1.57884 | E25: =SUM(E8:E23) -> 1.0730703 | F25: =SUM(F8:F23) -> 4.0375183
A27: （判定基準）
A28: ア 男性又は妊娠する可能性がないと診断された女性：１年間につき実効線量20mSvを超えないこと
A29: イ 女性（妊娠する可能性がないと診断されたもの及びウのものを除く。）：３か月間につき実効線量５mSvを 超えないこと
A30: ウ 妊娠と診断された女性：妊娠中（妊娠と診断されたときから出産までの間）につき内部被ばくによる実効 線量が１mSvを超えないこと（除染等業務の場合に限る。）、腹部表面に受ける等価線量が２mSvを超えない こと

Sheet 被ばく線量試算表（１～３月）
A1: 【被ばく線量の試算】
A2: 始期：１月１日～終期：３月31日
A3: 作業場所 | C3: A地区 | F3: B地区
A4: １日の作業時間（h） | D4: 8 | G4: 8
A5: 作業場所の平均空間線量率（µSv/h） | D5: 3.52 | G5: 2.41
A6: 作業種 | B6: 被ばく線量換算係数 | D6: 作業日数 | E6: 被ばく線量換算係数 | G6: 作業日数 | H6: 被ばく線量換算係数 | J6: 作業日数 | K6: 被ばく線量換算係数 | M6: 作業日数 | N6: 合計
B7: リスト選択 | E7: リスト選択 | H7: リスト選択 | K7: リスト選択
A8: 刈払い・伐倒・造材作業 | C8: {=_xlfn.SWITCH(B8,0,"","標準値",被ばく線量換算係数!$B8,"最小値",被ばく線量換算係数!$C8,"中央値",被ばく線量換算係数!$D8,"最大値",被ばく線量換算係数!$E8)} | F8: {=_xlfn.SWITCH(E8,0,"","標準値",被ばく線量換算係数!$B8,"最小値",被ばく線量換算係数!$C8,"中央値",被ばく線量換算係数!$D8,"最大値",被ばく線量換算係数!$E8)} | I8: {=_xlfn.SWITCH(H8,0,"","標準値",被ばく線量換算係数!$B8,"最小値",被ばく線量換算係数!$C8,"中央値",被ばく線量換算係数!$D8,"最大値",被ばく線量換算係数!$E8)} | L8: {=_xlfn.SWITCH(K8,0,"","標準値",被ばく線量換算係数!$B8,"最小値",被ばく線量換算係数!$C8,"中央値",被ばく線量換算係数!$D8,"最大値",被ばく線量換算係数!$E8)} | N8: =SUM(IFERROR((C8/1000)*$D$5*$D$4*D8,0),IFERROR((F8/1000)*$G$5*$G$4*G8,0),IFERROR((I8/1000)*$J$5*$J$4*J8,0),IFERROR((L8/1000)*$M$5*$M$4*M8,0)) -> 0
A9: 刈払い | C9: {=_xlfn.SWITCH(B9,0,"","標準値",被ばく線量換算係数!$B9,"最小値",被ばく線量換算係数!$C9,"中央値",被ばく線量換算係数!$D9,"最大値",被ばく線量換算係数!$E9)} | E9: 標準値 | F9: {=_xlfn.SWITCH(E9,0,"","標準値",被ばく線量換算係数!$B9,"最小値",被ばく線量換算係数!$C9,"中央値",被ばく線量換算係数!$D9,"最大値",被ばく線量換算係数!$E9)} -> 0.7 | G9: 5 | I9: {=_xlfn.SWITCH(H9,0,"","標準値",被ばく線量換算係数!$B9,"最小値",被ばく線量換算係数!$C9,"中央値",被ばく線量換算係数!$D9,"最大値",被ばく線量換算係数!$E9)} | L9: {=_xlfn.SWITCH(K9,0,"","標準値",被ばく線量換算係数!$B9,"最小値",被ばく線量換算係数!$C9,"中央値",被ばく線量換算係数!$D9,"最大値",被ばく線量換算係数!$E9)} | N9: =SUM(IFERROR((C9/1000)*$D$5*$D$4*D9,0),IFERROR((F9/1000)*$G$5*$G$4*G9,0),IFERROR((I9/1000)*$J$5*$J$4*J9,0),IFERROR((L9/1000)*$M$5*$M$4*M9,0)) -> 0.06748
A10: 伐倒（針葉樹） | B10: 標準値 | C10: {=_xlfn.SWITCH(B10,0,"","標準値",被ばく線量換算係数!$B10,"最小値",被ばく線量換算係数!$C10,"中央値",被ばく線量換算係数!$D10,"最大値",被ばく線量換算係数!$E10)} -> 0.7 | D10: 5 | F10: {=_xlfn.SWITCH(E10,0,"","標準値",被ばく線量換算係数!$B10,"最小値",被ばく線量換算係数!$C10,"中央値",被ばく線量換算係数!$D10,"最大値",被ばく線量換算係数!$E10)} | I10: {=_xlfn.SWITCH(H10,0,"","標準値",被ばく線量換算係数!$B10,"最小値",被ばく線量換算係数!$C10,"中央値",被ばく線量換算係数!$D10,"最大値",被ばく線量換算係数!$E10)} | L10: {=_xlfn.SWITCH(K10,0,"","標準値",被ばく線量換算係数!$B10,"最小値",被ばく線量換算係数!$C10,"中央値",被ばく線量換算係数!$D10,"最大値",被ばく線量換算係数!$E10)} | N10: =SUM(IFERROR((C10/1000)*$D$5*$D$4*D10,0),IFERROR((F10/1000)*$G$5*$G$4*G10,0),IFERROR((I10/1000)*$J$5*$J$4*J10,0),IFERROR((L10/1000)*$M$5*$M$4*M10,0)) -> 0.09856
A11: 伐倒（広葉樹） | C11: {=_xlfn.SWITCH(B11,0,"","標準値",被ばく線量換算係数!$B11,"最小値",被ばく線量換算係数!$C11,"中央値",被ばく線量換算係数!$D11,"最大値",被ばく線量換算係数!$E11)} | F11: {=_xlfn.SWITCH(E11,0,"","標準値",被ばく線量換算係数!$B11,"最小値",被ばく線量換算係数!$C11,"中央値",被ばく線量換算係数!$D11,"最大値",被ばく線量換算係数!$E11)} | I11: {=_xlfn.SWITCH(H11,0,"","標準値",被ばく線量換算係数!$B11,"最小値",被ばく線量換算係数!$C11,"中央値",被ばく線量換算係数!$D11,"最大値",被ばく線量換算係数!$E11)} | L11: {=_xlfn.SWITCH(K11,0,"","標準値",被ばく線量換算係数!$B11,"最小値",被ばく線量換算係数!$C11,"中央値",被ばく線量換算係数!$D11,"最大値",被ばく線量換算係数!$E11)} | N11: =SUM(IFERROR((C11/1000)*$D$5*$D$4*D11,0),IFERROR((F11/1000)*$G$5*$G$4*G11,0),IFERROR((I11/1000)*$J$5*$J$4*J11,0),IFERROR((L11/1000)*$M$5*$M$4*M11,0)) -> 0
A12: 伐倒（林業機械使用） | B12: 中央値 | C12: {=_xlfn.SWITCH(B12,0,"","標準値",被ばく線量換算係数!$B12,"最小値",被ばく線量換算係数!$C12,"中央値",被ばく線量換算係数!$D12,"最大値",被ばく線量換算係数!$E12)} -> 0.33 | D12: 15 | E12: 最大値 | F12: {=_xlfn.SWITCH(E12,0,"","標準値",被ばく線量換算係数!$B12,"最小値",被ばく線量換算係数!$C12,"中央値",被ばく線量換算係数!$D12,"最大値",被ばく線量換算係数!$E12)} -> 0.38 | G12: 10 | I12: {=_xlfn.SWITCH(H12,0,"","標準値",被ばく線量換算係数!$B12,"最小値",被ばく線量換算係数!$C12,"中央値",被ばく線量換算係数!$D12,"最大値",被ばく線量換算係数!$E12)} | L12: {=_xlfn.SWITCH(K12,0,"","標準値",被ばく線量換算係数!$B12,"最小値",被ばく線量換算係数!$C12,"中央値",被ばく線量換算係数!$D12,"最大値",被ばく線量換算係数!$E12)} | N12: =SUM(IFERROR((C12/1000)*$D$5*$D$4*D12,0),IFERROR((F12/1000)*$G$5*$G$4*G12,0),IFERROR((I12/1000)*$J$5*$J$4*J12,0),IFERROR((L12/1000)*$M$5*$M$4*M12,0)) -> 0.212656
A13: 集材 | C13: {=_xlfn.SWITCH(B13,0,"","標準値",被ばく線量換算係数!$B13,"最小値",被ばく線量換算係数!$C13,"中央値",被ばく線量換算係数!$D13,"最大値",被ばく線量換算係数!$E13)} | F13: {=_xlfn.SWITCH(E13,0,"","標準値",被ばく線量換算係数!$B13,"最小値",被ばく線量換算係数!$C13,"中央値",被ばく線量換算係数!$D13,"最大値",被ばく線量換算係数!$E13)} | I13: {=_xlfn.SWITCH(H13,0,"","標準値",被ばく線量換算係数!$B13,"最小値",被ばく線量換算係数!$C13,"中央値",被ばく線量換算係数!$D13,"最大値",被ばく線量換算係数!$E13)} | L13: {=_xlfn.SWITCH(K13,0,"","標準値",被ばく線量換算係数!$B13,"最小値",被ばく線量換算係数!$C13,"中央値",被ばく線量換算係数!$D13,"最大値",被ばく線量換算係数!$E13)} | N13: =SUM(IFERROR((C13/1000)*$D$5*$D$4*D13,0),IFERROR((F13/1000)*$G$5*$G$4*G13,0),IFERROR((I13/1000)*$J$5*$J$4*J13,0),IFERROR((L13/1000)*$M$5*$M$4*M13,0)) -> 0
A14: 集材（林業機械使用） | B14: 中央値 | C14: {=_xlfn.SWITCH(B14,0,"","標準値",被ばく線量換算係数!$B14,"最小値",被ばく線量換算係数!$C14,"中央値",被ばく線量換算係数!$D14,"最大値",被ばく線量換算係数!$E14)} -> 0.33 | D14: 10 | E14: 最大値 | F14: {=_xlfn.SWITCH(E14,0,"","標準値",被ばく線量換算係数!$B14,"最小値",被ばく線量換算係数!$C14,"中央値",被ばく線量換算係数!$D14,"最大値",被ばく線量換算係数!$E14)} -> 0.38 | G14: 5 | I14: {=_xlfn.SWITCH(H14,0,"","標準値",被ばく線量換算係数!$B14,"最小値",被ばく線量換算係数!$C14,"中央値",被ばく線量換算係数!$D14,"最大値",被ばく線量換算係数!$E14)} | L14: {=_xlfn.SWITCH(K14,0,"","標準値",被ばく線量換算係数!$B14,"最小値",被ばく線量換算係数!$C14,"中央値",被ばく線量換算係数!$D14,"最大値",被ばく線量換算係数!$E14)} | N14: =SUM(IFERROR((C14/1000)*$D$5*$D$4*D14,0),IFERROR((F14/1000)*$G$5*$G$4*G14,0),IFERROR((I14/1000)*$J$5*$J$4*J14,0),IFERROR((L14/1000)*$M$5*$M$4*M14,0)) -> 0.12956
A15: 造材 | C15: {=_xlfn.SWITCH(B15,0,"","標準値",被ばく線量換算係数!$B15,"最小値",被ばく線量換算係数!$C15,"中央値",被ばく線量換算係数!$D15,"最大値",被ばく線量換算係数!$E15)} | F15: {=_xlfn.SWITCH(E15,0,"","標準値",被ばく線量換算係数!$B15,"最小値",被ばく線量換算係数!$C15,"中央値",被ばく線量換算係数!$D15,"最大値",被ばく線量換算係数!$E15)} | I15: {=_xlfn.SWITCH(H15,0,"","標準値",被ばく線量換算係数!$B15,"最小値",被ばく線量換算係数!$C15,"中央値",被ばく線量換算係数!$D15,"最大値",被ばく線量換算係数!$E15)} | L15: {=_xlfn.SWITCH(K15,0,"","標準値",被ばく線量換算係数!$B15,"最小値",被ばく線量換算係数!$C15,"中央値",被ばく線量換算係数!$D15,"最大値",被ばく線量換算係数!$E15)} | N15: =SUM(IFERROR((C15/1000)*$D$5*$D$4*D15,0),IFERROR((F15/1000)*$G$5*$G$4*G15,0),IFERROR((I15/1000)*$J$5*$J$4*J15,0),IFERROR((L15/1000)*$M$5*$M$4*M15,0)) -> 0
A16: 造材（林業機械使用） | B16: 中央値 | C16: {=_xlfn.SWITCH(B16,0,"","標準値",被ばく線量換算係数!$B16,"最小値",被ばく線量換算係数!$C16,"中央値",被ばく線量換算係数!$D16,"最大値",被ばく線量換算係数!$E16)} -> 0.33 | D16: 10 | E16: 最大値 | F16: {=_xlfn.SWITCH(E16,0,"","標準値",被ばく線量換算係数!$B16,"最小値",被ばく線量換算係数!$C16,"中央値",被ばく線量換算係数!$D16,"最大値",被ばく線量換算係数!$E16)} -> 0.38 | G16: 5 | I16: {=_xlfn.SWITCH(H16,0,"","標準値",被ばく線量換算係数!$B16,"最小値",被ばく線量換算係数!$C16,"中央値",被ばく線量換算係数!$D16,"最大値",被ばく線量換算係数!$E16)} | L16: {=_xlfn.SWITCH(K16,0,"","標準値",被ばく線量換算係数!$B16,"最小値",被ばく線量換算係数!$C16,"中央値",被ばく線量換算係数!$D16,"最大値",被ばく線量換算係数!$E16)} | N16: =SUM(IFERROR((C16/1000)*$D$5*$D$4*D16,0),IFERROR((F16/1000)*$G$5*$G$4*G16,0),IFERROR((I16/1000)*$J$5*$J$4*J16,0),IFERROR((L16/1000)*$M$5*$M$4*M16,0)) -> 0.12956
A17: 枝条等集積 | C17: {=_xlfn.SWITCH(B17,0,"","標準値",被ばく線量換算係数!$B17,"最小値",被ばく線量換算係数!$C17,"中央値",被ばく線量換算係数!$D17,"最大値",被ばく線量換算係数!$E17)} | F17: {=_xlfn.SWITCH(E17,0,"","標準値",被ばく線量換算係数!$B17,"最小値",被ばく線量換算係数!$C17,"中央値",被ばく線量換算係数!$D17,"最大値",被ばく線量換算係数!$E17)} | I17: {=_xlfn.SWITCH(H17,0,"","標準値",被ばく線量換算係数!$B17,"最小値",被ばく線量換算係数!$C17,"中央値",被ばく線量換算係数!$D17,"最大値",被ばく線量換算係数!$E17)} | L17: {=_xlfn.SWITCH(K17,0,"","標準値",被ばく線量換算係数!$B17,"最小値",被ばく線量換算係数!$C17,"中央値",被ばく線量換算係数!$D17,"最大値",被ばく線量換算係数!$E17)} | N17: =SUM(IFERROR((C17/1000)*$D$5*$D$4*D17,0),IFERROR((F17/1000)*$G$5*$G$4*G17,0),IFERROR((I17/1000)*$J$5*$J$4*J17,0),IFERROR((L17/1000)*$M$5*$M$4*M17,0)) -> 0
A18: 路網作設・維持補修（林業機械使用） | C18: {=_xlfn.SWITCH(B18,0,"","標準値",被ばく線量換算係数!$B18,"最小値",被ばく線量換算係数!$C18,"中央値",被ばく線量換算係数!$D18,"最大値",被ばく線量換算係数!$E18)} | F18: {=_xlfn.SWITCH(E18,0,"","標準値",被ばく線量換算係数!$B18,"最小値",被ばく線量換算係数!$C18,"中央値",被ばく線量換算係数!$D18,"最大値",被ばく線量換算係数!$E18)} | I18: {=_xlfn.SWITCH(H18,0,"","標準値",被ばく線量換算係数!$B18,"最小値",被ばく線量換算係数!$C18,"中央値",被ばく線量換算係数!$D18,"最大値",被ばく線量換算係数!$E18)} | L18: {=_xlfn.SWITCH(K18,0,"","標準値",被ばく線量換算係数!$B18,"最小値",被ばく線量換算係数!$C18,"中央値",被ばく線量換算係数!$D18,"最大値",被ばく線量換算係数!$E18)} | N18: =SUM(IFERROR((C18/1000)*$D$5*$D$4*D18,0),IFERROR((F18/1000)*$G$5*$G$4*G18,0),IFERROR((I18/1000)*$J$5*$J$4*J18,0),IFERROR((L18/1000)*$M$5*$M$4*M18,0)) -> 0
A19: 丸太筋工 | C19: {=_xlfn.SWITCH(B19,0,"","標準値",被ばく線量換算係数!$B19,"最小値",被ばく線量換算係数!$C19,"中央値",被ばく線量換算係数!$D19,"最大値",被ばく線量換算係数!$E19)} | F19: {=_xlfn.SWITCH(E19,0,"","標準値",被ばく線量換算係数!$B19,"最小値",被ばく線量換算係数!$C19,"中央値",被ばく線量換算係数!$D19,"最大値",被ばく線量換算係数!$E19)} | I19: {=_xlfn.SWITCH(H19,0,"","標準値",被ばく線量換算係数!$B19,"最小値",被ばく線量換算係数!$C19,"中央値",被ばく線量換算係数!$D19,"最大値",被ばく線量換算係数!$E19)} | L19: {=_xlfn.SWITCH(K19,0,"","標準値",被ばく線量換算係数!$B19,"最小値",被ばく線量換算係数!$C19,"中央値",被ばく線量換算係数!$D19,"最大値",被ばく線量換算係数!$E19)} | N19: =SUM(IFERROR((C19/1000)*$D$5*$D$4*D19,0),IFERROR((F19/1000)*$G$5*$G$4*G19,0),IFERROR((I19/1000)*$J$5*$J$4*J19,0),IFERROR((L19/1000)*$M$5*$M$4*M19,0)) -> 0
A20: 下刈 | C20: {=_xlfn.SWITCH(B20,0,"","標準値",被ばく線量換算係数!$B20,"最小値",被ばく線量換算係数!$C20,"中央値",被ばく線量換算係数!$D20,"最大値",被ばく線量換算係数!$E20)} | F20: {=_xlfn.SWITCH(E20,0,"","標準値",被ばく線量換算係数!$B20,"最小値",被ばく線量換算係数!$C20,"中央値",被ばく線量換算係数!$D20,"最大値",被ばく線量換算係数!$E20)} | I20: {=_xlfn.SWITCH(H20,0,"","標準値",被ばく線量換算係数!$B20,"最小値",被ばく線量換算係数!$C20,"中央値",被ばく線量換算係数!$D20,"最大値",被ばく線量換算係数!$E20)} | L20: {=_xlfn.SWITCH(K20,0,"","標準値",被ばく線量換算係数!$B20,"最小値",被ばく線量換算係数!$C20,"中央値",被ばく線量換算係数!$D20,"最大値",被ばく線量換算係数!$E20)} | N20: =SUM(IFERROR((C20/1000)*$D$5*$D$4*D20,0),IFERROR((F20/1000)*$G$5*$G$4*G20,0),IFERROR((I20/1000)*$J$5*$J$4*J20,0),IFERROR((L20/1000)*$M$5*$M$4*M20,0)) -> 0
A21: 除伐 | C21: {=_xlfn.SWITCH(B21,0,"","標準値",被ばく線量換算係数!$B21,"最小値",被ばく線量換算係数!$C21,"中央値",被ばく線量換算係数!$D21,"最大値",被ばく線量換算係数!$E21)} | F21: {=_xlfn.SWITCH(E21,0,"","標準値",被ばく線量換算係数!$B21,"最小値",被ばく線量換算係数!$C21,"中央値",被ばく線量換算係数!$D21,"最大値",被ばく線量換算係数!$E21)} | I21: {=_xlfn.SWITCH(H21,0,"","標準値",被ばく線量換算係数!$B21,"最小値",被ばく線量換算係数!$C21,"中央値",被ばく線量換算係数!$D21,"最大値",被ばく線量換算係数!$E21)} | L21: {=_xlfn.SWITCH(K21,0,"","標準値",被ばく線量換算係数!$B21,"最小値",被ばく線量換算係数!$C21,"中央値",被ばく線量換算係数!$D21,"最大値",被ばく線量換算係数!$E21)} | N21: =SUM(IFERROR((C21/1000)*$D$5*$D$4*D21,0),IFERROR((F21/1000)*$G$5*$G$4*G21,0),IFERROR((I21/1000)*$J$5*$J$4*J21,0),IFERROR((L21/1000)*$M$5*$M$4*M21,0)) -> 0
A22: 調査・巡視 | C22: {=_xlfn.SWITCH(B22,0,"","標準値",被ばく線量換算係数!$B22,"最小値",被ばく線量換算係数!$C22,"中央値",被ばく線量換算係数!$D22,"最大値",被ばく線量換算係数!$E22)} | F22: {=_xlfn.SWITCH(E22,0,"","標準値",被ばく線量換算係数!$B22,"最小値",被ばく線量換算係数!$C22,"中央値",被ばく線量換算係数!$D22,"最大値",被ばく線量換算係数!$E22)} | I22: {=_xlfn.SWITCH(H22,0,"","標準値",被ばく線量換算係数!$B22,"最小値",被ばく線量換算係数!$C22,"中央値",被ばく線量換算係数!$D22,"最大値",被ばく線量換算係数!$E22)} | L22: {=_xlfn.SWITCH(K22,0,"","標準値",被ばく線量換算係数!$B22,"最小値",被ばく線量換算係数!$C22,"中央値",被ばく線量換算係数!$D22,"最大値",被ばく線量換算係数!$E22)} | N22: =SUM(IFERROR((C22/1000)*$D$5*$D$4*D22,0),IFERROR((F22/1000)*$G$5*$G$4*G22,0),IFERROR((I22/1000)*$J$5*$J$4*J22,0),IFERROR((L22/1000)*$M$5*$M$4*M22,0)) -> 0
A23: その他 | C23: {=_xlfn.SWITCH(B23,0,"","標準値",被ばく線量換算係数!$B25)} | F23: {=_xlfn.SWITCH(E23,0,"","標準値",被ばく線量換算係数!$B25)} | I23: {=_xlfn.SWITCH(H23,0,"","標準値",被ばく線量換算係数!$B25)} | L23: {=_xlfn.SWITCH(K23,0,"","標準値",被ばく線量換算係数!$B25)} | N23: =SUM(IFERROR((C23/1000)*$D$5*$D$4*D23,0),IFERROR((F23/1000)*$G$5*$G$4*G23,0),IFERROR((I23/1000)*$J$5*$J$4*J23,0),IFERROR((L23/1000)*$M$5*$M$4*M23,0)) -> 0
A24: 作業日数合計 | D24: =SUM(D8:D23) -> 40 | G24: =SUM(G8:G23) -> 25 | J24: =SUM(J8:J23) -> 0 | M24: =SUM(M8:M23) -> 0 | N24: =SUM(D24:M24) -> 65
A25: ３か月の被ばく線量合計（mSv） | N25: =SUM(N8:N23) -> 0.637816
A27: （使い方）
A28: １ 黄色のセル：「１日の作業時間（h）」、「作業場所の平均空間線量率（µSv/h）」を入力。
A29: ２ 桃色のセル：作業種ごとに、「標準値」、「最小値」、「中央値」、「最大値」を選択。
A30: ※作業種が明確でない場合は「標準値」を選択。作業種が明確な場合は「標準値」以外も選択可能。
A31: ３ 緑色のセル：作業種ごとに「作業日数」を入力。
A32: ４ 作業場所ごとに、１～３の操作を実施。
A33: ※「作業種」列に具体的な名称がない作業種は「その他」とし、桃色のセルで「標準値」を選択するとともに、緑色のセルに作業日数を入力。

Sheet 被ばく線量試算表（４～６月）
A1: 【被ばく線量の試算】
A2: 始期：４月１日～終期：６月30日
A3: 作業場所 | C3: B地区 | F3: C地区
A4: １日の作業時間（h） | D4: 8 | G4: 7
A5: 作業場所の平均空間線量率（µSv/h） | D5: 2.41 | G5: 8.01
A6: 作業種 | B6: 被ばく線量換算係数 | D6: 作業日数 | E6: 被ばく線量換算係数 | G6: 作業日数 | H6: 被ばく線量換算係数 | J6: 作業日数 | K6: 被ばく線量換算係数 | M6: 作業日数 | N6: 合計
B7: リスト選択 | E7: リスト選択 | H7: リスト選択 | K7: リスト選択
A8: 刈払い・伐倒・造材作業 | C8: {=_xlfn.SWITCH(B8,0,"","標準値",被ばく線量換算係数!$B8,"最小値",被ばく線量換算係数!$C8,"中央値",被ばく線量換算係数!$D8,"最大値",被ばく線量換算係数!$E8)} | F8: {=_xlfn.SWITCH(E8,0,"","標準値",被ばく線量換算係数!$B8,"最小値",被ばく線量換算係数!$C8,"中央値",被ばく線量換算係数!$D8,"最大値",被ばく線量換算係数!$E8)} | I8: {=_xlfn.SWITCH(H8,0,"","標準値",被ばく線量換算係数!$B8,"最小値",被ばく線量換算係数!$C8,"中央値",被ばく線量換算係数!$D8,"最大値",被ばく線量換算係数!$E8)} | L8: {=_xlfn.SWITCH(K8,0,"","標準値",被ばく線量換算係数!$B8,"最小値",被ばく線量換算係数!$C8,"中央値",被ばく線量換算係数!$D8,"最大値",被ばく線量換算係数!$E8)} | N8: =SUM(IFERROR((C8/1000)*$D$5*$D$4*D8,0),IFERROR((F8/1000)*$G$5*$G$4*G8,0),IFERROR((I8/1000)*$J$5*$J$4*J8,0),IFERROR((L8/1000)*$M$5*$M$4*M8,0)) -> 0
A9: 刈払い | C9: {=_xlfn.SWITCH(B9,0,"","標準値",被ばく線量換算係数!$B9,"最小値",被ばく線量換算係数!$C9,"中央値",被ばく線量換算係数!$D9,"最大値",被ばく線量換算係数!$E9)} | F9: {=_xlfn.SWITCH(E9,0,"","標準値",被ばく線量換算係数!$B9,"最小値",被ばく線量換算係数!$C9,"中央値",被ばく線量換算係数!$D9,"最大値",被ばく線量換算係数!$E9)} | I9: {=_xlfn.SWITCH(H9,0,"","標準値",被ばく線量換算係数!$B9,"最小値",被ばく線量換算係数!$C9,"中央値",被ばく線量換算係数!$D9,"最大値",被ばく線量換算係数!$E9)} | L9: {=_xlfn.SWITCH(K9,0,"","標準値",被ばく線量換算係数!$B9,"最小値",被ばく線量換算係数!$C9,"中央値",被ばく線量換算係数!$D9,"最大値",被ばく線量換算係数!$E9)} | N9: =SUM(IFERROR((C9/1000)*$D$5*$D$4*D9,0),IFERROR((F9/1000)*$G$5*$G$4*G9,0),IFERROR((I9/1000)*$J$5*$J$4*J9,0),IFERROR((L9/1000)*$M$5*$M$4*M9,0)) -> 0
A10: 伐倒（針葉樹） | C10: {=_xlfn.SWITCH(B10,0,"","標準値",被ばく線量換算係数!$B10,"最小値",被ばく線量換算係数!$C10,"中央値",被ばく線量換算係数!$D10,"最大値",被ばく線量換算係数!$E10)} | F10: {=_xlfn.SWITCH(E10,0,"","標準値",被ばく線量換算係数!$B10,"最小値",被ばく線量換算係数!$C10,"中央値",被ばく線量換算係数!$D10,"最大値",被ばく線量換算係数!$E10)} | I10: {=_xlfn.SWITCH(H10,0,"","標準値",被ばく線量換算係数!$B10,"最小値",被ばく線量換算係数!$C10,"中央値",被ばく線量換算係数!$D10,"最大値",被ばく線量換算係数!$E10)} | L10: {=_xlfn.SWITCH(K10,0,"","標準値",被ばく線量換算係数!$B10,"最小値",被ばく線量換算係数!$C10,"中央値",被ばく線量換算係数!$D10,"最大値",被ばく線量換算係数!$E10)} | N10: =SUM(IFERROR((C10/1000)*$D$5*$D$4*D10,0),IFERROR((F10/1000)*$G$5*$G$4*G10,0),IFERROR((I10/1000)*$J$5*$J$4*J10,0),IFERROR((L10/1000)*$M$5*$M$4*M10,0)) -> 0
A11: 伐倒（広葉樹） | C11: {=_xlfn.SWITCH(B11,0,"","標準値",被ばく線量換算係数!$B11,"最小値",被ばく線量換算係数!$C11,"中央値",被ばく線量換算係数!$D11,"最大値",被ばく線量換算係数!$E11)} | F11: {=_xlfn.SWITCH(E11,0,"","標準値",被ばく線量換算係数!$B11,"最小値",被ばく線量換算係数!$C11,"中央値",被ばく線量換算係数!$D11,"最大値",被ばく線量換算係数!$E11)} | I11: {=_xlfn.SWITCH(H11,0,"","標準値",被ばく線量換算係数!$B11,"最小値",被ばく線量換算係数!$C11,"中央値",被ばく線量換算係数!$D11,"最大値",被ばく線量換算係数!$E11)} | L11: {=_xlfn.SWITCH(K11,0,"","標準値",被ばく線量換算係数!$B11,"最小値",被ばく線量換算係数!$C11,"中央値",被ばく線量換算係数!$D11,"最大値",被ばく線量換算係数!$E11)} | N11: =SUM(IFERROR((C11/1000)*$D$5*$D$4*D11,0),IFERROR((F11/1000)*$G$5*$G$4*G11,0),IFERROR((I11/1000)*$J$5*$J$4*J11,0),IFERROR((L11/1000)*$M$5*$M$4*M11,0)) -> 0
A12: 伐倒（林業機械使用） | B12: 最大値 | C12: {=_xlfn.SWITCH(B12,0,"","標準値",被ばく線量換算係数!$B12,"最小値",被ばく線量換算係数!$C12,"中央値",被ばく線量換算係数!$D12,"最大値",被ばく線量換算係数!$E12)} -> 0.38 | D12: 20 | F12: {=_xlfn.SWITCH(E12,0,"","標準値",被ばく線量換算係数!$B12,"最小値",被ばく線量換算係数!$C12,"中央値",被ばく線量換算係数!$D12,"最大値",被ばく線量換算係数!$E12)} | I12: {=_xlfn.SWITCH(H12,0,"","標準値",被ばく線量換算係数!$B12,"最小値",被ばく線量換算係数!$C12,"中央値",被ばく線量換算係数!$D12,"最大値",被ばく線量換算係数!$E12)} | L12: {=_xlfn.SWITCH(K12,0,"","標準値",被ばく線量換算係数!$B12,"最小値",被ばく線量換算係数!$C12,"中央値",被ばく線量換算係数!$D12,"最大値",被ばく線量換算係数!$E12)} | N12: =SUM(IFERROR((C12/1000)*$D$5*$D$4*D12,0),IFERROR((F12/1000)*$G$5*$G$4*G12,0),IFERROR((I12/1000)*$J$5*$J$4*J12,0),IFERROR((L12/1000)*$M$5*$M$4*M12,0)) -> 0.146528
A13: 集材 | C13: {=_xlfn.SWITCH(B13,0,"","標準値",被ばく線量換算係数!$B13,"最小値",被ばく線量換算係数!$C13,"中央値",被ばく線量換算係数!$D13,"最大値",被ばく線量換算係数!$E13)} | F13: {=_xlfn.SWITCH(E13,0,"","標準値",被ばく線量換算係数!$B13,"最小値",被ばく線量換算係数!$C13,"中央値",被ばく線量換算係数!$D13,"最大値",被ばく線量換算係数!$E13)} | I13: {=_xlfn.SWITCH(H13,0,"","標準値",被ばく線量換算係数!$B13,"最小値",被ばく線量換算係数!$C13,"中央値",被ばく線量換算係数!$D13,"最大値",被ばく線量換算係数!$E13)} | L13: {=_xlfn.SWITCH(K13,0,"","標準値",被ばく線量換算係数!$B13,"最小値",被ばく線量換算係数!$C13,"中央値",被ばく線量換算係数!$D13,"最大値",被ばく線量換算係数!$E13)} | N13: =SUM(IFERROR((C13/1000)*$D$5*$D$4*D13,0),IFERROR((F13/1000)*$G$5*$G$4*G13,0),IFERROR((I13/1000)*$J$5*$J$4*J13,0),IFERROR((L13/1000)*$M$5*$M$4*M13,0)) -> 0
A14: 集材（林業機械使用） | B14: 最大値 | C14: {=_xlfn.SWITCH(B14,0,"","標準値",被ばく線量換算係数!$B14,"最小値",被ばく線量換算係数!$C14,"中央値",被ばく線量換算係数!$D14,"最大値",被ばく線量換算係数!$E14)} -> 0.38 | D14: 10 | F14: {=_xlfn.SWITCH(E14,0,"","標準値",被ばく線量換算係数!$B14,"最小値",被ばく線量換算係数!$C14,"中央値",被ばく線量換算係数!$D14,"最大値",被ばく線量換算係数!$E14)} | I14: {=_xlfn.SWITCH(H14,0,"","標準値",被ばく線量換算係数!$B14,"最小値",被ばく線量換算係数!$C14,"中央値",被ばく線量換算係数!$D14,"最大値",被ばく線量換算係数!$E14)} | L14: {=_xlfn.SWITCH(K14,0,"","標準値",被ばく線量換算係数!$B14,"最小値",被ばく線量換算係数!$C14,"中央値",被ばく線量換算係数!$D14,"最大値",被ばく線量換算係数!$E14)} | N14: =SUM(IFERROR((C14/1000)*$D$5*$D$4*D14,0),IFERROR((F14/1000)*$G$5*$G$4*G14,0),IFERROR((I14/1000)*$J$5*$J$4*J14,0),IFERROR((L14/1000)*$M$5*$M$4*M14,0)) -> 0.073264
A15: 造材 | C15: {=_xlfn.SWITCH(B15,0,"","標準値",被ばく線量換算係数!$B15,"最小値",被ばく線量換算係数!$C15,"中央値",被ばく線量換算係数!$D15,"最大値",被ばく線量換算係数!$E15)} | F15: {=_xlfn.SWITCH(E15,0,"","標準値",被ばく線量換算係数!$B15,"最小値",被ばく線量換算係数!$C15,"中央値",被ばく線量換算係数!$D15,"最大値",被ばく線量換算係数!$E15)} | I15: {=_xlfn.SWITCH(H15,0,"","標準値",被ばく線量換算係数!$B15,"最小値",被ばく線量換算係数!$C15,"中央値",被ばく線量換算係数!$D15,"最大値",被ばく線量換算係数!$E15)} | L15: {=_xlfn.SWITCH(K15,0,"","標準値",被ばく線量換算係数!$B15,"最小値",被ばく線量換算係数!$C15,"中央値",被ばく線量換算係数!$D15,"最大値",被ばく線量換算係数!$E15)} | N15: =SUM(IFERROR((C15/1000)*$D$5*$D$4*D15,0),IFERROR((F15/1000)*$G$5*$G$4*G15,0),IFERROR((I15/1000)*$J$5*$J$4*J15,0),IFERROR((L15/1000)*$M$5*$M$4*M15,0)) -> 0
A16: 造材（林業機械使用） | B16: 最大値 | C16: {=_xlfn.SWITCH(B16,0,"","標準値",被ばく線量換算係数!$B16,"最小値",被ばく線量換算係数!$C16,"中央値",被ばく線量換算係数!$D16,"最大値",被ばく線量換算係数!$E16)} -> 0.38 | D16: 20 | F16: {=_xlfn.SWITCH(E16,0,"","標準値",被ばく線量換算係数!$B16,"最小値",被ばく線量換算係数!$C16,"中央値",被ばく線量換算係数!$D16,"最大値",被ばく線量換算係数!$E16)} | I16: {=_xlfn.SWITCH(H16,0,"","標準値",被ばく線量換算係数!$B16,"最小値",被ばく線量換算係数!$C16,"中央値",被ばく線量換算係数!$D16,"最大値",被ばく線量換算係数!$E16)} | L16: {=_xlfn.SWITCH(K16,0,"","標準値",被ばく線量換算係数!$B16,"最小値",被ばく線量換算係数!$C16,"中央値",被ばく線量換算係数!$D16,"最大値",被ばく線量換算係数!$E16)} | N16: =SUM(IFERROR((C16/1000)*$D$5*$D$4*D16,0),IFERROR((F16/1000)*$G$5*$G$4*G16,0),IFERROR((I16/1000)*$J$5*$J$4*J16,0),IFERROR((L16/1000)*$M$5*$M$4*M16,0)) -> 0.146528
A17: 枝条等集積 | B17: 標準値 | C17: {=_xlfn.SWITCH(B17,0,"","標準値",被ばく線量換算係数!$B17,"最小値",被ばく線量換算係数!$C17,"中央値",被ばく線量換算係数!$D17,"最大値",被ばく線量換算係数!$E17)} -> 0.7 | D17: 5 | F17: {=_xlfn.SWITCH(E17,0,"","標準値",被ばく線量換算係数!$B17,"最小値",被ばく線量換算係数!$C17,"中央値",被ばく線量換算係数!$D17,"最大値",被ばく線量換算係数!$E17)} | I17: {=_xlfn.SWITCH(H17,0,"","標準値",被ばく線量換算係数!$B17,"最小値",被ばく線量換算係数!$C17,"中央値",被ばく線量換算係数!$D17,"最大値",被ばく線量換算係数!$E17)} | L17: {=_xlfn.SWITCH(K17,0,"","標準値",被ばく線量換算係数!$B17,"最小値",被ばく線量換算係数!$C17,"中央値",被ばく線量換算係数!$D17,"最大値",被ばく線量換算係数!$E17)} | N17: =SUM(IFERROR((C17/1000)*$D$5*$D$4*D17,0),IFERROR((F17/1000)*$G$5*$G$4*G17,0),IFERROR((I17/1000)*$J$5*$J$4*J17,0),IFERROR((L17/1000)*$M$5*$M$4*M17,0)) -> 0.06748
A18: 路網作設・維持補修（林業機械使用） | C18: {=_xlfn.SWITCH(B18,0,"","標準値",被ばく線量換算係数!$B18,"最小値",被ばく線量換算係数!$C18,"中央値",被ばく線量換算係数!$D18,"最大値",被ばく線量換算係数!$E18)} | E18: 標準値 | F18: {=_xlfn.SWITCH(E18,0,"","標準値",被ばく線量換算係数!$B18,"最小値",被ばく線量換算係数!$C18,"中央値",被ばく線量換算係数!$D18,"最大値",被ばく線量換算係数!$E18)} -> 0.7 | G18: 8 | I18: {=_xlfn.SWITCH(H18,0,"","標準値",被ばく線量換算係数!$B18,"最小値",被ばく線量換算係数!$C18,"中央値",被ばく線量換算係数!$D18,"最大値",被ばく線量換算係数!$E18)} | L18: {=_xlfn.SWITCH(K18,0,"","標準値",被ばく線量換算係数!$B18,"最小値",被ばく線量換算係数!$C18,"中央値",被ばく線量換算係数!$D18,"最大値",被ばく線量換算係数!$E18)} | N18: =SUM(IFERROR((C18/1000)*$D$5*$D$4*D18,0),IFERROR((F18/1000)*$G$5*$G$4*G18,0),IFERROR((I18/1000)*$J$5*$J$4*J18,0),IFERROR((L18/1000)*$M$5*$M$4*M18,0)) -> 0.313992
A19: 丸太筋工 | C19: {=_xlfn.SWITCH(B19,0,"","標準値",被ばく線量換算係数!$B19,"最小値",被ばく線量換算係数!$C19,"中央値",被ばく線量換算係数!$D19,"最大値",被ばく線量換算係数!$E19)} | F19: {=_xlfn.SWITCH(E19,0,"","標準値",被ばく線量換算係数!$B19,"最小値",被ばく線量換算係数!$C19,"中央値",被ばく線量換算係数!$D19,"最大値",被ばく線量換算係数!$E19)} | I19: {=_xlfn.SWITCH(H19,0,"","標準値",被ばく線量換算係数!$B19,"最小値",被ばく線量換算係数!$C19,"中央値",被ばく線量換算係数!$D19,"最大値",被ばく線量換算係数!$E19)} | L19: {=_xlfn.SWITCH(K19,0,"","標準値",被ばく線量換算係数!$B19,"最小値",被ばく線量換算係数!$C19,"中央値",被ばく線量換算係数!$D19,"最大値",被ばく線量換算係数!$E19)} | N19: =SUM(IFERROR((C19/1000)*$D$5*$D$4*D19,0),IFERROR((F19/1000)*$G$5*$G$4*G19,0),IFERROR((I19/1000)*$J$5*$J$4*J19,0),IFERROR((L19/1000)*$M$5*$M$4*M19,0)) -> 0
A20: 下刈 | C20: {=_xlfn.SWITCH(B20,0,"","標準値",被ばく線量換算係数!$B20,"最小値",被ばく線量換算係数!$C20,"中央値",被ばく線量換算係数!$D20,"最大値",被ばく線量換算係数!$E20)} | F20: {=_xlfn.SWITCH(E20,0,"","標準値",被ばく線量換算係数!$B20,"最小値",被ばく線量換算係数!$C20,"中央値",被ばく線量換算係数!$D20,"最大値",被ばく線量換算係数!$E20)} | I20: {=_xlfn.SWITCH(H20,0,"","標準値",被ばく線量換算係数!$B20,"最小値",被ばく線量換算係数!$C20,"中央値",被ばく線量換算係数!$D20,"最大値",被ばく線量換算係数!$E20)} | L20: {=_xlfn.SWITCH(K20,0,"","標準値",被ばく線量換算係数!$B20,"最小値",被ばく線量換算係数!$C20,"中央値",被ばく線量換算係数!$D20,"最大値",被ばく線量換算係数!$E20)} | N20: =SUM(IFERROR((C20/1000)*$D$5*$D$4*D20,0),IFERROR((F20/1000)*$G$5*$G$4*G20,0),IFERROR((I20/1000)*$J$5*$J$4*J20,0),IFERROR((L20/1000)*$M$5*$M$4*M20,0)) -> 0
A21: 除伐 | C21: {=_xlfn.SWITCH(B21,0,"","標準値",被ばく線量換算係数!$B21,"最小値",被ばく線量換算係数!$C21,"中央値",被ばく線量換算係数!$D21,"最大値",被ばく線量換算係数!$E21)} | F21: {=_xlfn.SWITCH(E21,0,"","標準値",被ばく線量換算係数!$B21,"最小値",被ばく線量換算係数!$C21,"中央値",被ばく線量換算係数!$D21,"最大値",被ばく線量換算係数!$E21)} | I21: {=_xlfn.SWITCH(H21,0,"","標準値",被ばく線量換算係数!$B21,"最小値",被ばく線量換算係数!$C21,"中央値",被ばく線量換算係数!$D21,"最大値",被ばく線量換算係数!$E21)} | L21: {=_xlfn.SWITCH(K21,0,"","標準値",被ばく線量換算係数!$B21,"最小値",被ばく線量換算係数!$C21,"中央値",被ばく線量換算係数!$D21,"最大値",被ばく線量換算係数!$E21)} | N21: =SUM(IFERROR((C21/1000)*$D$5*$D$4*D21,0),IFERROR((F21/1000)*$G$5*$G$4*G21,0),IFERROR((I21/1000)*$J$5*$J$4*J21,0),IFERROR((L21/1000)*$M$5*$M$4*M21,0)) -> 0
A22: 調査・巡視 | C22: {=_xlfn.SWITCH(B22,0,"","標準値",被ばく線量換算係数!$B22,"最小値",被ばく線量換算係数!$C22,"中央値",被ばく線量換算係数!$D22,"最大値",被ばく線量換算係数!$E22)} | F22: {=_xlfn.SWITCH(E22,0,"","標準値",被ばく線量換算係数!$B22,"最小値",被ばく線量換算係数!$C22,"中央値",被ばく線量換算係数!$D22,"最大値",被ばく線量換算係数!$E22)} | I22: {=_xlfn.SWITCH(H22,0,"","標準値",被ばく線量換算係数!$B22,"最小値",被ばく線量換算係数!$C22,"中央値",被ばく線量換算係数!$D22,"最大値",被ばく線量換算係数!$E22)} | L22: {=_xlfn.SWITCH(K22,0,"","標準値",被ばく線量換算係数!$B22,"最小値",被ばく線量換算係数!$C22,"中央値",被ばく線量換算係数!$D22,"最大値",被ばく線量換算係数!$E22)} | N22: =SUM(IFERROR((C22/1000)*$D$5*$D$4*D22,0),IFERROR((F22/1000)*$G$5*$G$4*G22,0),IFERROR((I22/1000)*$J$5*$J$4*J22,0),IFERROR((L22/1000)*$M$5*$M$4*M22,0)) -> 0
A23: その他 | C23: {=_xlfn.SWITCH(B23,0,"","標準値",被ばく線量換算係数!$B25)} | F23: {=_xlfn.SWITCH(E23,0,"","標準値",被ばく線量換算係数!$B25)} | I23: {=_xlfn.SWITCH(H23,0,"","標準値",被ばく線量換算係数!$B25)} | L23: {=_xlfn.SWITCH(K23,0,"","標準値",被ばく線量換算係数!$B25)} | N23: =SUM(IFERROR((C23/1000)*$D$5*$D$4*D23,0),IFERROR((F23/1000)*$G$5*$G$4*G23,0),IFERROR((I23/1000)*$J$5*$J$4*J23,0),IFERROR((L23/1000)*$M$5*$M$4*M23,0)) -> 0
A24: 作業日数合計 | D24: =SUM(D8:D22) -> 55 | G24: =SUM(G8:G22) -> 8 | J24: =SUM(J8:J22) -> 0 | M24: =SUM(M8:M22) -> 0 | N24: =SUM(D24:M24) -> 63
A25: ３か月の被ばく線量合計（mSv） | N25: =SUM(N8:N23) -> 0.747792
A27: （使い方）
A28: １ 黄色のセル：「１日の作業時間（h）」、「作業場所の平均空間線量率（µSv/h）」を入力。
A29: ２ 桃色のセル：作業種ごとに、「標準値」、「最小値」、「中央値」、「最大値」を選択。
A30: ※作業種が明確でない場合は「標準値」を選択。作業種が明確な場合は「標準値」以外も選択可能。
A31: ３ 緑色のセル：作業種ごとに「作業日数」を入力。
A32: ４ 作業場所ごとに、１～３の操作を実施。
A33: ※「作業種」列に具体的な名称がない作業種は「その他」とし、桃色のセルで「標準値」を選択するとともに、緑色のセルに作業日数を入力。

Sheet 被ばく線量試算表（７～９月）
A1: 【被ばく線量の試算】
A2: 始期：７月１日～終期：９月30日
A3: 作業場所 | C3: C地区 | F3: D地区 | I3: E地区 | L3: F地区
A4: １日の作業時間（h） | D4: 8 | G4: 8 | J4: 7 | M4: 4
A5: 作業場所の平均空間線量率（µSv/h） | D5: 8.01 | G5: 4.12 | J5: 3.52 | M5: 8.01
A6: 作業種 | B6: 被ばく線量換算係数 | D6: 作業日数 | E6: 被ばく線量換算係数 | G6: 作業日数 | H6: 被ばく線量換算係数 | J6: 作業日数 | K6: 被ばく線量換算係数 | M6: 作業日数 | N6: 合計
B7: リスト選択 | E7: リスト選択 | H7: リスト選択 | K7: リスト選択
A8: 刈払い・伐倒・造材作業 | C8: {=_xlfn.SWITCH(B8,0,"","標準値",被ばく線量換算係数!$B8,"最小値",被ばく線量換算係数!$C8,"中央値",被ばく線量換算係数!$D8,"最大値",被ばく線量換算係数!$E8)} | F8: {=_xlfn.SWITCH(E8,0,"","標準値",被ばく線量換算係数!$B8,"最小値",被ばく線量換算係数!$C8,"中央値",被ばく線量換算係数!$D8,"最大値",被ばく線量換算係数!$E8)} | I8: {=_xlfn.SWITCH(H8,0,"","標準値",被ばく線量換算係数!$B8,"最小値",被ばく線量換算係数!$C8,"中央値",被ばく線量換算係数!$D8,"最大値",被ばく線量換算係数!$E8)} | L8: {=_xlfn.SWITCH(K8,0,"","標準値",被ばく線量換算係数!$B8,"最小値",被ばく線量換算係数!$C8,"中央値",被ばく線量換算係数!$D8,"最大値",被ばく線量換算係数!$E8)} | N8: =SUM(IFERROR((C8/1000)*$D$5*$D$4*D8,0),IFERROR((F8/1000)*$G$5*$G$4*G8,0),IFERROR((I8/1000)*$J$5*$J$4*J8,0),IFERROR((L8/1000)*$M$5*$M$4*M8,0)) -> 0
A9: 刈払い | C9: {=_xlfn.SWITCH(B9,0,"","標準値",被ばく線量換算係数!$B9,"最小値",被ばく線量換算係数!$C9,"中央値",被ばく線量換算係数!$D9,"最大値",被ばく線量換算係数!$E9)} | F9: {=_xlfn.SWITCH(E9,0,"","標準値",被ばく線量換算係数!$B9,"最小値",被ばく線量換算係数!$C9,"中央値",被ばく線量換算係数!$D9,"最大値",被ばく線量換算係数!$E9)} | H9: 標準値 | I9: {=_xlfn.SWITCH(H9,0,"","標準値",被ばく線量換算係数!$B9,"最小値",被ばく線量換算係数!$C9,"中央値",被ばく線量換算係数!$D9,"最大値",被ばく線量換算係数!$E9)} -> 0.7 | L9: {=_xlfn.SWITCH(K9,0,"","標準値",被ばく線量換算係数!$B9,"最小値",被ばく線量換算係数!$C9,"中央値",被ばく線量換算係数!$D9,"最大値",被ばく線量換算係数!$E9)} | N9: =SUM(IFERROR((C9/1000)*$D$5*$D$4*D9,0),IFERROR((F9/1000)*$G$5*$G$4*G9,0),IFERROR((I9/1000)*$J$5*$J$4*J9,0),IFERROR((L9/1000)*$M$5*$M$4*M9,0)) -> 0
A10: 伐倒（針葉樹） | C10: {=_xlfn.SWITCH(B10,0,"","標準値",被ばく線量換算係数!$B10,"最小値",被ばく線量換算係数!$C10,"中央値",被ばく線量換算係数!$D10,"最大値",被ばく線量換算係数!$E10)} | F10: {=_xlfn.SWITCH(E10,0,"","標準値",被ばく線量換算係数!$B10,"最小値",被ばく線量換算係数!$C10,"中央値",被ばく線量換算係数!$D10,"最大値",被ばく線量換算係数!$E10)} | I10: {=_xlfn.SWITCH(H10,0,"","標準値",被ばく線量換算係数!$B10,"最小値",被ばく線量換算係数!$C10,"中央値",被ばく線量換算係数!$D10,"最大値",被ばく線量換算係数!$E10)} | L10: {=_xlfn.SWITCH(K10,0,"","標準値",被ばく線量換算係数!$B10,"最小値",被ばく線量換算係数!$C10,"中央値",被ばく線量換算係数!$D10,"最大値",被ばく線量換算係数!$E10)} | N10: =SUM(IFERROR((C10/1000)*$D$5*$D$4*D10,0),IFERROR((F10/1000)*$G$5*$G$4*G10,0),IFERROR((I10/1000)*$J$5*$J$4*J10,0),IFERROR((L10/1000)*$M$5*$M$4*M10,0)) -> 0
A11: 伐倒（広葉樹） | C11: {=_xlfn.SWITCH(B11,0,"","標準値",被ばく線量換算係数!$B11,"最小値",被ばく線量換算係数!$C11,"中央値",被ばく線量換算係数!$D11,"最大値",被ばく線量換算係数!$E11)} | F11: {=_xlfn.SWITCH(E11,0,"","標準値",被ばく線量換算係数!$B11,"最小値",被ばく線量換算係数!$C11,"中央値",被ばく線量換算係数!$D11,"最大値",被ばく線量換算係数!$E11)} | I11: {=_xlfn.SWITCH(H11,0,"","標準値",被ばく線量換算係数!$B11,"最小値",被ばく線量換算係数!$C11,"中央値",被ばく線量換算係数!$D11,"最大値",被ばく線量換算係数!$E11)} | L11: {=_xlfn.SWITCH(K11,0,"","標準値",被ばく線量換算係数!$B11,"最小値",被ばく線量換算係数!$C11,"中央値",被ばく線量換算係数!$D11,"最大値",被ばく線量換算係数!$E11)} | N11: =SUM(IFERROR((C11/1000)*$D$5*$D$4*D11,0),IFERROR((F11/1000)*$G$5*$G$4*G11,0),IFERROR((I11/1000)*$J$5*$J$4*J11,0),IFERROR((L11/1000)*$M$5*$M$4*M11,0)) -> 0
A12: 伐倒（林業機械使用） | C12: {=_xlfn.SWITCH(B12,0,"","標準値",被ばく線量換算係数!$B12,"最小値",被ばく線量換算係数!$C12,"中央値",被ばく線量換算係数!$D12,"最大値",被ばく線量換算係数!$E12)} | F12: {=_xlfn.SWITCH(E12,0,"","標準値",被ばく線量換算係数!$B12,"最小値",被ばく線量換算係数!$C12,"中央値",被ばく線量換算係数!$D12,"最大値",被ばく線量換算係数!$E12)} | I12: {=_xlfn.SWITCH(H12,0,"","標準値",被ばく線量換算係数!$B12,"最小値",被ばく線量換算係数!$C12,"中央値",被ばく線量換算係数!$D12,"最大値",被ばく線量換算係数!$E12)} | L12: {=_xlfn.SWITCH(K12,0,"","標準値",被ばく線量換算係数!$B12,"最小値",被ばく線量換算係数!$C12,"中央値",被ばく線量換算係数!$D12,"最大値",被ばく線量換算係数!$E12)} | N12: =SUM(IFERROR((C12/1000)*$D$5*$D$4*D12,0),IFERROR((F12/1000)*$G$5*$G$4*G12,0),IFERROR((I12/1000)*$J$5*$J$4*J12,0),IFERROR((L12/1000)*$M$5*$M$4*M12,0)) -> 0
A13: 集材 | C13: {=_xlfn.SWITCH(B13,0,"","標準値",被ばく線量換算係数!$B13,"最小値",被ばく線量換算係数!$C13,"中央値",被ばく線量換算係数!$D13,"最大値",被ばく線量換算係数!$E13)} | F13: {=_xlfn.SWITCH(E13,0,"","標準値",被ばく線量換算係数!$B13,"最小値",被ばく線量換算係数!$C13,"中央値",被ばく線量換算係数!$D13,"最大値",被ばく線量換算係数!$E13)} | I13: {=_xlfn.SWITCH(H13,0,"","標準値",被ばく線量換算係数!$B13,"最小値",被ばく線量換算係数!$C13,"中央値",被ばく線量換算係数!$D13,"最大値",被ばく線量換算係数!$E13)} | L13: {=_xlfn.SWITCH(K13,0,"","標準値",被ばく線量換算係数!$B13,"最小値",被ばく線量換算係数!$C13,"中央値",被ばく線量換算係数!$D13,"最大値",被ばく線量換算係数!$E13)} | N13: =SUM(IFERROR((C13/1000)*$D$5*$D$4*D13,0),IFERROR((F13/1000)*$G$5*$G$4*G13,0),IFERROR((I13/1000)*$J$5*$J$4*J13,0),IFERROR((L13/1000)*$M$5*$M$4*M13,0)) -> 0
A14: 集材（林業機械使用） | C14: {=_xlfn.SWITCH(B14,0,"","標準値",被ばく線量換算係数!$B14,"最小値",被ばく線量換算係数!$C14,"中央値",被ばく線量換算係数!$D14,"最大値",被ばく線量換算係数!$E14)} | F14: {=_xlfn.SWITCH(E14,0,"","標準値",被ばく線量換算係数!$B14,"最小値",被ばく線量換算係数!$C14,"中央値",被ばく線量換算係数!$D14,"最大値",被ばく線量換算係数!$E14)} | I14: {=_xlfn.SWITCH(H14,0,"","標準値",被ばく線量換算係数!$B14,"最小値",被ばく線量換算係数!$C14,"中央値",被ばく線量換算係数!$D14,"最大値",被ばく線量換算係数!$E14)} | L14: {=_xlfn.SWITCH(K14,0,"","標準値",被ばく線量換算係数!$B14,"最小値",被ばく線量換算係数!$C14,"中央値",被ばく線量換算係数!$D14,"最大値",被ばく線量換算係数!$E14)} | N14: =SUM(IFERROR((C14/1000)*$D$5*$D$4*D14,0),IFERROR((F14/1000)*$G$5*$G$4*G14,0),IFERROR((I14/1000)*$J$5*$J$4*J14,0),IFERROR((L14/1000)*$M$5*$M$4*M14,0)) -> 0
A15: 造材 | C15: {=_xlfn.SWITCH(B15,0,"","標準値",被ばく線量換算係数!$B15,"最小値",被ばく線量換算係数!$C15,"中央値",被ばく線量換算係数!$D15,"最大値",被ばく線量換算係数!$E15)} | F15: {=_xlfn.SWITCH(E15,0,"","標準値",被ばく線量換算係数!$B15,"最小値",被ばく線量換算係数!$C15,"中央値",被ばく線量換算係数!$D15,"最大値",被ばく線量換算係数!$E15)} | I15: {=_xlfn.SWITCH(H15,0,"","標準値",被ばく線量換算係数!$B15,"最小値",被ばく線量換算係数!$C15,"中央値",被ばく線量換算係数!$D15,"最大値",被ばく線量換算係数!$E15)} | L15: {=_xlfn.SWITCH(K15,0,"","標準値",被ばく線量換算係数!$B15,"最小値",被ばく線量換算係数!$C15,"中央値",被ばく線量換算係数!$D15,"最大値",被ばく線量換算係数!$E15)} | N15: =SUM(IFERROR((C15/1000)*$D$5*$D$4*D15,0),IFERROR((F15/1000)*$G$5*$G$4*G15,0),IFERROR((I15/1000)*$J$5*$J$4*J15,0),IFERROR((L15/1000)*$M$5*$M$4*M15,0)) -> 0
A16: 造材（林業機械使用） | C16: {=_xlfn.SWITCH(B16,0,"","標準値",被ばく線量換算係数!$B16,"最小値",被ばく線量換算係数!$C16,"中央値",被ばく線量換算係数!$D16,"最大値",被ばく線量換算係数!$E16)} | F16: {=_xlfn.SWITCH(E16,0,"","標準値",被ばく線量換算係数!$B16,"最小値",被ばく線量換算係数!$C16,"中央値",被ばく線量換算係数!$D16,"最大値",被ばく線量換算係数!$E16)} | I16: {=_xlfn.SWITCH(H16,0,"","標準値",被ばく線量換算係数!$B16,"最小値",被ばく線量換算係数!$C16,"中央値",被ばく線量換算係数!$D16,"最大値",被ばく線量換算係数!$E16)} | L16: {=_xlfn.SWITCH(K16,0,"","標準値",被ばく線量換算係数!$B16,"最小値",被ばく線量換算係数!$C16,"中央値",被ばく線量換算係数!$D16,"最大値",被ばく線量換算係数!$E16)} | N16: =SUM(IFERROR((C16/1000)*$D$5*$D$4*D16,0),IFERROR((F16/1000)*$G$5*$G$4*G16,0),IFERROR((I16/1000)*$J$5*$J$4*J16,0),IFERROR((L16/1000)*$M$5*$M$4*M16,0)) -> 0
A17: 枝条等集積 | C17: {=_xlfn.SWITCH(B17,0,"","標準値",被ばく線量換算係数!$B17,"最小値",被ばく線量換算係数!$C17,"中央値",被ばく線量換算係数!$D17,"最大値",被ばく線量換算係数!$E17)} | F17: {=_xlfn.SWITCH(E17,0,"","標準値",被ばく線量換算係数!$B17,"最小値",被ばく線量換算係数!$C17,"中央値",被ばく線量換算係数!$D17,"最大値",被ばく線量換算係数!$E17)} | I17: {=_xlfn.SWITCH(H17,0,"","標準値",被ばく線量換算係数!$B17,"最小値",被ばく線量換算係数!$C17,"中央値",被ばく線量換算係数!$D17,"最大値",被ばく線量換算係数!$E17)} | L17: {=_xlfn.SWITCH(K17,0,"","標準値",被ばく線量換算係数!$B17,"最小値",被ばく線量換算係数!$C17,"中央値",被ばく線量換算係数!$D17,"最大値",被ばく線量換算係数!$E17)} | N17: =SUM(IFERROR((C17/1000)*$D$5*$D$4*D17,0),IFERROR((F17/1000)*$G$5*$G$4*G17,0),IFERROR((I17/1000)*$J$5*$J$4*J17,0),IFERROR((L17/1000)*$M$5*$M$4*M17,0)) -> 0
A18: 路網作設・維持補修（林業機械使用） | C18: {=_xlfn.SWITCH(B18,0,"","標準値",被ばく線量換算係数!$B18,"最小値",被ばく線量換算係数!$C18,"中央値",被ばく線量換算係数!$D18,"最大値",被ばく線量換算係数!$E18)} | F18: {=_xlfn.SWITCH(E18,0,"","標準値",被ばく線量換算係数!$B18,"最小値",被ばく線量換算係数!$C18,"中央値",被ばく線量換算係数!$D18,"最大値",被ばく線量換算係数!$E18)} | I18: {=_xlfn.SWITCH(H18,0,"","標準値",被ばく線量換算係数!$B18,"最小値",被ばく線量換算係数!$C18,"中央値",被ばく線量換算係数!$D18,"最大値",被ばく線量換算係数!$E18)} | L18: {=_xlfn.SWITCH(K18,0,"","標準値",被ばく線量換算係数!$B18,"最小値",被ばく線量換算係数!$C18,"中央値",被ばく線量換算係数!$D18,"最大値",被ばく線量換算係数!$E18)} | N18: =SUM(IFERROR((C18/1000)*$D$5*$D$4*D18,0),IFERROR((F18/1000)*$G$5*$G$4*G18,0),IFERROR((I18/1000)*$J$5*$J$4*J18,0),IFERROR((L18/1000)*$M$5*$M$4*M18,0)) -> 0
A19: 丸太筋工 | C19: {=_xlfn.SWITCH(B19,0,"","標準値",被ばく線量換算係数!$B19,"最小値",被ばく線量換算係数!$C19,"中央値",被ばく線量換算係数!$D19,"最大値",被ばく線量換算係数!$E19)} | F19: {=_xlfn.SWITCH(E19,0,"","標準値",被ばく線量換算係数!$B19,"最小値",被ばく線量換算係数!$C19,"中央値",被ばく線量換算係数!$D19,"最大値",被ばく線量換算係数!$E19)} | I19: {=_xlfn.SWITCH(H19,0,"","標準値",被ばく線量換算係数!$B19,"最小値",被ばく線量換算係数!$C19,"中央値",被ばく線量換算係数!$D19,"最大値",被ばく線量換算係数!$E19)} | L19: {=_xlfn.SWITCH(K19,0,"","標準値",被ばく線量換算係数!$B19,"最小値",被ばく線量換算係数!$C19,"中央値",被ばく線量換算係数!$D19,"最大値",被ばく線量換算係数!$E19)} | N19: =SUM(IFERROR((C19/1000)*$D$5*$D$4*D19,0),IFERROR((F19/1000)*$G$5*$G$4*G19,0),IFERROR((I19/1000)*$J$5*$J$4*J19,0),IFERROR((L19/1000)*$M$5*$M$4*M19,0)) -> 0
A20: 下刈 | B20: 最大値 | C20: {=_xlfn.SWITCH(B20,0,"","標準値",被ばく線量換算係数!$B20,"最小値",被ばく線量換算係数!$C20,"中央値",被ばく線量換算係数!$D20,"最大値",被ばく線量換算係数!$E20)} -> 0.81 | D20: 15 | E20: 標準値 | F20: {=_xlfn.SWITCH(E20,0,"","標準値",被ばく線量換算係数!$B20,"最小値",被ばく線量換算係数!$C20,"中央値",被ばく線量換算係数!$D20,"最大値",被ばく線量換算係数!$E20)} -> 0.7 | G20: 20 | H20: 中央値 | I20: {=_xlfn.SWITCH(H20,0,"","標準値",被ばく線量換算係数!$B20,"最小値",被ばく線量換算係数!$C20,"中央値",被ばく線量換算係数!$D20,"最大値",被ばく線量換算係数!$E20)} -> 0.46 | J20: 20 | L20: {=_xlfn.SWITCH(K20,0,"","標準値",被ばく線量換算係数!$B20,"最小値",被ばく線量換算係数!$C20,"中央値",被ばく線量換算係数!$D20,"最大値",被ばく線量換算係数!$E20)} | N20: =SUM(IFERROR((C20/1000)*$D$5*$D$4*D20,0),IFERROR((F20/1000)*$G$5*$G$4*G20,0),IFERROR((I20/1000)*$J$5*$J$4*J20,0),IFERROR((L20/1000)*$M$5*$M$4*M20,0)) -> 1.4667
A21: 除伐 | C21: {=_xlfn.SWITCH(B21,0,"","標準値",被ばく線量換算係数!$B21,"最小値",被ばく線量換算係数!$C21,"中央値",被ばく線量換算係数!$D21,"最大値",被ばく線量換算係数!$E21)} | F21: {=_xlfn.SWITCH(E21,0,"","標準値",被ばく線量換算係数!$B21,"最小値",被ばく線量換算係数!$C21,"中央値",被ばく線量換算係数!$D21,"最大値",被ばく線量換算係数!$E21)} | I21: {=_xlfn.SWITCH(H21,0,"","標準値",被ばく線量換算係数!$B21,"最小値",被ばく線量換算係数!$C21,"中央値",被ばく線量換算係数!$D21,"最大値",被ばく線量換算係数!$E21)} | L21: {=_xlfn.SWITCH(K21,0,"","標準値",被ばく線量換算係数!$B21,"最小値",被ばく線量換算係数!$C21,"中央値",被ばく線量換算係数!$D21,"最大値",被ばく線量換算係数!$E21)} | N21: =SUM(IFERROR((C21/1000)*$D$5*$D$4*D21,0),IFERROR((F21/1000)*$G$5*$G$4*G21,0),IFERROR((I21/1000)*$J$5*$J$4*J21,0),IFERROR((L21/1000)*$M$5*$M$4*M21,0)) -> 0
A22: 調査・巡視 | C22: {=_xlfn.SWITCH(B22,0,"","標準値",被ばく線量換算係数!$B22,"最小値",被ばく線量換算係数!$C22,"中央値",被ばく線量換算係数!$D22,"最大値",被ばく線量換算係数!$E22)} | F22: {=_xlfn.SWITCH(E22,0,"","標準値",被ばく線量換算係数!$B22,"最小値",被ばく線量換算係数!$C22,"中央値",被ばく線量換算係数!$D22,"最大値",被ばく線量換算係数!$E22)} | I22: {=_xlfn.SWITCH(H22,0,"","標準値",被ばく線量換算係数!$B22,"最小値",被ばく線量換算係数!$C22,"中央値",被ばく線量換算係数!$D22,"最大値",被ばく線量換算係数!$E22)} | K22: 標準値 | L22: {=_xlfn.SWITCH(K22,0,"","標準値",被ばく線量換算係数!$B22,"最小値",被ばく線量換算係数!$C22,"中央値",被ばく線量換算係数!$D22,"最大値",被ばく線量換算係数!$E22)} -> 0.7 | M22: 5 | N22: =SUM(IFERROR((C22/1000)*$D$5*$D$4*D22,0),IFERROR((F22/1000)*$G$5*$G$4*G22,0),IFERROR((I22/1000)*$J$5*$J$4*J22,0),IFERROR((L22/1000)*$M$5*$M$4*M22,0)) -> 0.11214
A23: その他 | C23: {=_xlfn.SWITCH(B23,0,"","標準値",被ばく線量換算係数!$B25)} | F23: {=_xlfn.SWITCH(E23,0,"","標準値",被ばく線量換算係数!$B25)} | I23: {=_xlfn.SWITCH(H23,0,"","標準値",被ばく線量換算係数!$B25)} | L23: {=_xlfn.SWITCH(K23,0,"","標準値",被ばく線量換算係数!$B25)} | N23: =SUM(IFERROR((C23/1000)*$D$5*$D$4*D23,0),IFERROR((F23/1000)*$G$5*$G$4*G23,0),IFERROR((I23/1000)*$J$5*$J$4*J23,0),IFERROR((L23/1000)*$M$5*$M$4*M23,0)) -> 0
A24: 作業日数合計 | D24: =SUM(D8:D23) -> 15 | G24: =SUM(G8:G23) -> 20 | J24: =SUM(J8:J23) -> 20 | M24: =SUM(M8:M23) -> 5 | N24: =SUM(D24:M24) -> 60
A25: ３か月の被ばく線量合計（mSv） | N25: =SUM(N8:N23) -> 1.57884
A27: （使い方）
A28: １ 黄色のセル：「１日の作業時間（h）」、「作業場所の平均空間線量率（µSv/h）」を入力。
A29: ２ 桃色のセル：作業種ごとに、「標準値」、「最小値」、「中央値」、「最大値」を選択。
A30: ※作業種が明確でない場合は「標準値」を選択。作業種が明確な場合は「標準値」以外も選択可能。
A31: ３ 緑色のセル：作業種ごとに「作業日数」を入力。
A32: ４ 作業場所ごとに、１～３の操作を実施。
A33: ※「作業種」列に具体的な名称がない作業種は「その他」とし、桃色のセルで「標準値」を選択するとともに、緑色のセルに作業日数を入力。

Sheet 被ばく線量試算表（10～12月）
A1: 【被ばく線量の試算】
A2: 始期：10月１日～終期：12月31日
A3: 作業場所 | C3: E地区 | F3: F地区 | I3: G地区 | L3: H地区
A4: １日の作業時間（h） | D4: 7 | G4: 7 | J4: 8 | M4: 4
A5: 作業場所の平均空間線量率（µSv/h） | D5: 3.52 | G5: 2.41 | J5: 4.12 | M5: 8.01
A6: 作業種 | B6: 被ばく線量換算係数 | D6: 作業日数 | E6: 被ばく線量換算係数 | G6: 作業日数 | H6: 被ばく線量換算係数 | J6: 作業日数 | K6: 被ばく線量換算係数 | M6: 作業日数 | N6: 合計
B7: リスト選択 | E7: リスト選択 | H7: リスト選択 | K7: リスト選択
A8: 刈払い・伐倒・造材作業 | C8: {=_xlfn.SWITCH(B8,0,"","標準値",被ばく線量換算係数!$B8,"最小値",被ばく線量換算係数!$C8,"中央値",被ばく線量換算係数!$D8,"最大値",被ばく線量換算係数!$E8)} | F8: {=_xlfn.SWITCH(E8,0,"","標準値",被ばく線量換算係数!$B8,"最小値",被ばく線量換算係数!$C8,"中央値",被ばく線量換算係数!$D8,"最大値",被ばく線量換算係数!$E8)} | I8: {=_xlfn.SWITCH(H8,0,"","標準値",被ばく線量換算係数!$B8,"最小値",被ばく線量換算係数!$C8,"中央値",被ばく線量換算係数!$D8,"最大値",被ばく線量換算係数!$E8)} | L8: {=_xlfn.SWITCH(K8,0,"","標準値",被ばく線量換算係数!$B8,"最小値",被ばく線量換算係数!$C8,"中央値",被ばく線量換算係数!$D8,"最大値",被ばく線量換算係数!$E8)} | N8: =SUM(IFERROR((C8/1000)*$D$5*$D$4*D8,0),IFERROR((F8/1000)*$G$5*$G$4*G8,0),IFERROR((I8/1000)*$J$5*$J$4*J8,0),IFERROR((L8/1000)*$M$5*$M$4*M8,0)) -> 0
A9: 刈払い | C9: {=_xlfn.SWITCH(B9,0,"","標準値",被ばく線量換算係数!$B9,"最小値",被ばく線量換算係数!$C9,"中央値",被ばく線量換算係数!$D9,"最大値",被ばく線量換算係数!$E9)} | F9: {=_xlfn.SWITCH(E9,0,"","標準値",被ばく線量換算係数!$B9,"最小値",被ばく線量換算係数!$C9,"中央値",被ばく線量換算係数!$D9,"最大値",被ばく線量換算係数!$E9)} | I9: {=_xlfn.SWITCH(H9,0,"","標準値",被ばく線量換算係数!$B9,"最小値",被ばく線量換算係数!$C9,"中央値",被ばく線量換算係数!$D9,"最大値",被ばく線量換算係数!$E9)} | L9: {=_xlfn.SWITCH(K9,0,"","標準値",被ばく線量換算係数!$B9,"最小値",被ばく線量換算係数!$C9,"中央値",被ばく線量換算係数!$D9,"最大値",被ばく線量換算係数!$E9)} | N9: =SUM(IFERROR((C9/1000)*$D$5*$D$4*D9,0),IFERROR((F9/1000)*$G$5*$G$4*G9,0),IFERROR((I9/1000)*$J$5*$J$4*J9,0),IFERROR((L9/1000)*$M$5*$M$4*M9,0)) -> 0
A10: 伐倒（針葉樹） | B10: 標準値 | C10: {=_xlfn.SWITCH(B10,0,"","標準値",被ばく線量換算係数!$B10,"最小値",被ばく線量換算係数!$C10,"中央値",被ばく線量換算係数!$D10,"最大値",被ばく線量換算係数!$E10)} -> 0.7 | D10: 5 | F10: {=_xlfn.SWITCH(E10,0,"","標準値",被ばく線量換算係数!$B10,"最小値",被ばく線量換算係数!$C10,"中央値",被ばく線量換算係数!$D10,"最大値",被ばく線量換算係数!$E10)} | H10: 最大値 | I10: {=_xlfn.SWITCH(H10,0,"","標準値",被ばく線量換算係数!$B10,"最小値",被ばく線量換算係数!$C10,"中央値",被ばく線量換算係数!$D10,"最大値",被ばく線量換算係数!$E10)} -> 0.5 | J10: 5 | L10: {=_xlfn.SWITCH(K10,0,"","標準値",被ばく線量換算係数!$B10,"最小値",被ばく線量換算係数!$C10,"中央値",被ばく線量換算係数!$D10,"最大値",被ばく線量換算係数!$E10)} | N10: =SUM(IFERROR((C10/1000)*$D$5*$D$4*D10,0),IFERROR((F10/1000)*$G$5*$G$4*G10,0),IFERROR((I10/1000)*$J$5*$J$4*J10,0),IFERROR((L10/1000)*$M$5*$M$4*M10,0)) -> 0.16864
A11: 伐倒（広葉樹） | C11: {=_xlfn.SWITCH(B11,0,"","標準値",被ばく線量換算係数!$B11,"最小値",被ばく線量換算係数!$C11,"中央値",被ばく線量換算係数!$D11,"最大値",被ばく線量換算係数!$E11)} | F11: {=_xlfn.SWITCH(E11,0,"","標準値",被ばく線量換算係数!$B11,"最小値",被ばく線量換算係数!$C11,"中央値",被ばく線量換算係数!$D11,"最大値",被ばく線量換算係数!$E11)} | I11: {=_xlfn.SWITCH(H11,0,"","標準値",被ばく線量換算係数!$B11,"最小値",被ばく線量換算係数!$C11,"中央値",被ばく線量換算係数!$D11,"最大値",被ばく線量換算係数!$E11)} | L11: {=_xlfn.SWITCH(K11,0,"","標準値",被ばく線量換算係数!$B11,"最小値",被ばく線量換算係数!$C11,"中央値",被ばく線量換算係数!$D11,"最大値",被ばく線量換算係数!$E11)} | N11: =SUM(IFERROR((C11/1000)*$D$5*$D$4*D11,0),IFERROR((F11/1000)*$G$5*$G$4*G11,0),IFERROR((I11/1000)*$J$5*$J$4*J11,0),IFERROR((L11/1000)*$M$5*$M$4*M11,0)) -> 0
A12: 伐倒（林業機械使用） | C12: {=_xlfn.SWITCH(B12,0,"","標準値",被ばく線量換算係数!$B12,"最小値",被ばく線量換算係数!$C12,"中央値",被ばく線量換算係数!$D12,"最大値",被ばく線量換算係数!$E12)} | E12: 中央値 | F12: {=_xlfn.SWITCH(E12,0,"","標準値",被ばく線量換算係数!$B12,"最小値",被ばく線量換算係数!$C12,"中央値",被ばく線量換算係数!$D12,"最大値",被ばく線量換算係数!$E12)} -> 0.33 | G12: 10 | H12: 最大値 | I12: {=_xlfn.SWITCH(H12,0,"","標準値",被ばく線量換算係数!$B12,"最小値",被ばく線量換算係数!$C12,"中央値",被ばく線量換算係数!$D12,"最大値",被ばく線量換算係数!$E12)} -> 0.38 | J12: 5 | L12: {=_xlfn.SWITCH(K12,0,"","標準値",被ばく線量換算係数!$B12,"最小値",被ばく線量換算係数!$C12,"中央値",被ばく線量換算係数!$D12,"最大値",被ばく線量換算係数!$E12)} | N12: =SUM(IFERROR((C12/1000)*$D$5*$D$4*D12,0),IFERROR((F12/1000)*$G$5*$G$4*G12,0),IFERROR((I12/1000)*$J$5*$J$4*J12,0),IFERROR((L12/1000)*$M$5*$M$4*M12,0)) -> 0.118295
A13: 集材 | B13: 標準値 | C13: {=_xlfn.SWITCH(B13,0,"","標準値",被ばく線量換算係数!$B13,"最小値",被ばく線量換算係数!$C13,"中央値",被ばく線量換算係数!$D13,"最大値",被ばく線量換算係数!$E13)} -> 0.7 | D13: 5 | F13: {=_xlfn.SWITCH(E13,0,"","標準値",被ばく線量換算係数!$B13,"最小値",被ばく線量換算係数!$C13,"中央値",被ばく線量換算係数!$D13,"最大値",被ばく線量換算係数!$E13)} | I13: {=_xlfn.SWITCH(H13,0,"","標準値",被ばく線量換算係数!$B13,"最小値",被ばく線量換算係数!$C13,"中央値",被ばく線量換算係数!$D13,"最大値",被ばく線量換算係数!$E13)} | L13: {=_xlfn.SWITCH(K13,0,"","標準値",被ばく線量換算係数!$B13,"最小値",被ばく線量換算係数!$C13,"中央値",被ばく線量換算係数!$D13,"最大値",被ばく線量換算係数!$E13)} | N13: =SUM(IFERROR((C13/1000)*$D$5*$D$4*D13,0),IFERROR((F13/1000)*$G$5*$G$4*G13,0),IFERROR((I13/1000)*$J$5*$J$4*J13,0),IFERROR((L13/1000)*$M$5*$M$4*M13,0)) -> 0.08624
A14: 集材（林業機械使用） | C14: {=_xlfn.SWITCH(B14,0,"","標準値",被ばく線量換算係数!$B14,"最小値",被ばく線量換算係数!$C14,"中央値",被ばく線量換算係数!$D14,"最大値",被ばく線量換算係数!$E14)} | E14: 中央値 | F14: {=_xlfn.SWITCH(E14,0,"","標準値",被ばく線量換算係数!$B14,"最小値",被ばく線量換算係数!$C14,"中央値",被ばく線量換算係数!$D14,"最大値",被ばく線量換算係数!$E14)} -> 0.33 | G14: 5 | I14: {=_xlfn.SWITCH(H14,0,"","標準値",被ばく線量換算係数!$B14,"最小値",被ばく線量換算係数!$C14,"中央値",被ばく線量換算係数!$D14,"最大値",被ばく線量換算係数!$E14)} | L14: {=_xlfn.SWITCH(K14,0,"","標準値",被ばく線量換算係数!$B14,"最小値",被ばく線量換算係数!$C14,"中央値",被ばく線量換算係数!$D14,"最大値",被ばく線量換算係数!$E14)} | N14: =SUM(IFERROR((C14/1000)*$D$5*$D$4*D14,0),IFERROR((F14/1000)*$G$5*$G$4*G14,0),IFERROR((I14/1000)*$J$5*$J$4*J14,0),IFERROR((L14/1000)*$M$5*$M$4*M14,0)) -> 0.0278355
A15: 造材 | B15: 標準値 | C15: {=_xlfn.SWITCH(B15,0,"","標準値",被ばく線量換算係数!$B15,"最小値",被ばく線量換算係数!$C15,"中央値",被ばく線量換算係数!$D15,"最大値",被ばく線量換算係数!$E15)} -> 0.7 | D15: 5 | F15: {=_xlfn.SWITCH(E15,0,"","標準値",被ばく線量換算係数!$B15,"最小値",被ばく線量換算係数!$C15,"中央値",被ばく線量換算係数!$D15,"最大値",被ばく線量換算係数!$E15)} | H15: 最大値 | I15: {=_xlfn.SWITCH(H15,0,"","標準値",被ばく線量換算係数!$B15,"最小値",被ばく線量換算係数!$C15,"中央値",被ばく線量換算係数!$D15,"最大値",被ばく線量換算係数!$E15)} -> 0.76 | J15: 3 | L15: {=_xlfn.SWITCH(K15,0,"","標準値",被ばく線量換算係数!$B15,"最小値",被ばく線量換算係数!$C15,"中央値",被ばく線量換算係数!$D15,"最大値",被ばく線量換算係数!$E15)} | N15: =SUM(IFERROR((C15/1000)*$D$5*$D$4*D15,0),IFERROR((F15/1000)*$G$5*$G$4*G15,0),IFERROR((I15/1000)*$J$5*$J$4*J15,0),IFERROR((L15/1000)*$M$5*$M$4*M15,0)) -> 0.1613888
A16: 造材（林業機械使用） | C16: {=_xlfn.SWITCH(B16,0,"","標準値",被ばく線量換算係数!$B16,"最小値",被ばく線量換算係数!$C16,"中央値",被ばく線量換算係数!$D16,"最大値",被ばく線量換算係数!$E16)} | E16: 中央値 | F16: {=_xlfn.SWITCH(E16,0,"","標準値",被ばく線量換算係数!$B16,"最小値",被ばく線量換算係数!$C16,"中央値",被ばく線量換算係数!$D16,"最大値",被ばく線量換算係数!$E16)} -> 0.33 | G16: 10 | I16: {=_xlfn.SWITCH(H16,0,"","標準値",被ばく線量換算係数!$B16,"最小値",被ばく線量換算係数!$C16,"中央値",被ばく線量換算係数!$D16,"最大値",被ばく線量換算係数!$E16)} | L16: {=_xlfn.SWITCH(K16,0,"","標準値",被ばく線量換算係数!$B16,"最小値",被ばく線量換算係数!$C16,"中央値",被ばく線量換算係数!$D16,"最大値",被ばく線量換算係数!$E16)} | N16: =SUM(IFERROR((C16/1000)*$D$5*$D$4*D16,0),IFERROR((F16/1000)*$G$5*$G$4*G16,0),IFERROR((I16/1000)*$J$5*$J$4*J16,0),IFERROR((L16/1000)*$M$5*$M$4*M16,0)) -> 0.055671
A17: 枝条等集積 | C17: {=_xlfn.SWITCH(B17,0,"","標準値",被ばく線量換算係数!$B17,"最小値",被ばく線量換算係数!$C17,"中央値",被ばく線量換算係数!$D17,"最大値",被ばく線量換算係数!$E17)} | F17: {=_xlfn.SWITCH(E17,0,"","標準値",被ばく線量換算係数!$B17,"最小値",被ばく線量換算係数!$C17,"中央値",被ばく線量換算係数!$D17,"最大値",被ばく線量換算係数!$E17)} | I17: {=_xlfn.SWITCH(H17,0,"","標準値",被ばく線量換算係数!$B17,"最小値",被ばく線量換算係数!$C17,"中央値",被ばく線量換算係数!$D17,"最大値",被ばく線量換算係数!$E17)} | L17: {=_xlfn.SWITCH(K17,0,"","標準値",被ばく線量換算係数!$B17,"最小値",被ばく線量換算係数!$C17,"中央値",被ばく線量換算係数!$D17,"最大値",被ばく線量換算係数!$E17)} | N17: =SUM(IFERROR((C17/1000)*$D$5*$D$4*D17,0),IFERROR((F17/1000)*$G$5*$G$4*G17,0),IFERROR((I17/1000)*$J$5*$J$4*J17,0),IFERROR((L17/1000)*$M$5*$M$4*M17,0)) -> 0
A18: 路網作設・維持補修（林業機械使用） | C18: {=_xlfn.SWITCH(B18,0,"","標準値",被ばく線量換算係数!$B18,"最小値",被ばく線量換算係数!$C18,"中央値",被ばく線量換算係数!$D18,"最大値",被ばく線量換算係数!$E18)} | F18: {=_xlfn.SWITCH(E18,0,"","標準値",被ばく線量換算係数!$B18,"最小値",被ばく線量換算係数!$C18,"中央値",被ばく線量換算係数!$D18,"最大値",被ばく線量換算係数!$E18)} | I18: {=_xlfn.SWITCH(H18,0,"","標準値",被ばく線量換算係数!$B18,"最小値",被ばく線量換算係数!$C18,"中央値",被ばく線量換算係数!$D18,"最大値",被ばく線量換算係数!$E18)} | K18: 標準値 | L18: {=_xlfn.SWITCH(K18,0,"","標準値",被ばく線量換算係数!$B18,"最小値",被ばく線量換算係数!$C18,"中央値",被ばく線量換算係数!$D18,"最大値",被ばく線量換算係数!$E18)} -> 0.7 | M18: 5 | N18: =SUM(IFERROR((C18/1000)*$D$5*$D$4*D18,0),IFERROR((F18/1000)*$G$5*$G$4*G18,0),IFERROR((I18/1000)*$J$5*$J$4*J18,0),IFERROR((L18/1000)*$M$5*$M$4*M18,0)) -> 0.11214
A19: 丸太筋工 | C19: {=_xlfn.SWITCH(B19,0,"","標準値",被ばく線量換算係数!$B19,"最小値",被ばく線量換算係数!$C19,"中央値",被ばく線量換算係数!$D19,"最大値",被ばく線量換算係数!$E19)} | F19: {=_xlfn.SWITCH(E19,0,"","標準値",被ばく線量換算係数!$B19,"最小値",被ばく線量換算係数!$C19,"中央値",被ばく線量換算係数!$D19,"最大値",被ばく線量換算係数!$E19)} | H19: 標準値 | I19: {=_xlfn.SWITCH(H19,0,"","標準値",被ばく線量換算係数!$B19,"最小値",被ばく線量換算係数!$C19,"中央値",被ばく線量換算係数!$D19,"最大値",被ばく線量換算係数!$E19)} -> 0.7 | J19: 10 | L19: {=_xlfn.SWITCH(K19,0,"","標準値",被ばく線量換算係数!$B19,"最小値",被ばく線量換算係数!$C19,"中央値",被ばく線量換算係数!$D19,"最大値",被ばく線量換算係数!$E19)} | N19: =SUM(IFERROR((C19/1000)*$D$5*$D$4*D19,0),IFERROR((F19/1000)*$G$5*$G$4*G19,0),IFERROR((I19/1000)*$J$5*$J$4*J19,0),IFERROR((L19/1000)*$M$5*$M$4*M19,0)) -> 0.23072
A20: 下刈 | C20: {=_xlfn.SWITCH(B20,0,"","標準値",被ばく線量換算係数!$B20,"最小値",被ばく線量換算係数!$C20,"中央値",被ばく線量換算係数!$D20,"最大値",被ばく線量換算係数!$E20)} | F20: {=_xlfn.SWITCH(E20,0,"","標準値",被ばく線量換算係数!$B20,"最小値",被ばく線量換算係数!$C20,"中央値",被ばく線量換算係数!$D20,"最大値",被ばく線量換算係数!$E20)} | I20: {=_xlfn.SWITCH(H20,0,"","標準値",被ばく線量換算係数!$B20,"最小値",被ばく線量換算係数!$C20,"中央値",被ばく線量換算係数!$D20,"最大値",被ばく線量換算係数!$E20)} | L20: {=_xlfn.SWITCH(K20,0,"","標準値",被ばく線量換算係数!$B20,"最小値",被ばく線量換算係数!$C20,"中央値",被ばく線量換算係数!$D20,"最大値",被ばく線量換算係数!$E20)} | N20: =SUM(IFERROR((C20/1000)*$D$5*$D$4*D20,0),IFERROR((F20/1000)*$G$5*$G$4*G20,0),IFERROR((I20/1000)*$J$5*$J$4*J20,0),IFERROR((L20/1000)*$M$5*$M$4*M20,0)) -> 0
A21: 除伐 | C21: {=_xlfn.SWITCH(B21,0,"","標準値",被ばく線量換算係数!$B21,"最小値",被ばく線量換算係数!$C21,"中央値",被ばく線量換算係数!$D21,"最大値",被ばく線量換算係数!$E21)} | F21: {=_xlfn.SWITCH(E21,0,"","標準値",被ばく線量換算係数!$B21,"最小値",被ばく線量換算係数!$C21,"中央値",被ばく線量換算係数!$D21,"最大値",被ばく線量換算係数!$E21)} | I21: {=_xlfn.SWITCH(H21,0,"","標準値",被ばく線量換算係数!$B21,"最小値",被ばく線量換算係数!$C21,"中央値",被ばく線量換算係数!$D21,"最大値",被ばく線量換算係数!$E21)} | L21: {=_xlfn.SWITCH(K21,0,"","標準値",被ばく線量換算係数!$B21,"最小値",被ばく線量換算係数!$C21,"中央値",被ばく線量換算係数!$D21,"最大値",被ばく線量換算係数!$E21)} | N21: =SUM(IFERROR((C21/1000)*$D$5*$D$4*D21,0),IFERROR((F21/1000)*$G$5*$G$4*G21,0),IFERROR((I21/1000)*$J$5*$J$4*J21,0),IFERROR((L21/1000)*$M$5*$M$4*M21,0)) -> 0
A22: 調査・巡視 | C22: {=_xlfn.SWITCH(B22,0,"","標準値",被ばく線量換算係数!$B22,"最小値",被ばく線量換算係数!$C22,"中央値",被ばく線量換算係数!$D22,"最大値",被ばく線量換算係数!$E22)} | F22: {=_xlfn.SWITCH(E22,0,"","標準値",被ばく線量換算係数!$B22,"最小値",被ばく線量換算係数!$C22,"中央値",被ばく線量換算係数!$D22,"最大値",被ばく線量換算係数!$E22)} | I22: {=_xlfn.SWITCH(H22,0,"","標準値",被ばく線量換算係数!$B22,"最小値",被ばく線量換算係数!$C22,"中央値",被ばく線量換算係数!$D22,"最大値",被ばく線量換算係数!$E22)} | L22: {=_xlfn.SWITCH(K22,0,"","標準値",被ばく線量換算係数!$B22,"最小値",被ばく線量換算係数!$C22,"中央値",被ばく線量換算係数!$D22,"最大値",被ばく線量換算係数!$E22)} | N22: =SUM(IFERROR((C22/1000)*$D$5*$D$4*D22,0),IFERROR((F22/1000)*$G$5*$G$4*G22,0),IFERROR((I22/1000)*$J$5*$J$4*J22,0),IFERROR((L22/1000)*$M$5*$M$4*M22,0)) -> 0
A23: その他 | C23: {=_xlfn.SWITCH(B23,0,"","標準値",被ばく線量換算係数!$B25)} | F23: {=_xlfn.SWITCH(E23,0,"","標準値",被ばく線量換算係数!$B25)} | I23: {=_xlfn.SWITCH(H23,0,"","標準値",被ばく線量換算係数!$B25)} | K23: 標準値 | L23: {=_xlfn.SWITCH(K23,0,"","標準値",被ばく線量換算係数!$B25)} -> 0.7 | M23: 5 | N23: =SUM(IFERROR((C23/1000)*$D$5*$D$4*D23,0),IFERROR((F23/1000)*$G$5*$G$4*G23,0),IFERROR((I23/1000)*$J$5*$J$4*J23,0),IFERROR((L23/1000)*$M$5*$M$4*M23,0)) -> 0.11214
A24: 作業日数合計 | D24: =SUM(D8:D23) -> 15 | G24: =SUM(G8:G23) -> 25 | J24: =SUM(J8:J23) -> 23 | M24: =SUM(M8:M23) -> 10 | N24: =SUM(D24:M24) -> 73
A25: ３か月の被ばく線量合計（mSv） | N25: =SUM(N8:N23) -> 1.0730703
A27: （使い方）
A28: １ 黄色のセル：「１日の作業時間（h）」、「作業場所の平均空間線量率（µSv/h）」を入力。
A29: ２ 桃色のセル：作業種ごとに、「標準値」、「最小値」、「中央値」、「最大値」を選択。
A30: ※作業種が明確でない場合は「標準値」を選択。作業種が明確な場合は「標準値」以外も選択可能。
A31: ３ 緑色のセル：作業種ごとに「作業日数」を入力。
A32: ４ 作業場所ごとに、１～３の操作を実施。
A33: ※「作業種」列に具体的な名称がない作業種は「その他」とし、桃色のセルで「標準値」を選択するとともに、緑色のセルに作業日数を入力。

Sheet 被ばく線量換算係数
B6: （外部被ばく量/空間線量率）
B7: 標準値 | C7: 最小値 | D7: 中央値 | E7: 最大値
A8: 刈払い・伐倒・造材作業 | B8: 0.7 | C8: 0.38 | D8: 0.46 | E8: 0.53
A9: 刈払い | B9: 0.7 | C9: 0.36 | D9: 0.46 | E9: 0.81
A10: 伐倒（針葉樹） | B10: 0.7 | C10: 0.43 | D10: 0.47 | E10: 0.5
A11: 伐倒（広葉樹） | B11: 0.7 | C11: 0.34 | D11: 0.54 | E11: 0.8
A12: 伐倒（林業機械使用） | B12: 0.7 | C12: 0.33 | D12: 0.33 | E12: 0.38
A13: 集材 | B13: 0.7 | C13: 0.41 | D13: 0.6 | E13: 0.73
A14: 集材（林業機械使用） | B14: 0.7 | C14: 0.33 | D14: 0.33 | E14: 0.38
A15: 造材 | B15: 0.7 | C15: 0.6 | D15: 0.64 | E15: 0.76
A16: 造材（林業機械使用） | B16: 0.7 | C16: 0.33 | D16: 0.33 | E16: 0.38
A17: 枝条等集積 | B17: 0.7 | C17: 0.33 | D17: 0.38 | E17: 0.75
A18: 路網作設・維持補修（林業機械使用） | B18: 0.7 | C18: 0.33 | D18: 0.33 | E18: 0.38
A19: 丸太筋工 | B19: 0.7 | C19: 0.33 | D19: 0.35 | E19: 0.46
... A22: 調査・巡視 | B22: 0.7 | C22: 0.36 | D22: 0.46 | E22: 0.81
B23: 0.7
B24: 0.7
B25: 0.7
