{"text_format":"1","workbook":"xlsx","n_sheets":8,"sheets":["提出様式（記載例）","提出様式","入力","合計計算表","計算明細表","密度管理","都道府県","成長量"],"not_rendered":{"charts":0,"images":8,"macros":1,"external_links":0,"defined_names":4,"comments":0,"pivot_tables":0},"unopened":[],"bounds":{"document_bytes":16777216,"sheet_cells":100000,"rows_first":2000,"rows_last":500,"rows_between":2000,"halvings":0,"cell_chars":16384,"cell_head_chars":4096},"cells_cut":0,"cells_raw":0,"read":"whole","date_system":"1900"}

{"sheet":"提出様式（記載例）","index":0,"n_rows":325,"n_cols":18,"rows_kept":325,"cut":false,"hidden":false,"merged":[[1,10,1,14],[22,7,23,7],[22,8,23,8],[22,9,23,9],[22,10,23,10],[22,11,23,11],[22,12,23,12],[22,13,23,13],[22,14,23,14],[4,1,17,14],[22,1,23,1],[22,2,22,3],[22,4,23,4],[22,5,23,5],[22,6,23,6],[20,11,20,12],[20,13,20,14],[21,11,21,12],[21,13,21,14]]}
[]
[null,null,null,null,null,null,null,null,null,"応募者","○○株式会社"]
[]
[]
[null,"（１）ＣＯ２吸収量の算定方法\n　　以下のいずれかの方法にチェックを記載\n　　　Ａ 「森林による二酸化炭素吸収量の算定方法について」（令和３年12月27日付３林政企第60号林野庁長官通知）\n        に基づく算定方法\n　　　　ａ １年間に森林が吸収するＣＯ２量の簡便な算定方法\n　　　　　□ア　簡易な方法\n　　　　　☑イ　精緻な方法\n　　　□ｂ 再造林・保育を行うことにより森林に吸収されるＣＯ２量の増加分の算定方法\n　　　□ｃ 森林の育成により保持される土壌炭素量（ＣＯ２換算）の算定方法\n    □Ｂ 都府県による二酸化炭素吸収量認証制度に基づく算定方法\n    □Ｃ 国有林における「法人の森林」における環境貢献度評価に基づく算定方法"]
[]
[]
[]
[]
[]
[]
[]
[]
[]
[]
[]
[]
[]
[]
[null,"（２）森林整備の詳細"]
[null,null,null,null,null,null,null,null,null,null,null,"面積合計",null,{"$f":"H325","v":44}]
[null,null,null,null,null,null,null,null,null,null,null,"吸収量合計",null,{"$f":"O325","v":330}]
[null,"番号","森林の所在地",null,"所有形態","整備\n年度","主な\n整備内容","面積","樹種","その他の\n樹種","林齢","ha当り\n立木本数","樹高","平均\n直径","年間ＣＯ２\n吸収量"]
[null,null,"都道府県","市町村以下"]
[null,1,"栃木県","E市101-22-33","国","R4","植栽",4,"ヒノキ",null,1,3000,0.5,0,8.0627801213802308E-2]
[null,2,"栃木県","E市101-22-34","都道府県","R4・R5","下刈",2,"スギ",null,3,2800,0.8,0,0.13355298731258522]
[null,3,"群馬県","F市87-1-a","市町村","R5","枝打ち",7,"カラマツ",null,10,2600,3,0,3.0736006173759223]
[null,4,"群馬県","F市23-3-c","個人（応募者自ら所有）","R4","除伐",4,"その他樹種","クヌギ",13,1700,2,0,12.90071491276246]
[null,5,"群馬県","F市233-4-1","個人（他者所有）","R4・R5","間伐",9,"ヒノキ",null,35,1800,15,22,231.56140223322916]
[null,6,"栃木県","E市101-22-33","企業、団体（応募者自ら所有）","R5","植栽",1,"スギ",null,1,2000,0.5,0,1.2604444663388772E-2]
[null,7,"栃木県","E市101-22-34","企業、団体（他者所有）","R4","下刈",2,"カラマツ",null,2,2900,0.6,0,1.0175594998610682E-2]
[null,8,"群馬県","F市87-1-a","その他","R4・R5","枝打ち",5,"その他樹種","コウヨウザン",9,1900,5,0,14.740647767214222]
[null,9,"群馬県","F市23-3-c","国","R5","除伐",7,"ヒノキ",null,11,2000,4,0,20.768651596309191]
[null,10,"群馬県","F市233-4-1","都道府県","R4","間伐",3,"スギ",null,42,1600,17,24,46.376071014314732]
[null,"",null,null,null,null,null,null,null,null,null,null,null,null,""]
[null,"",null,null,null,null,null,null,null,null,null,null,null,null,""]
[null,"",null,null,null,null,null,null,null,null,null,null,null,null,""]
[null,"",null,null,null,null,null,null,null,null,null,null,null,null,""]
[null,"",null,null,null,null,null,null,null,null,null,null,null,null,""]
[null,"",null,null,null,null,null,null,null,null,null,null,null,null,"",null,null,{"$f":"IF(K40=\"\",\"\",ROUNDUP(K40/5,0))","v":""}]
[null,"",null,null,null,null,null,null,null,null,null,null,null,null,"",null,null,""]
[null,"",null,null,null,null,null,null,null,null,null,null,null,null,"",null,null,""]
[null,"",null,null,null,null,null,null,null,null,null,null,null,null,"",null,null,""]
[null,"",null,null,null,null,null,null,null,null,null,null,null,null,"",null,null,""]
[null,"",null,null,null,null,null,null,null,null,null,null,null,null,"",null,null,""]
[null,"",null,null,null,null,null,null,null,null,null,null,null,null,"",null,null,""]
[null,"",null,null,null,null,null,null,null,null,null,null,null,null,"",null,null,""]
[null,"",null,null,null,null,null,null,null,null,null,null,null,null,"",null,null,""]
[null,"",null,null,null,null,null,null,null,null,null,null,null,null,"",null,null,""]
[null,"",null,null,null,null,null,null,null,null,null,null,null,null,"",null,null,""]
[null,"",null,null,null,null,null,null,null,null,null,null,null,null,"",null,null,""]
[null,"",null,null,null,null,null,null,null,null,null,null,null,null,"",null,null,""]
[null,"",null,null,null,null,null,null,null,null,null,null,null,null,"",null,null,""]
[null,"",null,null,null,null,null,null,null,null,null,null,null,null,"",null,null,""]
[null,"",null,null,null,null,null,null,null,null,null,null,null,null,"",null,null,""]
[null,"",null,null,null,null,null,null,null,null,null,null,null,null,"",null,null,""]
[null,"",null,null,null,null,null,null,null,null,null,null,null,null,"",null,null,""]
[null,"",null,null,null,null,null,null,null,null,null,null,null,null,"",null,null,""]
[null,"",null,null,null,null,null,null,null,null,null,null,null,null,"",null,null,""]
[null,"",null,null,null,null,null,null,null,null,null,null,null,null,"",null,null,""]
[null,"",null,null,null,null,null,null,null,null,null,null,null,null,"",null,null,""]
[null,"",null,null,null,null,null,null,null,null,null,null,null,null,"",null,null,""]
[null,"",null,null,null,null,null,null,null,null,null,null,null,null,"",null,null,""]
[null,"",null,null,null,null,null,null,null,null,null,null,null,null,"",null,null,""]
[null,"",null,null,null,null,null,null,null,null,null,null,null,null,"",null,null,""]
[null,"",null,null,null,null,null,null,null,null,null,null,null,null,""]
[null,"",null,null,null,null,null,null,null,null,null,null,null,null,""]
[null,"",null,null,null,null,null,null,null,null,null,null,null,null,""]
[null,"",null,null,null,null,null,null,null,null,null,null,null,null,""]
[null,"",null,null,null,null,null,null,null,null,null,null,null,null,""]
[null,"",null,null,null,null,null,null,null,null,null,null,null,null,""]
[null,"",null,null,null,null,null,null,null,null,null,null,null,null,""]
[null,"",null,null,null,null,null,null,null,null,null,null,null,null,""]
[null,"",null,null,null,null,null,null,null,null,null,null,null,null,""]
[null,"",null,null,null,null,null,null,null,null,null,null,null,null,""]
[null,"",null,null,null,null,null,null,null,null,null,null,null,null,""]
[null,"",null,null,null,null,null,null,null,null,null,null,null,null,""]
[null,"",null,null,null,null,null,null,null,null,null,null,null,null,""]
[null,"",null,null,null,null,null,null,null,null,null,null,null,null,""]
[null,"",null,null,null,null,null,null,null,null,null,null,null,null,""]
[null,"",null,null,null,null,null,null,null,null,null,null,null,null,""]
[null,"",null,null,null,null,null,null,null,null,null,null,null,null,""]
[null,"",null,null,null,null,null,null,null,null,null,null,null,null,""]
[null,"",null,null,null,null,null,null,null,null,null,null,null,null,""]
[null,"",null,null,null,null,null,null,null,null,null,null,null,null,""]
[null,"",null,null,null,null,null,null,null,null,null,null,null,null,""]
[null,"",null,null,null,null,null,null,null,null,null,null,null,null,""]
[null,"",null,null,null,null,null,null,null,null,null,null,null,null,""]
[null,"",null,null,null,null,null,null,null,null,null,null,null,null,""]
[null,"",null,null,null,null,null,null,null,null,null,null,null,null,""]
[null,"",null,null,null,null,null,null,null,null,null,null,null,null,""]
[null,"",null,null,null,null,null,null,null,null,null,null,null,null,""]
[null,"",null,null,null,null,null,null,null,null,null,null,null,null,""]
[null,"",null,null,null,null,null,null,null,null,null,null,null,null,""]
[null,"",null,null,null,null,null,null,null,null,null,null,null,null,""]
[null,"",null,null,null,null,null,null,null,null,null,null,null,null,""]
[null,"",null,null,null,null,null,null,null,null,null,null,null,null,""]
[null,"",null,null,null,null,null,null,null,null,null,null,null,null,""]
[null,"",null,null,null,null,null,null,null,null,null,null,null,null,""]
[null,"",null,null,null,null,null,null,null,null,null,null,null,null,""]
[null,"",null,null,null,null,null,null,null,null,null,null,null,null,""]
[null,"",null,null,null,null,null,null,null,null,null,null,null,null,""]
[null,"",null,null,null,null,null,null,null,null,null,null,null,null,""]
[null,"",null,null,null,null,null,null,null,null,null,null,null,null,""]
[null,"",null,null,null,null,null,null,null,null,null,null,null,null,""]
[null,"",null,null,null,null,null,null,null,null,null,null,null,null,""]
[null,"",null,null,null,null,null,null,null,null,null,null,null,null,""]
[null,"",null,null,null,null,null,null,null,null,null,null,null,null,""]
[null,"",null,null,null,null,null,null,null,null,null,null,null,null,""]
[null,"",null,null,null,null,null,null,null,null,null,null,null,null,""]
[null,"",null,null,null,null,null,null,null,null,null,null,null,null,""]
[null,"",null,null,null,null,null,null,null,null,null,null,null,null,""]
[null,"",null,null,null,null,null,null,null,null,null,null,null,null,""]
[null,"",null,null,null,null,null,null,null,null,null,null,null,null,""]
[null,"",null,null,null,null,null,null,null,null,null,null,null,null,""]
[null,"",null,null,null,null,null,null,null,null,null,null,null,null,""]
[null,"",null,null,null,null,null,null,null,null,null,null,null,null,""]
[null,"",null,null,null,null,null,null,null,null,null,null,null,null,""]
[null,"",null,null,null,null,null,null,null,null,null,null,null,null,""]
[null,"",null,null,null,null,null,null,null,null,null,null,null,null,""]
[null,"",null,null,null,null,null,null,null,null,null,null,null,null,""]
[null,"",null,null,null,null,null,null,null,null,null,null,null,null,""]
[null,"",null,null,null,null,null,null,null,null,null,null,null,null,""]
[null,"",null,null,null,null,null,null,null,null,null,null,null,null,""]
[null,"",null,null,null,null,null,null,null,null,null,null,null,null,""]
[null,"",null,null,null,null,null,null,null,null,null,null,null,null,""]
[null,"",null,null,null,null,null,null,null,null,null,null,null,null,""]
[null,"",null,null,null,null,null,null,null,null,null,null,null,null,""]
[null,"",null,null,null,null,null,null,null,null,null,null,null,null,""]
[null,"",null,null,null,null,null,null,null,null,null,null,null,null,""]
[null,"",null,null,null,null,null,null,null,null,null,null,null,null,""]
[null,"",null,null,null,null,null,null,null,null,null,null,null,null,""]
[null,"",null,null,null,null,null,null,null,null,null,null,null,null,""]
[null,"",null,null,null,null,null,null,null,null,null,null,null,null,""]
[null,"",null,null,null,null,null,null,null,null,null,null,null,null,""]
[null,"",null,null,null,null,null,null,null,null,null,null,null,null,""]
[null,"",null,null,null,null,null,null,null,null,null,null,null,null,""]
[null,"",null,null,null,null,null,null,null,null,null,null,null,null,""]
[null,"",null,null,null,null,null,null,null,null,null,null,null,null,""]
[null,"",null,null,null,null,null,null,null,null,null,null,null,null,""]
[null,"",null,null,null,null,null,null,null,null,null,null,null,null,""]
[null,"",null,null,null,null,null,null,null,null,null,null,null,null,""]
[null,"",null,null,null,null,null,null,null,null,null,null,null,null,""]
[null,"",null,null,null,null,null,null,null,null,null,null,null,null,""]
[null,"",null,null,null,null,null,null,null,null,null,null,null,null,""]
[null,"",null,null,null,null,null,null,null,null,null,null,null,null,""]
[null,"",null,null,null,null,null,null,null,null,null,null,null,null,""]
[null,"",null,null,null,null,null,null,null,null,null,null,null,null,""]
[null,"",null,null,null,null,null,null,null,null,null,null,null,null,""]
[null,"",null,null,null,null,null,null,null,null,null,null,null,null,""]
[null,"",null,null,null,null,null,null,null,null,null,null,null,null,""]
[null,"",null,null,null,null,null,null,null,null,null,null,null,null,""]
[null,"",null,null,null,null,null,null,null,null,null,null,null,null,""]
[null,"",null,null,null,null,null,null,null,null,null,null,null,null,""]
[null,"",null,null,null,null,null,null,null,null,null,null,null,null,""]
[null,"",null,null,null,null,null,null,null,null,null,null,null,null,""]
[null,"",null,null,null,null,null,null,null,null,null,null,null,null,""]
[null,"",null,null,null,null,null,null,null,null,null,null,null,null,""]
[null,"",null,null,null,null,null,null,null,null,null,null,null,null,""]
[null,"",null,null,null,null,null,null,null,null,null,null,null,null,""]
[null,"",null,null,null,null,null,null,null,null,null,null,null,null,""]
[null,"",null,null,null,null,null,null,null,null,null,null,null,null,""]
[null,"",null,null,null,null,null,null,null,null,null,null,null,null,""]
[null,"",null,null,null,null,null,null,null,null,null,null,null,null,""]
[null,"",null,null,null,null,null,null,null,null,null,null,null,null,""]
[null,"",null,null,null,null,null,null,null,null,null,null,null,null,""]
[null,"",null,null,null,null,null,null,null,null,null,null,null,null,""]
[null,"",null,null,null,null,null,null,null,null,null,null,null,null,""]
[null,"",null,null,null,null,null,null,null,null,null,null,null,null,""]
[null,"",null,null,null,null,null,null,null,null,null,null,null,null,""]
[null,"",null,null,null,null,null,null,null,null,null,null,null,null,""]
[null,"",null,null,null,null,null,null,null,null,null,null,null,null,""]
[null,"",null,null,null,null,null,null,null,null,null,null,null,null,""]
[null,"",null,null,null,null,null,null,null,null,null,null,null,null,""]
[null,"",null,null,null,null,null,null,null,null,null,null,null,null,""]
[null,"",null,null,null,null,null,null,null,null,null,null,null,null,""]
[null,"",null,null,null,null,null,null,null,null,null,null,null,null,""]
[null,"",null,null,null,null,null,null,null,null,null,null,null,null,""]
[null,"",null,null,null,null,null,null,null,null,null,null,null,null,""]
[null,"",null,null,null,null,null,null,null,null,null,null,null,null,""]
[null,"",null,null,null,null,null,null,null,null,null,null,null,null,""]
[null,"",null,null,null,null,null,null,null,null,null,null,null,null,""]
[null,"",null,null,null,null,null,null,null,null,null,null,null,null,""]
[null,"",null,null,null,null,null,null,null,null,null,null,null,null,""]
[null,"",null,null,null,null,null,null,null,null,null,null,null,null,""]
[null,"",null,null,null,null,null,null,null,null,null,null,null,null,""]
[null,"",null,null,null,null,null,null,null,null,null,null,null,null,""]
[null,"",null,null,null,null,null,null,null,null,null,null,null,null,""]
[null,"",null,null,null,null,null,null,null,null,null,null,null,null,""]
[null,"",null,null,null,null,null,null,null,null,null,null,null,null,""]
[null,"",null,null,null,null,null,null,null,null,null,null,null,null,""]
[null,"",null,null,null,null,null,null,null,null,null,null,null,null,""]
[null,"",null,null,null,null,null,null,null,null,null,null,null,null,""]
[null,"",null,null,null,null,null,null,null,null,null,null,null,null,""]
[null,"",null,null,null,null,null,null,null,null,null,null,null,null,""]
[null,"",null,null,null,null,null,null,null,null,null,null,null,null,""]
[null,"",null,null,null,null,null,null,null,null,null,null,null,null,""]
[null,"",null,null,null,null,null,null,null,null,null,null,null,null,""]
[null,"",null,null,null,null,null,null,null,null,null,null,null,null,""]
[null,"",null,null,null,null,null,null,null,null,null,null,null,null,""]
[null,"",null,null,null,null,null,null,null,null,null,null,null,null,""]
[null,"",null,null,null,null,null,null,null,null,null,null,null,null,""]
[null,"",null,null,null,null,null,null,null,null,null,null,null,null,""]
[null,"",null,null,null,null,null,null,null,null,null,null,null,null,""]
[null,"",null,null,null,null,null,null,null,null,null,null,null,null,""]
[null,"",null,null,null,null,null,null,null,null,null,null,null,null,""]
[null,"",null,null,null,null,null,null,null,null,null,null,null,null,""]
[null,"",null,null,null,null,null,null,null,null,null,null,null,null,""]
[null,"",null,null,null,null,null,null,null,null,null,null,null,null,""]
[null,"",null,null,null,null,null,null,null,null,null,null,null,null,""]
[null,"",null,null,null,null,null,null,null,null,null,null,null,null,""]
[null,"",null,null,null,null,null,null,null,null,null,null,null,null,""]
[null,"",null,null,null,null,null,null,null,null,null,null,null,null,""]
[null,"",null,null,null,null,null,null,null,null,null,null,null,null,""]
[null,"",null,null,null,null,null,null,null,null,null,null,null,null,""]
[null,"",null,null,null,null,null,null,null,null,null,null,null,null,""]
[null,"",null,null,null,null,null,null,null,null,null,null,null,null,""]
[null,"",null,null,null,null,null,null,null,null,null,null,null,null,""]
[null,"",null,null,null,null,null,null,null,null,null,null,null,null,""]
[null,"",null,null,null,null,null,null,null,null,null,null,null,null,""]
[null,"",null,null,null,null,null,null,null,null,null,null,null,null,""]
[null,"",null,null,null,null,null,null,null,null,null,null,null,null,""]
[null,"",null,null,null,null,null,null,null,null,null,null,null,null,""]
[null,"",null,null,null,null,null,null,null,null,null,null,null,null,""]
[null,"",null,null,null,null,null,null,null,null,null,null,null,null,""]
[null,"",null,null,null,null,null,null,null,null,null,null,null,null,""]
[null,"",null,null,null,null,null,null,null,null,null,null,null,null,""]
[null,"",null,null,null,null,null,null,null,null,null,null,null,null,""]
[null,"",null,null,null,null,null,null,null,null,null,null,null,null,""]
[null,"",null,null,null,null,null,null,null,null,null,null,null,null,""]
[null,"",null,null,null,null,null,null,null,null,null,null,null,null,""]
[null,"",null,null,null,null,null,null,null,null,null,null,null,null,""]
[null,"",null,null,null,null,null,null,null,null,null,null,null,null,""]
[null,"",null,null,null,null,null,null,null,null,null,null,null,null,""]
[null,"",null,null,null,null,null,null,null,null,null,null,null,null,""]
[null,"",null,null,null,null,null,null,null,null,null,null,null,null,""]
[null,"",null,null,null,null,null,null,null,null,null,null,null,null,""]
[null,"",null,null,null,null,null,null,null,null,null,null,null,null,""]
[null,"",null,null,null,null,null,null,null,null,null,null,null,null,""]
[null,"",null,null,null,null,null,null,null,null,null,null,null,null,""]
[null,"",null,null,null,null,null,null,null,null,null,null,null,null,""]
[null,"",null,null,null,null,null,null,null,null,null,null,null,null,""]
[null,"",null,null,null,null,null,null,null,null,null,null,null,null,""]
[null,"",null,null,null,null,null,null,null,null,null,null,null,null,""]
[null,"",null,null,null,null,null,null,null,null,null,null,null,null,""]
[null,"",null,null,null,null,null,null,null,null,null,null,null,null,""]
[null,"",null,null,null,null,null,null,null,null,null,null,null,null,""]
[null,"",null,null,null,null,null,null,null,null,null,null,null,null,""]
[null,"",null,null,null,null,null,null,null,null,null,null,null,null,""]
[null,"",null,null,null,null,null,null,null,null,null,null,null,null,""]
[null,"",null,null,null,null,null,null,null,null,null,null,null,null,""]
[null,"",null,null,null,null,null,null,null,null,null,null,null,null,""]
[null,"",null,null,null,null,null,null,null,null,null,null,null,null,""]
[null,"",null,null,null,null,null,null,null,null,null,null,null,null,""]
[null,"",null,null,null,null,null,null,null,null,null,null,null,null,""]
[null,"",null,null,null,null,null,null,null,null,null,null,null,null,""]
[null,"",null,null,null,null,null,null,null,null,null,null,null,null,""]
[null,"",null,null,null,null,null,null,null,null,null,null,null,null,""]
[null,"",null,null,null,null,null,null,null,null,null,null,null,null,""]
[null,"",null,null,null,null,null,null,null,null,null,null,null,null,""]
[null,"",null,null,null,null,null,null,null,null,null,null,null,null,""]
[null,"",null,null,null,null,null,null,null,null,null,null,null,null,""]
[null,"",null,null,null,null,null,null,null,null,null,null,null,null,""]
[null,"",null,null,null,null,null,null,null,null,null,null,null,null,""]
[null,"",null,null,null,null,null,null,null,null,null,null,null,null,""]
[null,"",null,null,null,null,null,null,null,null,null,null,null,null,""]
[null,"",null,null,null,null,null,null,null,null,null,null,null,null,""]
[null,"",null,null,null,null,null,null,null,null,null,null,null,null,""]
[null,"",null,null,null,null,null,null,null,null,null,null,null,null,""]
[null,"",null,null,null,null,null,null,null,null,null,null,null,null,""]
[null,"",null,null,null,null,null,null,null,null,null,null,null,null,""]
[null,"",null,null,null,null,null,null,null,null,null,null,null,null,""]
[null,"",null,null,null,null,null,null,null,null,null,null,null,null,""]
[null,"",null,null,null,null,null,null,null,null,null,null,null,null,""]
[null,"",null,null,null,null,null,null,null,null,null,null,null,null,""]
[null,"",null,null,null,null,null,null,null,null,null,null,null,null,""]
[null,"",null,null,null,null,null,null,null,null,null,null,null,null,""]
[null,"",null,null,null,null,null,null,null,null,null,null,null,null,""]
[null,"",null,null,null,null,null,null,null,null,null,null,null,null,""]
[null,"",null,null,null,null,null,null,null,null,null,null,null,null,""]
[null,"",null,null,null,null,null,null,null,null,null,null,null,null,""]
[null,"",null,null,null,null,null,null,null,null,null,null,null,null,""]
[null,"",null,null,null,null,null,null,null,null,null,null,null,null,""]
[null,"",null,null,null,null,null,null,null,null,null,null,null,null,""]
[null,"",null,null,null,null,null,null,null,null,null,null,null,null,""]
[null,"",null,null,null,null,null,null,null,null,null,null,null,null,""]
[null,"",null,null,null,null,null,null,null,null,null,null,null,null,""]
[null,"",null,null,null,null,null,null,null,null,null,null,null,null,""]
[null,"",null,null,null,null,null,null,null,null,null,null,null,null,""]
[null,"",null,null,null,null,null,null,null,null,null,null,null,null,""]
[null,"",null,null,null,null,null,null,null,null,null,null,null,null,""]
[null,"",null,null,null,null,null,null,null,null,null,null,null,null,""]
[null,"",null,null,null,null,null,null,null,null,null,null,null,null,""]
[null,"",null,null,null,null,null,null,null,null,null,null,null,null,""]
[null,"",null,null,null,null,null,null,null,null,null,null,null,null,""]
[null,"",null,null,null,null,null,null,null,null,null,null,null,null,""]
[null,"",null,null,null,null,null,null,null,null,null,null,null,null,""]
[null,"",null,null,null,null,null,null,null,null,null,null,null,null,""]
[null,"",null,null,null,null,null,null,null,null,null,null,null,null,""]
[null,"",null,null,null,null,null,null,null,null,null,null,null,null,""]
[null,"",null,null,null,null,null,null,null,null,null,null,null,null,""]
[null,"",null,null,null,null,null,null,null,null,null,null,null,null,""]
[null,"",null,null,null,null,null,null,null,null,null,null,null,null,""]
[null,"",null,null,null,null,null,null,null,null,null,null,null,null,""]
[null,"",null,null,null,null,null,null,null,null,null,null,null,null,""]
[null,"",null,null,null,null,null,null,null,null,null,null,null,null,""]
[null,"",null,null,null,null,null,null,null,null,null,null,null,null,""]
[null,"",null,null,null,null,null,null,null,null,null,null,null,null,""]
[null,"",null,null,null,null,null,null,null,null,null,null,null,null,""]
[null,"",null,null,null,null,null,null,null,null,null,null,null,null,""]
[null,"",null,null,null,null,null,null,null,null,null,null,null,null,""]
[null,"",null,null,null,null,null,null,null,null,null,null,null,null,""]
[null,"",null,null,null,null,null,null,null,null,null,null,null,null,""]
[null,"",null,null,null,null,null,null,null,null,null,null,null,null,""]
[null,"",null,null,null,null,null,null,null,null,null,null,null,null,""]
[null,"",null,null,null,null,null,null,null,null,null,null,null,null,""]
[null,"",null,null,null,null,null,null,null,null,null,null,null,null,""]
[null,"",null,null,null,null,null,null,null,null,null,null,null,null,""]
[null,"",null,null,null,null,null,null,null,null,null,null,null,null,""]
[null,"",null,null,null,null,null,null,null,null,null,null,null,null,""]
[null,"",null,null,null,null,null,null,null,null,null,null,null,null,""]
[null,"",null,null,null,null,null,null,null,null,null,null,null,null,""]
[null,"",null,null,null,null,null,null,null,null,null,null,null,null,""]
[null,"",null,null,null,null,null,null,null,null,null,null,null,null,""]
[null,"合計",null,null,null,null,null,{"$f":"ROUND(SUM(H25:H324),2)","v":44},null,null,null,null,null,null,{"$f":"ROUND(SUM(O25:O324),0)","v":330}]

{"sheet":"提出様式","index":1,"n_rows":325,"n_cols":15,"rows_kept":325,"cut":false,"hidden":false,"merged":[[1,10,1,14],[22,14,23,14],[22,10,23,10],[22,8,23,8],[22,7,23,7],[4,1,17,14],[22,6,23,6],[22,1,23,1],[22,13,23,13],[22,12,23,12],[22,11,23,11],[22,9,23,9],[22,2,22,3],[22,5,23,5],[22,4,23,4],[20,11,20,12],[20,13,20,14],[21,11,21,12],[21,13,21,14]]}
[]
[null,null,null,null,null,null,null,null,null,"応募者","○○株式会社"]
[]
[]
[null,"（１）ＣＯ２吸収量の算定方法\n　　以下のいずれかの方法にチェックを記載\n　　　Ａ 「森林による二酸化炭素吸収量の算定方法について」（令和３年12月27日付３林政企第60号林野庁長官通知）\n        に基づく算定方法\n　　　　ａ １年間に森林が吸収するＣＯ２量の簡便な算定方法\n　　　　　□ア　簡易な方法\n　　　　　☑イ　精緻な方法\n　　　□ｂ 再造林・保育を行うことにより森林に吸収されるＣＯ２量の増加分の算定方法\n　　　□ｃ 森林の育成により保持される土壌炭素量（ＣＯ２換算）の算定方法\n    □Ｂ 都府県による二酸化炭素吸収量認証制度に基づく算定方法\n    □Ｃ 国有林における「法人の森林」における環境貢献度評価に基づく算定方法"]
[]
[]
[]
[]
[]
[]
[]
[]
[]
[]
[]
[]
[]
[]
[null,"（２）森林整備の詳細"]
[null,null,null,null,null,null,null,null,null,null,null,"面積合計",null,{"$f":"H325","v":0}]
[null,null,null,null,null,null,null,null,null,null,null,"吸収量合計",null,{"$f":"O325","v":0}]
[null,"番号","森林の所在地",null,"所有形態","整備\n年度","主な\n整備内容","面積","樹種","その他の\n樹種","林齢","ha当り\n立木本数","樹高","平均\n直径","年間ＣＯ２\n吸収量"]
[null,null,"都道府県","市町村以下"]
[null,{"$f":"IF(C25=\"\",\"\",1)","v":""},null,null,null,null,null,null,null,null,null,null,null,null,{"$f":"IF(計算明細表!O9=\"\",\"\",計算明細表!O9)","v":""}]
[null,{"$f":"IF(C26=\"\",\"\",SUM(B25+1))","v":""},null,null,null,null,null,null,null,null,null,null,null,null,{"$f":"IF(計算明細表!O10=\"\",\"\",計算明細表!O10)","v":""}]
[null,{"$f":"IF(C27=\"\",\"\",SUM(B26+1))","v":""},null,null,null,null,null,null,null,null,null,null,null,null,{"$f":"IF(計算明細表!O11=\"\",\"\",計算明細表!O11)","v":""}]
[null,"",null,null,null,null,null,null,null,null,null,null,null,null,{"$f":"IF(計算明細表!O12=\"\",\"\",計算明細表!O12)","v":""}]
[null,"",null,null,null,null,null,null,null,null,null,null,null,null,{"$f":"IF(計算明細表!O13=\"\",\"\",計算明細表!O13)","v":""}]
[null,"",null,null,null,null,null,null,null,null,null,null,null,null,{"$f":"IF(計算明細表!O14=\"\",\"\",計算明細表!O14)","v":""}]
[null,{"$f":"IF(C31=\"\",\"\",SUM(B30+1))","v":""},null,null,null,null,null,null,null,null,null,null,null,null,{"$f":"IF(計算明細表!O15=\"\",\"\",計算明細表!O15)","v":""}]
[null,"",null,null,null,null,null,null,null,null,null,null,null,null,{"$f":"IF(計算明細表!O16=\"\",\"\",計算明細表!O16)","v":""}]
[null,"",null,null,null,null,null,null,null,null,null,null,null,null,{"$f":"IF(計算明細表!O17=\"\",\"\",計算明細表!O17)","v":""}]
[null,"",null,null,null,null,null,null,null,null,null,null,null,null,{"$f":"IF(計算明細表!O18=\"\",\"\",計算明細表!O18)","v":""}]
[null,{"$f":"IF(C35=\"\",\"\",SUM(B34+1))","v":""},null,null,null,null,null,null,null,null,null,null,null,null,{"$f":"IF(計算明細表!O19=\"\",\"\",計算明細表!O19)","v":""}]
[null,{"$f":"IF(C36=\"\",\"\",SUM(B35+1))","v":""},null,null,null,null,null,null,null,null,null,null,null,null,{"$f":"IF(計算明細表!O20=\"\",\"\",計算明細表!O20)","v":""}]
[null,"",null,null,null,null,null,null,null,null,null,null,null,null,{"$f":"IF(計算明細表!O21=\"\",\"\",計算明細表!O21)","v":""}]
[null,"",null,null,null,null,null,null,null,null,null,null,null,null,{"$f":"IF(計算明細表!O22=\"\",\"\",計算明細表!O22)","v":""}]
[null,"",null,null,null,null,null,null,null,null,null,null,null,null,{"$f":"IF(計算明細表!O23=\"\",\"\",計算明細表!O23)","v":""}]
[null,"",null,null,null,null,null,null,null,null,null,null,null,null,{"$f":"IF(計算明細表!O24=\"\",\"\",計算明細表!O24)","v":""}]
[null,"",null,null,null,null,null,null,null,null,null,null,null,null,{"$f":"IF(計算明細表!O25=\"\",\"\",計算明細表!O25)","v":""}]
[null,"",null,null,null,null,null,null,null,null,null,null,null,null,{"$f":"IF(計算明細表!O26=\"\",\"\",計算明細表!O26)","v":""}]
[null,"",null,null,null,null,null,null,null,null,null,null,null,null,{"$f":"IF(計算明細表!O27=\"\",\"\",計算明細表!O27)","v":""}]
[null,"",null,null,null,null,null,null,null,null,null,null,null,null,{"$f":"IF(計算明細表!O28=\"\",\"\",計算明細表!O28)","v":""}]
[null,"",null,null,null,null,null,null,null,null,null,null,null,null,{"$f":"IF(計算明細表!O29=\"\",\"\",計算明細表!O29)","v":""}]
[null,"",null,null,null,null,null,null,null,null,null,null,null,null,{"$f":"IF(計算明細表!O30=\"\",\"\",計算明細表!O30)","v":""}]
[null,"",null,null,null,null,null,null,null,null,null,null,null,null,{"$f":"IF(計算明細表!O31=\"\",\"\",計算明細表!O31)","v":""}]
[null,"",null,null,null,null,null,null,null,null,null,null,null,null,{"$f":"IF(計算明細表!O32=\"\",\"\",計算明細表!O32)","v":""}]
[null,"",null,null,null,null,null,null,null,null,null,null,null,null,{"$f":"IF(計算明細表!O33=\"\",\"\",計算明細表!O33)","v":""}]
[null,"",null,null,null,null,null,null,null,null,null,null,null,null,{"$f":"IF(計算明細表!O34=\"\",\"\",計算明細表!O34)","v":""}]
[null,"",null,null,null,null,null,null,null,null,null,null,null,null,{"$f":"IF(計算明細表!O35=\"\",\"\",計算明細表!O35)","v":""}]
[null,"",null,null,null,null,null,null,null,null,null,null,null,null,{"$f":"IF(計算明細表!O36=\"\",\"\",計算明細表!O36)","v":""}]
[null,"",null,null,null,null,null,null,null,null,null,null,null,null,{"$f":"IF(計算明細表!O37=\"\",\"\",計算明細表!O37)","v":""}]
[null,"",null,null,null,null,null,null,null,null,null,null,null,null,{"$f":"IF(計算明細表!O38=\"\",\"\",計算明細表!O38)","v":""}]
[null,"",null,null,null,null,null,null,null,null,null,null,null,null,{"$f":"IF(計算明細表!O39=\"\",\"\",計算明細表!O39)","v":""}]
[null,"",null,null,null,null,null,null,null,null,null,null,null,null,{"$f":"IF(計算明細表!O40=\"\",\"\",計算明細表!O40)","v":""}]
[null,"",null,null,null,null,null,null,null,null,null,null,null,null,{"$f":"IF(計算明細表!O41=\"\",\"\",計算明細表!O41)","v":""}]
[null,"",null,null,null,null,null,null,null,null,null,null,null,null,{"$f":"IF(計算明細表!O42=\"\",\"\",計算明細表!O42)","v":""}]
[null,"",null,null,null,null,null,null,null,null,null,null,null,null,{"$f":"IF(計算明細表!O43=\"\",\"\",計算明細表!O43)","v":""}]
[null,"",null,null,null,null,null,null,null,null,null,null,null,null,{"$f":"IF(計算明細表!O44=\"\",\"\",計算明細表!O44)","v":""}]
[null,"",null,null,null,null,null,null,null,null,null,null,null,null,{"$f":"IF(計算明細表!O45=\"\",\"\",計算明細表!O45)","v":""}]
[null,"",null,null,null,null,null,null,null,null,null,null,null,null,{"$f":"IF(計算明細表!O46=\"\",\"\",計算明細表!O46)","v":""}]
[null,"",null,null,null,null,null,null,null,null,null,null,null,null,{"$f":"IF(計算明細表!O47=\"\",\"\",計算明細表!O47)","v":""}]
[null,"",null,null,null,null,null,null,null,null,null,null,null,null,{"$f":"IF(計算明細表!O48=\"\",\"\",計算明細表!O48)","v":""}]
[null,"",null,null,null,null,null,null,null,null,null,null,null,null,{"$f":"IF(計算明細表!O49=\"\",\"\",計算明細表!O49)","v":""}]
[null,"",null,null,null,null,null,null,null,null,null,null,null,null,{"$f":"IF(計算明細表!O50=\"\",\"\",計算明細表!O50)","v":""}]
[null,"",null,null,null,null,null,null,null,null,null,null,null,null,{"$f":"IF(計算明細表!O51=\"\",\"\",計算明細表!O51)","v":""}]
[null,"",null,null,null,null,null,null,null,null,null,null,null,null,{"$f":"IF(計算明細表!O52=\"\",\"\",計算明細表!O52)","v":""}]
[null,"",null,null,null,null,null,null,null,null,null,null,null,null,{"$f":"IF(計算明細表!O53=\"\",\"\",計算明細表!O53)","v":""}]
[null,"",null,null,null,null,null,null,null,null,null,null,null,null,{"$f":"IF(計算明細表!O54=\"\",\"\",計算明細表!O54)","v":""}]
[null,"",null,null,null,null,null,null,null,null,null,null,null,null,{"$f":"IF(計算明細表!O55=\"\",\"\",計算明細表!O55)","v":""}]
[null,"",null,null,null,null,null,null,null,null,null,null,null,null,{"$f":"IF(計算明細表!O56=\"\",\"\",計算明細表!O56)","v":""}]
[null,"",null,null,null,null,null,null,null,null,null,null,null,null,{"$f":"IF(計算明細表!O57=\"\",\"\",計算明細表!O57)","v":""}]
[null,"",null,null,null,null,null,null,null,null,null,null,null,null,{"$f":"IF(計算明細表!O58=\"\",\"\",計算明細表!O58)","v":""}]
[null,"",null,null,null,null,null,null,null,null,null,null,null,null,{"$f":"IF(計算明細表!O59=\"\",\"\",計算明細表!O59)","v":""}]
[null,"",null,null,null,null,null,null,null,null,null,null,null,null,{"$f":"IF(計算明細表!O60=\"\",\"\",計算明細表!O60)","v":""}]
[null,"",null,null,null,null,null,null,null,null,null,null,null,null,{"$f":"IF(計算明細表!O61=\"\",\"\",計算明細表!O61)","v":""}]
[null,"",null,null,null,null,null,null,null,null,null,null,null,null,{"$f":"IF(計算明細表!O62=\"\",\"\",計算明細表!O62)","v":""}]
[null,"",null,null,null,null,null,null,null,null,null,null,null,null,{"$f":"IF(計算明細表!O63=\"\",\"\",計算明細表!O63)","v":""}]
[null,"",null,null,null,null,null,null,null,null,null,null,null,null,{"$f":"IF(計算明細表!O64=\"\",\"\",計算明細表!O64)","v":""}]
[null,"",null,null,null,null,null,null,null,null,null,null,null,null,{"$f":"IF(計算明細表!O65=\"\",\"\",計算明細表!O65)","v":""}]
[null,"",null,null,null,null,null,null,null,null,null,null,null,null,{"$f":"IF(計算明細表!O66=\"\",\"\",計算明細表!O66)","v":""}]
[null,"",null,null,null,null,null,null,null,null,null,null,null,null,{"$f":"IF(計算明細表!O67=\"\",\"\",計算明細表!O67)","v":""}]
[null,"",null,null,null,null,null,null,null,null,null,null,null,null,{"$f":"IF(計算明細表!O68=\"\",\"\",計算明細表!O68)","v":""}]
[null,"",null,null,null,null,null,null,null,null,null,null,null,null,{"$f":"IF(計算明細表!O69=\"\",\"\",計算明細表!O69)","v":""}]
[null,"",null,null,null,null,null,null,null,null,null,null,null,null,{"$f":"IF(計算明細表!O70=\"\",\"\",計算明細表!O70)","v":""}]
[null,"",null,null,null,null,null,null,null,null,null,null,null,null,{"$f":"IF(計算明細表!O71=\"\",\"\",計算明細表!O71)","v":""}]
[null,"",null,null,null,null,null,null,null,null,null,null,null,null,{"$f":"IF(計算明細表!O72=\"\",\"\",計算明細表!O72)","v":""}]
[null,"",null,null,null,null,null,null,null,null,null,null,null,null,{"$f":"IF(計算明細表!O73=\"\",\"\",計算明細表!O73)","v":""}]
[null,"",null,null,null,null,null,null,null,null,null,null,null,null,{"$f":"IF(計算明細表!O74=\"\",\"\",計算明細表!O74)","v":""}]
[null,"",null,null,null,null,null,null,null,null,null,null,null,null,{"$f":"IF(計算明細表!O75=\"\",\"\",計算明細表!O75)","v":""}]
[null,"",null,null,null,null,null,null,null,null,null,null,null,null,{"$f":"IF(計算明細表!O76=\"\",\"\",計算明細表!O76)","v":""}]
[null,"",null,null,null,null,null,null,null,null,null,null,null,null,{"$f":"IF(計算明細表!O77=\"\",\"\",計算明細表!O77)","v":""}]
[null,"",null,null,null,null,null,null,null,null,null,null,null,null,{"$f":"IF(計算明細表!O78=\"\",\"\",計算明細表!O78)","v":""}]
[null,"",null,null,null,null,null,null,null,null,null,null,null,null,{"$f":"IF(計算明細表!O79=\"\",\"\",計算明細表!O79)","v":""}]
[null,"",null,null,null,null,null,null,null,null,null,null,null,null,{"$f":"IF(計算明細表!O80=\"\",\"\",計算明細表!O80)","v":""}]
[null,"",null,null,null,null,null,null,null,null,null,null,null,null,{"$f":"IF(計算明細表!O81=\"\",\"\",計算明細表!O81)","v":""}]
[null,"",null,null,null,null,null,null,null,null,null,null,null,null,{"$f":"IF(計算明細表!O82=\"\",\"\",計算明細表!O82)","v":""}]
[null,"",null,null,null,null,null,null,null,null,null,null,null,null,{"$f":"IF(計算明細表!O83=\"\",\"\",計算明細表!O83)","v":""}]
[null,{"$f":"IF(C100=\"\",\"\",SUM(B99+1))","v":""},null,null,null,null,null,null,null,null,null,null,null,null,{"$f":"IF(計算明細表!O84=\"\",\"\",計算明細表!O84)","v":""}]
[null,"",null,null,null,null,null,null,null,null,null,null,null,null,{"$f":"IF(計算明細表!O85=\"\",\"\",計算明細表!O85)","v":""}]
[null,"",null,null,null,null,null,null,null,null,null,null,null,null,{"$f":"IF(計算明細表!O86=\"\",\"\",計算明細表!O86)","v":""}]
[null,"",null,null,null,null,null,null,null,null,null,null,null,null,{"$f":"IF(計算明細表!O87=\"\",\"\",計算明細表!O87)","v":""}]
[null,"",null,null,null,null,null,null,null,null,null,null,null,null,{"$f":"IF(計算明細表!O88=\"\",\"\",計算明細表!O88)","v":""}]
[null,"",null,null,null,null,null,null,null,null,null,null,null,null,{"$f":"IF(計算明細表!O89=\"\",\"\",計算明細表!O89)","v":""}]
[null,"",null,null,null,null,null,null,null,null,null,null,null,null,{"$f":"IF(計算明細表!O90=\"\",\"\",計算明細表!O90)","v":""}]
[null,"",null,null,null,null,null,null,null,null,null,null,null,null,{"$f":"IF(計算明細表!O91=\"\",\"\",計算明細表!O91)","v":""}]
[null,"",null,null,null,null,null,null,null,null,null,null,null,null,{"$f":"IF(計算明細表!O92=\"\",\"\",計算明細表!O92)","v":""}]
[null,"",null,null,null,null,null,null,null,null,null,null,null,null,{"$f":"IF(計算明細表!O93=\"\",\"\",計算明細表!O93)","v":""}]
[null,"",null,null,null,null,null,null,null,null,null,null,null,null,{"$f":"IF(計算明細表!O94=\"\",\"\",計算明細表!O94)","v":""}]
[null,"",null,null,null,null,null,null,null,null,null,null,null,null,{"$f":"IF(計算明細表!O95=\"\",\"\",計算明細表!O95)","v":""}]
[null,"",null,null,null,null,null,null,null,null,null,null,null,null,{"$f":"IF(計算明細表!O96=\"\",\"\",計算明細表!O96)","v":""}]
[null,"",null,null,null,null,null,null,null,null,null,null,null,null,{"$f":"IF(計算明細表!O97=\"\",\"\",計算明細表!O97)","v":""}]
[null,"",null,null,null,null,null,null,null,null,null,null,null,null,{"$f":"IF(計算明細表!O98=\"\",\"\",計算明細表!O98)","v":""}]
[null,"",null,null,null,null,null,null,null,null,null,null,null,null,{"$f":"IF(計算明細表!O99=\"\",\"\",計算明細表!O99)","v":""}]
[null,"",null,null,null,null,null,null,null,null,null,null,null,null,{"$f":"IF(計算明細表!O100=\"\",\"\",計算明細表!O100)","v":""}]
[null,"",null,null,null,null,null,null,null,null,null,null,null,null,{"$f":"IF(計算明細表!O101=\"\",\"\",計算明細表!O101)","v":""}]
[null,"",null,null,null,null,null,null,null,null,null,null,null,null,{"$f":"IF(計算明細表!O102=\"\",\"\",計算明細表!O102)","v":""}]
[null,"",null,null,null,null,null,null,null,null,null,null,null,null,{"$f":"IF(計算明細表!O103=\"\",\"\",計算明細表!O103)","v":""}]
[null,"",null,null,null,null,null,null,null,null,null,null,null,null,{"$f":"IF(計算明細表!O104=\"\",\"\",計算明細表!O104)","v":""}]
[null,"",null,null,null,null,null,null,null,null,null,null,null,null,{"$f":"IF(計算明細表!O105=\"\",\"\",計算明細表!O105)","v":""}]
[null,"",null,null,null,null,null,null,null,null,null,null,null,null,{"$f":"IF(計算明細表!O106=\"\",\"\",計算明細表!O106)","v":""}]
[null,"",null,null,null,null,null,null,null,null,null,null,null,null,{"$f":"IF(計算明細表!O107=\"\",\"\",計算明細表!O107)","v":""}]
[null,"",null,null,null,null,null,null,null,null,null,null,null,null,{"$f":"IF(計算明細表!O108=\"\",\"\",計算明細表!O108)","v":""}]
[null,"",null,null,null,null,null,null,null,null,null,null,null,null,{"$f":"IF(計算明細表!O109=\"\",\"\",計算明細表!O109)","v":""}]
[null,"",null,null,null,null,null,null,null,null,null,null,null,null,{"$f":"IF(計算明細表!O110=\"\",\"\",計算明細表!O110)","v":""}]
[null,"",null,null,null,null,null,null,null,null,null,null,null,null,{"$f":"IF(計算明細表!O111=\"\",\"\",計算明細表!O111)","v":""}]
[null,"",null,null,null,null,null,null,null,null,null,null,null,null,{"$f":"IF(計算明細表!O112=\"\",\"\",計算明細表!O112)","v":""}]
[null,"",null,null,null,null,null,null,null,null,null,null,null,null,{"$f":"IF(計算明細表!O113=\"\",\"\",計算明細表!O113)","v":""}]
[null,"",null,null,null,null,null,null,null,null,null,null,null,null,{"$f":"IF(計算明細表!O114=\"\",\"\",計算明細表!O114)","v":""}]
[null,"",null,null,null,null,null,null,null,null,null,null,null,null,{"$f":"IF(計算明細表!O115=\"\",\"\",計算明細表!O115)","v":""}]
[null,"",null,null,null,null,null,null,null,null,null,null,null,null,{"$f":"IF(計算明細表!O116=\"\",\"\",計算明細表!O116)","v":""}]
[null,"",null,null,null,null,null,null,null,null,null,null,null,null,{"$f":"IF(計算明細表!O117=\"\",\"\",計算明細表!O117)","v":""}]
[null,"",null,null,null,null,null,null,null,null,null,null,null,null,{"$f":"IF(計算明細表!O118=\"\",\"\",計算明細表!O118)","v":""}]
[null,"",null,null,null,null,null,null,null,null,null,null,null,null,{"$f":"IF(計算明細表!O119=\"\",\"\",計算明細表!O119)","v":""}]
[null,"",null,null,null,null,null,null,null,null,null,null,null,null,{"$f":"IF(計算明細表!O120=\"\",\"\",計算明細表!O120)","v":""}]
[null,"",null,null,null,null,null,null,null,null,null,null,null,null,{"$f":"IF(計算明細表!O121=\"\",\"\",計算明細表!O121)","v":""}]
[null,"",null,null,null,null,null,null,null,null,null,null,null,null,{"$f":"IF(計算明細表!O122=\"\",\"\",計算明細表!O122)","v":""}]
[null,"",null,null,null,null,null,null,null,null,null,null,null,null,{"$f":"IF(計算明細表!O123=\"\",\"\",計算明細表!O123)","v":""}]
[null,"",null,null,null,null,null,null,null,null,null,null,null,null,{"$f":"IF(計算明細表!O124=\"\",\"\",計算明細表!O124)","v":""}]
[null,"",null,null,null,null,null,null,null,null,null,null,null,null,{"$f":"IF(計算明細表!O125=\"\",\"\",計算明細表!O125)","v":""}]
[null,"",null,null,null,null,null,null,null,null,null,null,null,null,{"$f":"IF(計算明細表!O126=\"\",\"\",計算明細表!O126)","v":""}]
[null,"",null,null,null,null,null,null,null,null,null,null,null,null,{"$f":"IF(計算明細表!O127=\"\",\"\",計算明細表!O127)","v":""}]
[null,"",null,null,null,null,null,null,null,null,null,null,null,null,{"$f":"IF(計算明細表!O128=\"\",\"\",計算明細表!O128)","v":""}]
[null,"",null,null,null,null,null,null,null,null,null,null,null,null,{"$f":"IF(計算明細表!O129=\"\",\"\",計算明細表!O129)","v":""}]
[null,"",null,null,null,null,null,null,null,null,null,null,null,null,{"$f":"IF(計算明細表!O130=\"\",\"\",計算明細表!O130)","v":""}]
[null,"",null,null,null,null,null,null,null,null,null,null,null,null,{"$f":"IF(計算明細表!O131=\"\",\"\",計算明細表!O131)","v":""}]
[null,"",null,null,null,null,null,null,null,null,null,null,null,null,{"$f":"IF(計算明細表!O132=\"\",\"\",計算明細表!O132)","v":""}]
[null,"",null,null,null,null,null,null,null,null,null,null,null,null,{"$f":"IF(計算明細表!O133=\"\",\"\",計算明細表!O133)","v":""}]
[null,"",null,null,null,null,null,null,null,null,null,null,null,null,{"$f":"IF(計算明細表!O134=\"\",\"\",計算明細表!O134)","v":""}]
[null,"",null,null,null,null,null,null,null,null,null,null,null,null,{"$f":"IF(計算明細表!O135=\"\",\"\",計算明細表!O135)","v":""}]
[null,"",null,null,null,null,null,null,null,null,null,null,null,null,{"$f":"IF(計算明細表!O136=\"\",\"\",計算明細表!O136)","v":""}]
[null,"",null,null,null,null,null,null,null,null,null,null,null,null,{"$f":"IF(計算明細表!O137=\"\",\"\",計算明細表!O137)","v":""}]
[null,"",null,null,null,null,null,null,null,null,null,null,null,null,{"$f":"IF(計算明細表!O138=\"\",\"\",計算明細表!O138)","v":""}]
[null,"",null,null,null,null,null,null,null,null,null,null,null,null,{"$f":"IF(計算明細表!O139=\"\",\"\",計算明細表!O139)","v":""}]
[null,"",null,null,null,null,null,null,null,null,null,null,null,null,{"$f":"IF(計算明細表!O140=\"\",\"\",計算明細表!O140)","v":""}]
[null,"",null,null,null,null,null,null,null,null,null,null,null,null,{"$f":"IF(計算明細表!O141=\"\",\"\",計算明細表!O141)","v":""}]
[null,"",null,null,null,null,null,null,null,null,null,null,null,null,{"$f":"IF(計算明細表!O142=\"\",\"\",計算明細表!O142)","v":""}]
[null,"",null,null,null,null,null,null,null,null,null,null,null,null,{"$f":"IF(計算明細表!O143=\"\",\"\",計算明細表!O143)","v":""}]
[null,"",null,null,null,null,null,null,null,null,null,null,null,null,{"$f":"IF(計算明細表!O144=\"\",\"\",計算明細表!O144)","v":""}]
[null,"",null,null,null,null,null,null,null,null,null,null,null,null,{"$f":"IF(計算明細表!O145=\"\",\"\",計算明細表!O145)","v":""}]
[null,"",null,null,null,null,null,null,null,null,null,null,null,null,{"$f":"IF(計算明細表!O146=\"\",\"\",計算明細表!O146)","v":""}]
[null,"",null,null,null,null,null,null,null,null,null,null,null,null,{"$f":"IF(計算明細表!O147=\"\",\"\",計算明細表!O147)","v":""}]
[null,{"$f":"IF(C164=\"\",\"\",SUM(B163+1))","v":""},null,null,null,null,null,null,null,null,null,null,null,null,{"$f":"IF(計算明細表!O148=\"\",\"\",計算明細表!O148)","v":""}]
[null,"",null,null,null,null,null,null,null,null,null,null,null,null,{"$f":"IF(計算明細表!O149=\"\",\"\",計算明細表!O149)","v":""}]
[null,"",null,null,null,null,null,null,null,null,null,null,null,null,{"$f":"IF(計算明細表!O150=\"\",\"\",計算明細表!O150)","v":""}]
[null,"",null,null,null,null,null,null,null,null,null,null,null,null,{"$f":"IF(計算明細表!O151=\"\",\"\",計算明細表!O151)","v":""}]
[null,"",null,null,null,null,null,null,null,null,null,null,null,null,{"$f":"IF(計算明細表!O152=\"\",\"\",計算明細表!O152)","v":""}]
[null,"",null,null,null,null,null,null,null,null,null,null,null,null,{"$f":"IF(計算明細表!O153=\"\",\"\",計算明細表!O153)","v":""}]
[null,"",null,null,null,null,null,null,null,null,null,null,null,null,{"$f":"IF(計算明細表!O154=\"\",\"\",計算明細表!O154)","v":""}]
[null,"",null,null,null,null,null,null,null,null,null,null,null,null,{"$f":"IF(計算明細表!O155=\"\",\"\",計算明細表!O155)","v":""}]
[null,"",null,null,null,null,null,null,null,null,null,null,null,null,{"$f":"IF(計算明細表!O156=\"\",\"\",計算明細表!O156)","v":""}]
[null,"",null,null,null,null,null,null,null,null,null,null,null,null,{"$f":"IF(計算明細表!O157=\"\",\"\",計算明細表!O157)","v":""}]
[null,"",null,null,null,null,null,null,null,null,null,null,null,null,{"$f":"IF(計算明細表!O158=\"\",\"\",計算明細表!O158)","v":""}]
[null,"",null,null,null,null,null,null,null,null,null,null,null,null,{"$f":"IF(計算明細表!O159=\"\",\"\",計算明細表!O159)","v":""}]
[null,"",null,null,null,null,null,null,null,null,null,null,null,null,{"$f":"IF(計算明細表!O160=\"\",\"\",計算明細表!O160)","v":""}]
[null,"",null,null,null,null,null,null,null,null,null,null,null,null,{"$f":"IF(計算明細表!O161=\"\",\"\",計算明細表!O161)","v":""}]
[null,"",null,null,null,null,null,null,null,null,null,null,null,null,{"$f":"IF(計算明細表!O162=\"\",\"\",計算明細表!O162)","v":""}]
[null,"",null,null,null,null,null,null,null,null,null,null,null,null,{"$f":"IF(計算明細表!O163=\"\",\"\",計算明細表!O163)","v":""}]
[null,"",null,null,null,null,null,null,null,null,null,null,null,null,{"$f":"IF(計算明細表!O164=\"\",\"\",計算明細表!O164)","v":""}]
[null,"",null,null,null,null,null,null,null,null,null,null,null,null,{"$f":"IF(計算明細表!O165=\"\",\"\",計算明細表!O165)","v":""}]
[null,"",null,null,null,null,null,null,null,null,null,null,null,null,{"$f":"IF(計算明細表!O166=\"\",\"\",計算明細表!O166)","v":""}]
[null,"",null,null,null,null,null,null,null,null,null,null,null,null,{"$f":"IF(計算明細表!O167=\"\",\"\",計算明細表!O167)","v":""}]
[null,"",null,null,null,null,null,null,null,null,null,null,null,null,{"$f":"IF(計算明細表!O168=\"\",\"\",計算明細表!O168)","v":""}]
[null,"",null,null,null,null,null,null,null,null,null,null,null,null,{"$f":"IF(計算明細表!O169=\"\",\"\",計算明細表!O169)","v":""}]
[null,"",null,null,null,null,null,null,null,null,null,null,null,null,{"$f":"IF(計算明細表!O170=\"\",\"\",計算明細表!O170)","v":""}]
[null,"",null,null,null,null,null,null,null,null,null,null,null,null,{"$f":"IF(計算明細表!O171=\"\",\"\",計算明細表!O171)","v":""}]
[null,"",null,null,null,null,null,null,null,null,null,null,null,null,{"$f":"IF(計算明細表!O172=\"\",\"\",計算明細表!O172)","v":""}]
[null,"",null,null,null,null,null,null,null,null,null,null,null,null,{"$f":"IF(計算明細表!O173=\"\",\"\",計算明細表!O173)","v":""}]
[null,"",null,null,null,null,null,null,null,null,null,null,null,null,{"$f":"IF(計算明細表!O174=\"\",\"\",計算明細表!O174)","v":""}]
[null,"",null,null,null,null,null,null,null,null,null,null,null,null,{"$f":"IF(計算明細表!O175=\"\",\"\",計算明細表!O175)","v":""}]
[null,"",null,null,null,null,null,null,null,null,null,null,null,null,{"$f":"IF(計算明細表!O176=\"\",\"\",計算明細表!O176)","v":""}]
[null,"",null,null,null,null,null,null,null,null,null,null,null,null,{"$f":"IF(計算明細表!O177=\"\",\"\",計算明細表!O177)","v":""}]
[null,"",null,null,null,null,null,null,null,null,null,null,null,null,{"$f":"IF(計算明細表!O178=\"\",\"\",計算明細表!O178)","v":""}]
[null,"",null,null,null,null,null,null,null,null,null,null,null,null,{"$f":"IF(計算明細表!O179=\"\",\"\",計算明細表!O179)","v":""}]
[null,"",null,null,null,null,null,null,null,null,null,null,null,null,{"$f":"IF(計算明細表!O180=\"\",\"\",計算明細表!O180)","v":""}]
[null,"",null,null,null,null,null,null,null,null,null,null,null,null,{"$f":"IF(計算明細表!O181=\"\",\"\",計算明細表!O181)","v":""}]
[null,"",null,null,null,null,null,null,null,null,null,null,null,null,{"$f":"IF(計算明細表!O182=\"\",\"\",計算明細表!O182)","v":""}]
[null,"",null,null,null,null,null,null,null,null,null,null,null,null,{"$f":"IF(計算明細表!O183=\"\",\"\",計算明細表!O183)","v":""}]
[null,"",null,null,null,null,null,null,null,null,null,null,null,null,{"$f":"IF(計算明細表!O184=\"\",\"\",計算明細表!O184)","v":""}]
[null,"",null,null,null,null,null,null,null,null,null,null,null,null,{"$f":"IF(計算明細表!O185=\"\",\"\",計算明細表!O185)","v":""}]
[null,"",null,null,null,null,null,null,null,null,null,null,null,null,{"$f":"IF(計算明細表!O186=\"\",\"\",計算明細表!O186)","v":""}]
[null,"",null,null,null,null,null,null,null,null,null,null,null,null,{"$f":"IF(計算明細表!O187=\"\",\"\",計算明細表!O187)","v":""}]
[null,"",null,null,null,null,null,null,null,null,null,null,null,null,{"$f":"IF(計算明細表!O188=\"\",\"\",計算明細表!O188)","v":""}]
[null,"",null,null,null,null,null,null,null,null,null,null,null,null,{"$f":"IF(計算明細表!O189=\"\",\"\",計算明細表!O189)","v":""}]
[null,"",null,null,null,null,null,null,null,null,null,null,null,null,{"$f":"IF(計算明細表!O190=\"\",\"\",計算明細表!O190)","v":""}]
[null,"",null,null,null,null,null,null,null,null,null,null,null,null,{"$f":"IF(計算明細表!O191=\"\",\"\",計算明細表!O191)","v":""}]
[null,"",null,null,null,null,null,null,null,null,null,null,null,null,{"$f":"IF(計算明細表!O192=\"\",\"\",計算明細表!O192)","v":""}]
[null,"",null,null,null,null,null,null,null,null,null,null,null,null,{"$f":"IF(計算明細表!O193=\"\",\"\",計算明細表!O193)","v":""}]
[null,"",null,null,null,null,null,null,null,null,null,null,null,null,{"$f":"IF(計算明細表!O194=\"\",\"\",計算明細表!O194)","v":""}]
[null,"",null,null,null,null,null,null,null,null,null,null,null,null,{"$f":"IF(計算明細表!O195=\"\",\"\",計算明細表!O195)","v":""}]
[null,"",null,null,null,null,null,null,null,null,null,null,null,null,{"$f":"IF(計算明細表!O196=\"\",\"\",計算明細表!O196)","v":""}]
[null,"",null,null,null,null,null,null,null,null,null,null,null,null,{"$f":"IF(計算明細表!O197=\"\",\"\",計算明細表!O197)","v":""}]
[null,"",null,null,null,null,null,null,null,null,null,null,null,null,{"$f":"IF(計算明細表!O198=\"\",\"\",計算明細表!O198)","v":""}]
[null,"",null,null,null,null,null,null,null,null,null,null,null,null,{"$f":"IF(計算明細表!O199=\"\",\"\",計算明細表!O199)","v":""}]
[null,"",null,null,null,null,null,null,null,null,null,null,null,null,{"$f":"IF(計算明細表!O200=\"\",\"\",計算明細表!O200)","v":""}]
[null,"",null,null,null,null,null,null,null,null,null,null,null,null,{"$f":"IF(計算明細表!O201=\"\",\"\",計算明細表!O201)","v":""}]
[null,"",null,null,null,null,null,null,null,null,null,null,null,null,{"$f":"IF(計算明細表!O202=\"\",\"\",計算明細表!O202)","v":""}]
[null,"",null,null,null,null,null,null,null,null,null,null,null,null,{"$f":"IF(計算明細表!O203=\"\",\"\",計算明細表!O203)","v":""}]
[null,"",null,null,null,null,null,null,null,null,null,null,null,null,{"$f":"IF(計算明細表!O204=\"\",\"\",計算明細表!O204)","v":""}]
[null,"",null,null,null,null,null,null,null,null,null,null,null,null,{"$f":"IF(計算明細表!O205=\"\",\"\",計算明細表!O205)","v":""}]
[null,"",null,null,null,null,null,null,null,null,null,null,null,null,{"$f":"IF(計算明細表!O206=\"\",\"\",計算明細表!O206)","v":""}]
[null,"",null,null,null,null,null,null,null,null,null,null,null,null,{"$f":"IF(計算明細表!O207=\"\",\"\",計算明細表!O207)","v":""}]
[null,"",null,null,null,null,null,null,null,null,null,null,null,null,{"$f":"IF(計算明細表!O208=\"\",\"\",計算明細表!O208)","v":""}]
[null,"",null,null,null,null,null,null,null,null,null,null,null,null,{"$f":"IF(計算明細表!O209=\"\",\"\",計算明細表!O209)","v":""}]
[null,"",null,null,null,null,null,null,null,null,null,null,null,null,{"$f":"IF(計算明細表!O210=\"\",\"\",計算明細表!O210)","v":""}]
[null,"",null,null,null,null,null,null,null,null,null,null,null,null,{"$f":"IF(計算明細表!O211=\"\",\"\",計算明細表!O211)","v":""}]
[null,{"$f":"IF(C228=\"\",\"\",SUM(B227+1))","v":""},null,null,null,null,null,null,null,null,null,null,null,null,{"$f":"IF(計算明細表!O212=\"\",\"\",計算明細表!O212)","v":""}]
[null,"",null,null,null,null,null,null,null,null,null,null,null,null,{"$f":"IF(計算明細表!O213=\"\",\"\",計算明細表!O213)","v":""}]
[null,"",null,null,null,null,null,null,null,null,null,null,null,null,{"$f":"IF(計算明細表!O214=\"\",\"\",計算明細表!O214)","v":""}]
[null,"",null,null,null,null,null,null,null,null,null,null,null,null,{"$f":"IF(計算明細表!O215=\"\",\"\",計算明細表!O215)","v":""}]
[null,"",null,null,null,null,null,null,null,null,null,null,null,null,{"$f":"IF(計算明細表!O216=\"\",\"\",計算明細表!O216)","v":""}]
[null,"",null,null,null,null,null,null,null,null,null,null,null,null,{"$f":"IF(計算明細表!O217=\"\",\"\",計算明細表!O217)","v":""}]
[null,"",null,null,null,null,null,null,null,null,null,null,null,null,{"$f":"IF(計算明細表!O218=\"\",\"\",計算明細表!O218)","v":""}]
[null,"",null,null,null,null,null,null,null,null,null,null,null,null,{"$f":"IF(計算明細表!O219=\"\",\"\",計算明細表!O219)","v":""}]
[null,"",null,null,null,null,null,null,null,null,null,null,null,null,{"$f":"IF(計算明細表!O220=\"\",\"\",計算明細表!O220)","v":""}]
[null,"",null,null,null,null,null,null,null,null,null,null,null,null,{"$f":"IF(計算明細表!O221=\"\",\"\",計算明細表!O221)","v":""}]
[null,"",null,null,null,null,null,null,null,null,null,null,null,null,{"$f":"IF(計算明細表!O222=\"\",\"\",計算明細表!O222)","v":""}]
[null,"",null,null,null,null,null,null,null,null,null,null,null,null,{"$f":"IF(計算明細表!O223=\"\",\"\",計算明細表!O223)","v":""}]
[null,"",null,null,null,null,null,null,null,null,null,null,null,null,{"$f":"IF(計算明細表!O224=\"\",\"\",計算明細表!O224)","v":""}]
[null,"",null,null,null,null,null,null,null,null,null,null,null,null,{"$f":"IF(計算明細表!O225=\"\",\"\",計算明細表!O225)","v":""}]
[null,"",null,null,null,null,null,null,null,null,null,null,null,null,{"$f":"IF(計算明細表!O226=\"\",\"\",計算明細表!O226)","v":""}]
[null,"",null,null,null,null,null,null,null,null,null,null,null,null,{"$f":"IF(計算明細表!O227=\"\",\"\",計算明細表!O227)","v":""}]
[null,"",null,null,null,null,null,null,null,null,null,null,null,null,{"$f":"IF(計算明細表!O228=\"\",\"\",計算明細表!O228)","v":""}]
[null,"",null,null,null,null,null,null,null,null,null,null,null,null,{"$f":"IF(計算明細表!O229=\"\",\"\",計算明細表!O229)","v":""}]
[null,"",null,null,null,null,null,null,null,null,null,null,null,null,{"$f":"IF(計算明細表!O230=\"\",\"\",計算明細表!O230)","v":""}]
[null,"",null,null,null,null,null,null,null,null,null,null,null,null,{"$f":"IF(計算明細表!O231=\"\",\"\",計算明細表!O231)","v":""}]
[null,"",null,null,null,null,null,null,null,null,null,null,null,null,{"$f":"IF(計算明細表!O232=\"\",\"\",計算明細表!O232)","v":""}]
[null,"",null,null,null,null,null,null,null,null,null,null,null,null,{"$f":"IF(計算明細表!O233=\"\",\"\",計算明細表!O233)","v":""}]
[null,"",null,null,null,null,null,null,null,null,null,null,null,null,{"$f":"IF(計算明細表!O234=\"\",\"\",計算明細表!O234)","v":""}]
[null,"",null,null,null,null,null,null,null,null,null,null,null,null,{"$f":"IF(計算明細表!O235=\"\",\"\",計算明細表!O235)","v":""}]
[null,"",null,null,null,null,null,null,null,null,null,null,null,null,{"$f":"IF(計算明細表!O236=\"\",\"\",計算明細表!O236)","v":""}]
[null,"",null,null,null,null,null,null,null,null,null,null,null,null,{"$f":"IF(計算明細表!O237=\"\",\"\",計算明細表!O237)","v":""}]
[null,"",null,null,null,null,null,null,null,null,null,null,null,null,{"$f":"IF(計算明細表!O238=\"\",\"\",計算明細表!O238)","v":""}]
[null,"",null,null,null,null,null,null,null,null,null,null,null,null,{"$f":"IF(計算明細表!O239=\"\",\"\",計算明細表!O239)","v":""}]
[null,"",null,null,null,null,null,null,null,null,null,null,null,null,{"$f":"IF(計算明細表!O240=\"\",\"\",計算明細表!O240)","v":""}]
[null,"",null,null,null,null,null,null,null,null,null,null,null,null,{"$f":"IF(計算明細表!O241=\"\",\"\",計算明細表!O241)","v":""}]
[null,"",null,null,null,null,null,null,null,null,null,null,null,null,{"$f":"IF(計算明細表!O242=\"\",\"\",計算明細表!O242)","v":""}]
[null,"",null,null,null,null,null,null,null,null,null,null,null,null,{"$f":"IF(計算明細表!O243=\"\",\"\",計算明細表!O243)","v":""}]
[null,"",null,null,null,null,null,null,null,null,null,null,null,null,{"$f":"IF(計算明細表!O244=\"\",\"\",計算明細表!O244)","v":""}]
[null,"",null,null,null,null,null,null,null,null,null,null,null,null,{"$f":"IF(計算明細表!O245=\"\",\"\",計算明細表!O245)","v":""}]
[null,"",null,null,null,null,null,null,null,null,null,null,null,null,{"$f":"IF(計算明細表!O246=\"\",\"\",計算明細表!O246)","v":""}]
[null,"",null,null,null,null,null,null,null,null,null,null,null,null,{"$f":"IF(計算明細表!O247=\"\",\"\",計算明細表!O247)","v":""}]
[null,"",null,null,null,null,null,null,null,null,null,null,null,null,{"$f":"IF(計算明細表!O248=\"\",\"\",計算明細表!O248)","v":""}]
[null,"",null,null,null,null,null,null,null,null,null,null,null,null,{"$f":"IF(計算明細表!O249=\"\",\"\",計算明細表!O249)","v":""}]
[null,"",null,null,null,null,null,null,null,null,null,null,null,null,{"$f":"IF(計算明細表!O250=\"\",\"\",計算明細表!O250)","v":""}]
[null,"",null,null,null,null,null,null,null,null,null,null,null,null,{"$f":"IF(計算明細表!O251=\"\",\"\",計算明細表!O251)","v":""}]
[null,"",null,null,null,null,null,null,null,null,null,null,null,null,{"$f":"IF(計算明細表!O252=\"\",\"\",計算明細表!O252)","v":""}]
[null,"",null,null,null,null,null,null,null,null,null,null,null,null,{"$f":"IF(計算明細表!O253=\"\",\"\",計算明細表!O253)","v":""}]
[null,"",null,null,null,null,null,null,null,null,null,null,null,null,{"$f":"IF(計算明細表!O254=\"\",\"\",計算明細表!O254)","v":""}]
[null,"",null,null,null,null,null,null,null,null,null,null,null,null,{"$f":"IF(計算明細表!O255=\"\",\"\",計算明細表!O255)","v":""}]
[null,"",null,null,null,null,null,null,null,null,null,null,null,null,{"$f":"IF(計算明細表!O256=\"\",\"\",計算明細表!O256)","v":""}]
[null,"",null,null,null,null,null,null,null,null,null,null,null,null,{"$f":"IF(計算明細表!O257=\"\",\"\",計算明細表!O257)","v":""}]
[null,"",null,null,null,null,null,null,null,null,null,null,null,null,{"$f":"IF(計算明細表!O258=\"\",\"\",計算明細表!O258)","v":""}]
[null,"",null,null,null,null,null,null,null,null,null,null,null,null,{"$f":"IF(計算明細表!O259=\"\",\"\",計算明細表!O259)","v":""}]
[null,"",null,null,null,null,null,null,null,null,null,null,null,null,{"$f":"IF(計算明細表!O260=\"\",\"\",計算明細表!O260)","v":""}]
[null,"",null,null,null,null,null,null,null,null,null,null,null,null,{"$f":"IF(計算明細表!O261=\"\",\"\",計算明細表!O261)","v":""}]
[null,"",null,null,null,null,null,null,null,null,null,null,null,null,{"$f":"IF(計算明細表!O262=\"\",\"\",計算明細表!O262)","v":""}]
[null,"",null,null,null,null,null,null,null,null,null,null,null,null,{"$f":"IF(計算明細表!O263=\"\",\"\",計算明細表!O263)","v":""}]
[null,"",null,null,null,null,null,null,null,null,null,null,null,null,{"$f":"IF(計算明細表!O264=\"\",\"\",計算明細表!O264)","v":""}]
[null,"",null,null,null,null,null,null,null,null,null,null,null,null,{"$f":"IF(計算明細表!O265=\"\",\"\",計算明細表!O265)","v":""}]
[null,"",null,null,null,null,null,null,null,null,null,null,null,null,{"$f":"IF(計算明細表!O266=\"\",\"\",計算明細表!O266)","v":""}]
[null,"",null,null,null,null,null,null,null,null,null,null,null,null,{"$f":"IF(計算明細表!O267=\"\",\"\",計算明細表!O267)","v":""}]
[null,"",null,null,null,null,null,null,null,null,null,null,null,null,{"$f":"IF(計算明細表!O268=\"\",\"\",計算明細表!O268)","v":""}]
[null,"",null,null,null,null,null,null,null,null,null,null,null,null,{"$f":"IF(計算明細表!O269=\"\",\"\",計算明細表!O269)","v":""}]
[null,"",null,null,null,null,null,null,null,null,null,null,null,null,{"$f":"IF(計算明細表!O270=\"\",\"\",計算明細表!O270)","v":""}]
[null,"",null,null,null,null,null,null,null,null,null,null,null,null,{"$f":"IF(計算明細表!O271=\"\",\"\",計算明細表!O271)","v":""}]
[null,"",null,null,null,null,null,null,null,null,null,null,null,null,{"$f":"IF(計算明細表!O272=\"\",\"\",計算明細表!O272)","v":""}]
[null,"",null,null,null,null,null,null,null,null,null,null,null,null,{"$f":"IF(計算明細表!O273=\"\",\"\",計算明細表!O273)","v":""}]
[null,"",null,null,null,null,null,null,null,null,null,null,null,null,{"$f":"IF(計算明細表!O274=\"\",\"\",計算明細表!O274)","v":""}]
[null,"",null,null,null,null,null,null,null,null,null,null,null,null,{"$f":"IF(計算明細表!O275=\"\",\"\",計算明細表!O275)","v":""}]
[null,{"$f":"IF(C292=\"\",\"\",SUM(B291+1))","v":""},null,null,null,null,null,null,null,null,null,null,null,null,{"$f":"IF(計算明細表!O276=\"\",\"\",計算明細表!O276)","v":""}]
[null,"",null,null,null,null,null,null,null,null,null,null,null,null,{"$f":"IF(計算明細表!O277=\"\",\"\",計算明細表!O277)","v":""}]
[null,"",null,null,null,null,null,null,null,null,null,null,null,null,{"$f":"IF(計算明細表!O278=\"\",\"\",計算明細表!O278)","v":""}]
[null,"",null,null,null,null,null,null,null,null,null,null,null,null,{"$f":"IF(計算明細表!O279=\"\",\"\",計算明細表!O279)","v":""}]
[null,"",null,null,null,null,null,null,null,null,null,null,null,null,{"$f":"IF(計算明細表!O280=\"\",\"\",計算明細表!O280)","v":""}]
[null,"",null,null,null,null,null,null,null,null,null,null,null,null,{"$f":"IF(計算明細表!O281=\"\",\"\",計算明細表!O281)","v":""}]
[null,"",null,null,null,null,null,null,null,null,null,null,null,null,{"$f":"IF(計算明細表!O282=\"\",\"\",計算明細表!O282)","v":""}]
[null,"",null,null,null,null,null,null,null,null,null,null,null,null,{"$f":"IF(計算明細表!O283=\"\",\"\",計算明細表!O283)","v":""}]
[null,"",null,null,null,null,null,null,null,null,null,null,null,null,{"$f":"IF(計算明細表!O284=\"\",\"\",計算明細表!O284)","v":""}]
[null,"",null,null,null,null,null,null,null,null,null,null,null,null,{"$f":"IF(計算明細表!O285=\"\",\"\",計算明細表!O285)","v":""}]
[null,"",null,null,null,null,null,null,null,null,null,null,null,null,{"$f":"IF(計算明細表!O286=\"\",\"\",計算明細表!O286)","v":""}]
[null,"",null,null,null,null,null,null,null,null,null,null,null,null,{"$f":"IF(計算明細表!O287=\"\",\"\",計算明細表!O287)","v":""}]
[null,"",null,null,null,null,null,null,null,null,null,null,null,null,{"$f":"IF(計算明細表!O288=\"\",\"\",計算明細表!O288)","v":""}]
[null,"",null,null,null,null,null,null,null,null,null,null,null,null,{"$f":"IF(計算明細表!O289=\"\",\"\",計算明細表!O289)","v":""}]
[null,"",null,null,null,null,null,null,null,null,null,null,null,null,{"$f":"IF(計算明細表!O290=\"\",\"\",計算明細表!O290)","v":""}]
[null,"",null,null,null,null,null,null,null,null,null,null,null,null,{"$f":"IF(計算明細表!O291=\"\",\"\",計算明細表!O291)","v":""}]
[null,"",null,null,null,null,null,null,null,null,null,null,null,null,{"$f":"IF(計算明細表!O292=\"\",\"\",計算明細表!O292)","v":""}]
[null,"",null,null,null,null,null,null,null,null,null,null,null,null,{"$f":"IF(計算明細表!O293=\"\",\"\",計算明細表!O293)","v":""}]
[null,"",null,null,null,null,null,null,null,null,null,null,null,null,{"$f":"IF(計算明細表!O294=\"\",\"\",計算明細表!O294)","v":""}]
[null,"",null,null,null,null,null,null,null,null,null,null,null,null,{"$f":"IF(計算明細表!O295=\"\",\"\",計算明細表!O295)","v":""}]
[null,"",null,null,null,null,null,null,null,null,null,null,null,null,{"$f":"IF(計算明細表!O296=\"\",\"\",計算明細表!O296)","v":""}]
[null,"",null,null,null,null,null,null,null,null,null,null,null,null,{"$f":"IF(計算明細表!O297=\"\",\"\",計算明細表!O297)","v":""}]
[null,"",null,null,null,null,null,null,null,null,null,null,null,null,{"$f":"IF(計算明細表!O298=\"\",\"\",計算明細表!O298)","v":""}]
[null,"",null,null,null,null,null,null,null,null,null,null,null,null,{"$f":"IF(計算明細表!O299=\"\",\"\",計算明細表!O299)","v":""}]
[null,"",null,null,null,null,null,null,null,null,null,null,null,null,{"$f":"IF(計算明細表!O300=\"\",\"\",計算明細表!O300)","v":""}]
[null,"",null,null,null,null,null,null,null,null,null,null,null,null,{"$f":"IF(計算明細表!O301=\"\",\"\",計算明細表!O301)","v":""}]
[null,"",null,null,null,null,null,null,null,null,null,null,null,null,{"$f":"IF(計算明細表!O302=\"\",\"\",計算明細表!O302)","v":""}]
[null,"",null,null,null,null,null,null,null,null,null,null,null,null,{"$f":"IF(計算明細表!O303=\"\",\"\",計算明細表!O303)","v":""}]
[null,"",null,null,null,null,null,null,null,null,null,null,null,null,{"$f":"IF(計算明細表!O304=\"\",\"\",計算明細表!O304)","v":""}]
[null,"",null,null,null,null,null,null,null,null,null,null,null,null,{"$f":"IF(計算明細表!O305=\"\",\"\",計算明細表!O305)","v":""}]
[null,"",null,null,null,null,null,null,null,null,null,null,null,null,{"$f":"IF(計算明細表!O306=\"\",\"\",計算明細表!O306)","v":""}]
[null,"",null,null,null,null,null,null,null,null,null,null,null,null,{"$f":"IF(計算明細表!O307=\"\",\"\",計算明細表!O307)","v":""}]
[null,"",null,null,null,null,null,null,null,null,null,null,null,null,{"$f":"IF(計算明細表!O308=\"\",\"\",計算明細表!O308)","v":""}]
[null,"合計",null,null,null,null,null,{"$f":"ROUND(SUM(H25:H324),2)","v":0},null,null,null,null,null,null,{"$f":"ROUND(SUM(O25:O324),0)","v":0}]

{"sheet":"入力","index":2,"n_rows":333,"n_cols":11,"rows_kept":333,"cut":false,"hidden":true,"merged":[[29,5,29,6],[31,8,31,10],[31,1,32,1],[31,3,32,3],[31,4,32,4],[31,5,32,5],[31,6,32,6],[31,7,32,7],[8,7,8,10],[9,7,9,10],[10,7,10,10],[11,7,12,10],[13,7,13,8],[8,5,8,6],[9,5,9,6],[10,5,10,6],[11,5,12,6],[13,5,13,6],[14,1,15,1],[14,2,15,4],[16,2,16,4],[17,2,17,4],[18,2,18,4],[24,2,24,4],[25,2,25,4],[31,2,32,2],[19,2,19,4],[20,2,20,4],[21,2,21,4],[22,2,22,4],[23,2,23,4]]}
[]
[]
[]
[]
[]
[]
[]
[null,null,null,null,null,null,null,"事業体名テーブル"]
[null,null,null,null,null,"御　　社　　名",null,{"$f":"提出様式!K2","v":"○○株式会社"}]
[null,null,null,null,null,"プロジェクト名称"]
[null,null,null,null,null,"担　当　者　名"]
[null,null,null,null,null,"連　　絡　　先"]
[]
[null,null,"区分名登録テーブル",null,null,"作成年月日"]
[null,"番号","森林整備の種類、団地名等の整備対象区分の登録"]
[]
[null,1]
[null,2]
[null,3]
[null,4]
[null,5]
[null,6]
[null,7]
[null,8]
[null,9]
[null,10]
[]
[]
[]
[null,null,null,null,null,"データ入力テーブル"]
[]
[null,"番号","森林整備の種類等の区分","森林の所在県","林班等所在地の区分","樹種の選択","齢級","面積　　　ha","森林調査結果"]
[null,null,null,null,null,null,null,null,"ha当り立木本数","樹高　m","平均直径　cm"]
[null,1,null,{"$f":"IF(提出様式!C25=\"\",\"\",提出様式!C25)","v":""},null,{"$f":"IF(提出様式!I25=\"\",\"\",提出様式!I25)","v":""},{"$f":"IF(提出様式!K25=\"\",\"\",(ROUNDUP(提出様式!K25/5,0)))","v":""},{"$f":"IF(提出様式!H25=\"\",\"\",提出様式!H25)","v":""},{"$f":"IF(提出様式!L25=\"\",\"\",提出様式!L25)","v":""},{"$f":"IF(提出様式!M25=\"\",\"\",提出様式!M25)","v":""},{"$f":"IF(提出様式!N25=\"\",\"\",提出様式!N25)","v":""}]
[null,2,null,{"$f":"IF(提出様式!C26=\"\",\"\",提出様式!C26)","v":""},null,{"$f":"IF(提出様式!I26=\"\",\"\",提出様式!I26)","v":""},{"$f":"IF(提出様式!K26=\"\",\"\",(ROUNDUP(提出様式!K26/5,0)))","v":""},{"$f":"IF(提出様式!H26=\"\",\"\",提出様式!H26)","v":""},{"$f":"IF(提出様式!L26=\"\",\"\",提出様式!L26)","v":""},{"$f":"IF(提出様式!M26=\"\",\"\",提出様式!M26)","v":""},{"$f":"IF(提出様式!N26=\"\",\"\",提出様式!N26)","v":""}]
[null,3,null,{"$f":"IF(提出様式!C27=\"\",\"\",提出様式!C27)","v":""},null,{"$f":"IF(提出様式!I27=\"\",\"\",提出様式!I27)","v":""},{"$f":"IF(提出様式!K27=\"\",\"\",(ROUNDUP(提出様式!K27/5,0)))","v":""},{"$f":"IF(提出様式!H27=\"\",\"\",提出様式!H27)","v":""},{"$f":"IF(提出様式!L27=\"\",\"\",提出様式!L27)","v":""},{"$f":"IF(提出様式!M27=\"\",\"\",提出様式!M27)","v":""},{"$f":"IF(提出様式!N27=\"\",\"\",提出様式!N27)","v":""}]
[null,4,null,{"$f":"IF(提出様式!C28=\"\",\"\",提出様式!C28)","v":""},null,{"$f":"IF(提出様式!I28=\"\",\"\",提出様式!I28)","v":""},{"$f":"IF(提出様式!K28=\"\",\"\",(ROUNDUP(提出様式!K28/5,0)))","v":""},{"$f":"IF(提出様式!H28=\"\",\"\",提出様式!H28)","v":""},{"$f":"IF(提出様式!L28=\"\",\"\",提出様式!L28)","v":""},{"$f":"IF(提出様式!M28=\"\",\"\",提出様式!M28)","v":""},{"$f":"IF(提出様式!N28=\"\",\"\",提出様式!N28)","v":""}]
[null,5,null,{"$f":"IF(提出様式!C29=\"\",\"\",提出様式!C29)","v":""},null,{"$f":"IF(提出様式!I29=\"\",\"\",提出様式!I29)","v":""},{"$f":"IF(提出様式!K29=\"\",\"\",(ROUNDUP(提出様式!K29/5,0)))","v":""},{"$f":"IF(提出様式!H29=\"\",\"\",提出様式!H29)","v":""},{"$f":"IF(提出様式!L29=\"\",\"\",提出様式!L29)","v":""},{"$f":"IF(提出様式!M29=\"\",\"\",提出様式!M29)","v":""},{"$f":"IF(提出様式!N29=\"\",\"\",提出様式!N29)","v":""}]
[null,6,null,{"$f":"IF(提出様式!C30=\"\",\"\",提出様式!C30)","v":""},null,{"$f":"IF(提出様式!I30=\"\",\"\",提出様式!I30)","v":""},{"$f":"IF(提出様式!K30=\"\",\"\",(ROUNDUP(提出様式!K30/5,0)))","v":""},{"$f":"IF(提出様式!H30=\"\",\"\",提出様式!H30)","v":""},{"$f":"IF(提出様式!L30=\"\",\"\",提出様式!L30)","v":""},{"$f":"IF(提出様式!M30=\"\",\"\",提出様式!M30)","v":""},{"$f":"IF(提出様式!N30=\"\",\"\",提出様式!N30)","v":""}]
[null,7,null,{"$f":"IF(提出様式!C31=\"\",\"\",提出様式!C31)","v":""},null,{"$f":"IF(提出様式!I31=\"\",\"\",提出様式!I31)","v":""},{"$f":"IF(提出様式!K31=\"\",\"\",(ROUNDUP(提出様式!K31/5,0)))","v":""},{"$f":"IF(提出様式!H31=\"\",\"\",提出様式!H31)","v":""},{"$f":"IF(提出様式!L31=\"\",\"\",提出様式!L31)","v":""},{"$f":"IF(提出様式!M31=\"\",\"\",提出様式!M31)","v":""},{"$f":"IF(提出様式!N31=\"\",\"\",提出様式!N31)","v":""}]
[null,8,null,{"$f":"IF(提出様式!C32=\"\",\"\",提出様式!C32)","v":""},null,{"$f":"IF(提出様式!I32=\"\",\"\",提出様式!I32)","v":""},{"$f":"IF(提出様式!K32=\"\",\"\",(ROUNDUP(提出様式!K32/5,0)))","v":""},{"$f":"IF(提出様式!H32=\"\",\"\",提出様式!H32)","v":""},{"$f":"IF(提出様式!L32=\"\",\"\",提出様式!L32)","v":""},{"$f":"IF(提出様式!M32=\"\",\"\",提出様式!M32)","v":""},{"$f":"IF(提出様式!N32=\"\",\"\",提出様式!N32)","v":""}]
[null,9,null,{"$f":"IF(提出様式!C33=\"\",\"\",提出様式!C33)","v":""},null,{"$f":"IF(提出様式!I33=\"\",\"\",提出様式!I33)","v":""},{"$f":"IF(提出様式!K33=\"\",\"\",(ROUNDUP(提出様式!K33/5,0)))","v":""},{"$f":"IF(提出様式!H33=\"\",\"\",提出様式!H33)","v":""},{"$f":"IF(提出様式!L33=\"\",\"\",提出様式!L33)","v":""},{"$f":"IF(提出様式!M33=\"\",\"\",提出様式!M33)","v":""},{"$f":"IF(提出様式!N33=\"\",\"\",提出様式!N33)","v":""}]
[null,10,null,{"$f":"IF(提出様式!C34=\"\",\"\",提出様式!C34)","v":""},null,{"$f":"IF(提出様式!I34=\"\",\"\",提出様式!I34)","v":""},{"$f":"IF(提出様式!K34=\"\",\"\",(ROUNDUP(提出様式!K34/5,0)))","v":""},{"$f":"IF(提出様式!H34=\"\",\"\",提出様式!H34)","v":""},{"$f":"IF(提出様式!L34=\"\",\"\",提出様式!L34)","v":""},{"$f":"IF(提出様式!M34=\"\",\"\",提出様式!M34)","v":""},{"$f":"IF(提出様式!N34=\"\",\"\",提出様式!N34)","v":""}]
[null,11,null,{"$f":"IF(提出様式!C35=\"\",\"\",提出様式!C35)","v":""},null,{"$f":"IF(提出様式!I35=\"\",\"\",提出様式!I35)","v":""},{"$f":"IF(提出様式!K35=\"\",\"\",(ROUNDUP(提出様式!K35/5,0)))","v":""},{"$f":"IF(提出様式!H35=\"\",\"\",提出様式!H35)","v":""},{"$f":"IF(提出様式!L35=\"\",\"\",提出様式!L35)","v":""},{"$f":"IF(提出様式!M35=\"\",\"\",提出様式!M35)","v":""},{"$f":"IF(提出様式!N35=\"\",\"\",提出様式!N35)","v":""}]
[null,12,null,{"$f":"IF(提出様式!C36=\"\",\"\",提出様式!C36)","v":""},null,{"$f":"IF(提出様式!I36=\"\",\"\",提出様式!I36)","v":""},{"$f":"IF(提出様式!K36=\"\",\"\",(ROUNDUP(提出様式!K36/5,0)))","v":""},{"$f":"IF(提出様式!H36=\"\",\"\",提出様式!H36)","v":""},{"$f":"IF(提出様式!L36=\"\",\"\",提出様式!L36)","v":""},{"$f":"IF(提出様式!M36=\"\",\"\",提出様式!M36)","v":""},{"$f":"IF(提出様式!N36=\"\",\"\",提出様式!N36)","v":""}]
[null,13,null,{"$f":"IF(提出様式!C37=\"\",\"\",提出様式!C37)","v":""},null,{"$f":"IF(提出様式!I37=\"\",\"\",提出様式!I37)","v":""},{"$f":"IF(提出様式!K37=\"\",\"\",(ROUNDUP(提出様式!K37/5,0)))","v":""},{"$f":"IF(提出様式!H37=\"\",\"\",提出様式!H37)","v":""},{"$f":"IF(提出様式!L37=\"\",\"\",提出様式!L37)","v":""},{"$f":"IF(提出様式!M37=\"\",\"\",提出様式!M37)","v":""},{"$f":"IF(提出様式!N37=\"\",\"\",提出様式!N37)","v":""}]
[null,14,null,{"$f":"IF(提出様式!C38=\"\",\"\",提出様式!C38)","v":""},null,{"$f":"IF(提出様式!I38=\"\",\"\",提出様式!I38)","v":""},{"$f":"IF(提出様式!K38=\"\",\"\",(ROUNDUP(提出様式!K38/5,0)))","v":""},{"$f":"IF(提出様式!H38=\"\",\"\",提出様式!H38)","v":""},{"$f":"IF(提出様式!L38=\"\",\"\",提出様式!L38)","v":""},{"$f":"IF(提出様式!M38=\"\",\"\",提出様式!M38)","v":""},{"$f":"IF(提出様式!N38=\"\",\"\",提出様式!N38)","v":""}]
[null,15,null,{"$f":"IF(提出様式!C39=\"\",\"\",提出様式!C39)","v":""},null,{"$f":"IF(提出様式!I39=\"\",\"\",提出様式!I39)","v":""},{"$f":"IF(提出様式!K39=\"\",\"\",(ROUNDUP(提出様式!K39/5,0)))","v":""},{"$f":"IF(提出様式!H39=\"\",\"\",提出様式!H39)","v":""},{"$f":"IF(提出様式!L39=\"\",\"\",提出様式!L39)","v":""},{"$f":"IF(提出様式!M39=\"\",\"\",提出様式!M39)","v":""},{"$f":"IF(提出様式!N39=\"\",\"\",提出様式!N39)","v":""}]
[null,16,null,{"$f":"IF(提出様式!C40=\"\",\"\",提出様式!C40)","v":""},null,{"$f":"IF(提出様式!I40=\"\",\"\",提出様式!I40)","v":""},{"$f":"IF(提出様式!K40=\"\",\"\",(ROUNDUP(提出様式!K40/5,0)))","v":""},{"$f":"IF(提出様式!H40=\"\",\"\",提出様式!H40)","v":""},{"$f":"IF(提出様式!L40=\"\",\"\",提出様式!L40)","v":""},{"$f":"IF(提出様式!M40=\"\",\"\",提出様式!M40)","v":""},{"$f":"IF(提出様式!N40=\"\",\"\",提出様式!N40)","v":""}]
[null,17,null,{"$f":"IF(提出様式!C41=\"\",\"\",提出様式!C41)","v":""},null,{"$f":"IF(提出様式!I41=\"\",\"\",提出様式!I41)","v":""},{"$f":"IF(提出様式!K41=\"\",\"\",(ROUNDUP(提出様式!K41/5,0)))","v":""},{"$f":"IF(提出様式!H41=\"\",\"\",提出様式!H41)","v":""},{"$f":"IF(提出様式!L41=\"\",\"\",提出様式!L41)","v":""},{"$f":"IF(提出様式!M41=\"\",\"\",提出様式!M41)","v":""},{"$f":"IF(提出様式!N41=\"\",\"\",提出様式!N41)","v":""}]
[null,18,null,{"$f":"IF(提出様式!C42=\"\",\"\",提出様式!C42)","v":""},null,{"$f":"IF(提出様式!I42=\"\",\"\",提出様式!I42)","v":""},{"$f":"IF(提出様式!K42=\"\",\"\",(ROUNDUP(提出様式!K42/5,0)))","v":""},{"$f":"IF(提出様式!H42=\"\",\"\",提出様式!H42)","v":""},{"$f":"IF(提出様式!L42=\"\",\"\",提出様式!L42)","v":""},{"$f":"IF(提出様式!M42=\"\",\"\",提出様式!M42)","v":""},{"$f":"IF(提出様式!N42=\"\",\"\",提出様式!N42)","v":""}]
[null,19,null,{"$f":"IF(提出様式!C43=\"\",\"\",提出様式!C43)","v":""},null,{"$f":"IF(提出様式!I43=\"\",\"\",提出様式!I43)","v":""},{"$f":"IF(提出様式!K43=\"\",\"\",(ROUNDUP(提出様式!K43/5,0)))","v":""},{"$f":"IF(提出様式!H43=\"\",\"\",提出様式!H43)","v":""},{"$f":"IF(提出様式!L43=\"\",\"\",提出様式!L43)","v":""},{"$f":"IF(提出様式!M43=\"\",\"\",提出様式!M43)","v":""},{"$f":"IF(提出様式!N43=\"\",\"\",提出様式!N43)","v":""}]
[null,20,null,{"$f":"IF(提出様式!C44=\"\",\"\",提出様式!C44)","v":""},null,{"$f":"IF(提出様式!I44=\"\",\"\",提出様式!I44)","v":""},{"$f":"IF(提出様式!K44=\"\",\"\",(ROUNDUP(提出様式!K44/5,0)))","v":""},{"$f":"IF(提出様式!H44=\"\",\"\",提出様式!H44)","v":""},{"$f":"IF(提出様式!L44=\"\",\"\",提出様式!L44)","v":""},{"$f":"IF(提出様式!M44=\"\",\"\",提出様式!M44)","v":""},{"$f":"IF(提出様式!N44=\"\",\"\",提出様式!N44)","v":""}]
[null,21,null,{"$f":"IF(提出様式!C45=\"\",\"\",提出様式!C45)","v":""},null,{"$f":"IF(提出様式!I45=\"\",\"\",提出様式!I45)","v":""},{"$f":"IF(提出様式!K45=\"\",\"\",(ROUNDUP(提出様式!K45/5,0)))","v":""},{"$f":"IF(提出様式!H45=\"\",\"\",提出様式!H45)","v":""},{"$f":"IF(提出様式!L45=\"\",\"\",提出様式!L45)","v":""},{"$f":"IF(提出様式!M45=\"\",\"\",提出様式!M45)","v":""},{"$f":"IF(提出様式!N45=\"\",\"\",提出様式!N45)","v":""}]
[null,22,null,{"$f":"IF(提出様式!C46=\"\",\"\",提出様式!C46)","v":""},null,{"$f":"IF(提出様式!I46=\"\",\"\",提出様式!I46)","v":""},{"$f":"IF(提出様式!K46=\"\",\"\",(ROUNDUP(提出様式!K46/5,0)))","v":""},{"$f":"IF(提出様式!H46=\"\",\"\",提出様式!H46)","v":""},{"$f":"IF(提出様式!L46=\"\",\"\",提出様式!L46)","v":""},{"$f":"IF(提出様式!M46=\"\",\"\",提出様式!M46)","v":""},{"$f":"IF(提出様式!N46=\"\",\"\",提出様式!N46)","v":""}]
[null,23,null,{"$f":"IF(提出様式!C47=\"\",\"\",提出様式!C47)","v":""},null,{"$f":"IF(提出様式!I47=\"\",\"\",提出様式!I47)","v":""},{"$f":"IF(提出様式!K47=\"\",\"\",(ROUNDUP(提出様式!K47/5,0)))","v":""},{"$f":"IF(提出様式!H47=\"\",\"\",提出様式!H47)","v":""},{"$f":"IF(提出様式!L47=\"\",\"\",提出様式!L47)","v":""},{"$f":"IF(提出様式!M47=\"\",\"\",提出様式!M47)","v":""},{"$f":"IF(提出様式!N47=\"\",\"\",提出様式!N47)","v":""}]
[null,24,null,{"$f":"IF(提出様式!C48=\"\",\"\",提出様式!C48)","v":""},null,{"$f":"IF(提出様式!I48=\"\",\"\",提出様式!I48)","v":""},{"$f":"IF(提出様式!K48=\"\",\"\",(ROUNDUP(提出様式!K48/5,0)))","v":""},{"$f":"IF(提出様式!H48=\"\",\"\",提出様式!H48)","v":""},{"$f":"IF(提出様式!L48=\"\",\"\",提出様式!L48)","v":""},{"$f":"IF(提出様式!M48=\"\",\"\",提出様式!M48)","v":""},{"$f":"IF(提出様式!N48=\"\",\"\",提出様式!N48)","v":""}]
[null,25,null,{"$f":"IF(提出様式!C49=\"\",\"\",提出様式!C49)","v":""},null,{"$f":"IF(提出様式!I49=\"\",\"\",提出様式!I49)","v":""},{"$f":"IF(提出様式!K49=\"\",\"\",(ROUNDUP(提出様式!K49/5,0)))","v":""},{"$f":"IF(提出様式!H49=\"\",\"\",提出様式!H49)","v":""},{"$f":"IF(提出様式!L49=\"\",\"\",提出様式!L49)","v":""},{"$f":"IF(提出様式!M49=\"\",\"\",提出様式!M49)","v":""},{"$f":"IF(提出様式!N49=\"\",\"\",提出様式!N49)","v":""}]
[null,26,null,{"$f":"IF(提出様式!C50=\"\",\"\",提出様式!C50)","v":""},null,{"$f":"IF(提出様式!I50=\"\",\"\",提出様式!I50)","v":""},{"$f":"IF(提出様式!K50=\"\",\"\",(ROUNDUP(提出様式!K50/5,0)))","v":""},{"$f":"IF(提出様式!H50=\"\",\"\",提出様式!H50)","v":""},{"$f":"IF(提出様式!L50=\"\",\"\",提出様式!L50)","v":""},{"$f":"IF(提出様式!M50=\"\",\"\",提出様式!M50)","v":""},{"$f":"IF(提出様式!N50=\"\",\"\",提出様式!N50)","v":""}]
[null,27,null,{"$f":"IF(提出様式!C51=\"\",\"\",提出様式!C51)","v":""},null,{"$f":"IF(提出様式!I51=\"\",\"\",提出様式!I51)","v":""},{"$f":"IF(提出様式!K51=\"\",\"\",(ROUNDUP(提出様式!K51/5,0)))","v":""},{"$f":"IF(提出様式!H51=\"\",\"\",提出様式!H51)","v":""},{"$f":"IF(提出様式!L51=\"\",\"\",提出様式!L51)","v":""},{"$f":"IF(提出様式!M51=\"\",\"\",提出様式!M51)","v":""},{"$f":"IF(提出様式!N51=\"\",\"\",提出様式!N51)","v":""}]
[null,28,null,{"$f":"IF(提出様式!C52=\"\",\"\",提出様式!C52)","v":""},null,{"$f":"IF(提出様式!I52=\"\",\"\",提出様式!I52)","v":""},{"$f":"IF(提出様式!K52=\"\",\"\",(ROUNDUP(提出様式!K52/5,0)))","v":""},{"$f":"IF(提出様式!H52=\"\",\"\",提出様式!H52)","v":""},{"$f":"IF(提出様式!L52=\"\",\"\",提出様式!L52)","v":""},{"$f":"IF(提出様式!M52=\"\",\"\",提出様式!M52)","v":""},{"$f":"IF(提出様式!N52=\"\",\"\",提出様式!N52)","v":""}]
[null,29,null,{"$f":"IF(提出様式!C53=\"\",\"\",提出様式!C53)","v":""},null,{"$f":"IF(提出様式!I53=\"\",\"\",提出様式!I53)","v":""},{"$f":"IF(提出様式!K53=\"\",\"\",(ROUNDUP(提出様式!K53/5,0)))","v":""},{"$f":"IF(提出様式!H53=\"\",\"\",提出様式!H53)","v":""},{"$f":"IF(提出様式!L53=\"\",\"\",提出様式!L53)","v":""},{"$f":"IF(提出様式!M53=\"\",\"\",提出様式!M53)","v":""},{"$f":"IF(提出様式!N53=\"\",\"\",提出様式!N53)","v":""}]
[null,30,null,{"$f":"IF(提出様式!C54=\"\",\"\",提出様式!C54)","v":""},null,{"$f":"IF(提出様式!I54=\"\",\"\",提出様式!I54)","v":""},{"$f":"IF(提出様式!K54=\"\",\"\",(ROUNDUP(提出様式!K54/5,0)))","v":""},{"$f":"IF(提出様式!H54=\"\",\"\",提出様式!H54)","v":""},{"$f":"IF(提出様式!L54=\"\",\"\",提出様式!L54)","v":""},{"$f":"IF(提出様式!M54=\"\",\"\",提出様式!M54)","v":""},{"$f":"IF(提出様式!N54=\"\",\"\",提出様式!N54)","v":""}]
[null,31,null,{"$f":"IF(提出様式!C55=\"\",\"\",提出様式!C55)","v":""},null,{"$f":"IF(提出様式!I55=\"\",\"\",提出様式!I55)","v":""},{"$f":"IF(提出様式!K55=\"\",\"\",(ROUNDUP(提出様式!K55/5,0)))","v":""},{"$f":"IF(提出様式!H55=\"\",\"\",提出様式!H55)","v":""},{"$f":"IF(提出様式!L55=\"\",\"\",提出様式!L55)","v":""},{"$f":"IF(提出様式!M55=\"\",\"\",提出様式!M55)","v":""},{"$f":"IF(提出様式!N55=\"\",\"\",提出様式!N55)","v":""}]
[null,32,null,{"$f":"IF(提出様式!C56=\"\",\"\",提出様式!C56)","v":""},null,{"$f":"IF(提出様式!I56=\"\",\"\",提出様式!I56)","v":""},{"$f":"IF(提出様式!K56=\"\",\"\",(ROUNDUP(提出様式!K56/5,0)))","v":""},{"$f":"IF(提出様式!H56=\"\",\"\",提出様式!H56)","v":""},{"$f":"IF(提出様式!L56=\"\",\"\",提出様式!L56)","v":""},{"$f":"IF(提出様式!M56=\"\",\"\",提出様式!M56)","v":""},{"$f":"IF(提出様式!N56=\"\",\"\",提出様式!N56)","v":""}]
[null,33,null,{"$f":"IF(提出様式!C57=\"\",\"\",提出様式!C57)","v":""},null,{"$f":"IF(提出様式!I57=\"\",\"\",提出様式!I57)","v":""},{"$f":"IF(提出様式!K57=\"\",\"\",(ROUNDUP(提出様式!K57/5,0)))","v":""},{"$f":"IF(提出様式!H57=\"\",\"\",提出様式!H57)","v":""},{"$f":"IF(提出様式!L57=\"\",\"\",提出様式!L57)","v":""},{"$f":"IF(提出様式!M57=\"\",\"\",提出様式!M57)","v":""},{"$f":"IF(提出様式!N57=\"\",\"\",提出様式!N57)","v":""}]
[null,34,null,{"$f":"IF(提出様式!C58=\"\",\"\",提出様式!C58)","v":""},null,{"$f":"IF(提出様式!I58=\"\",\"\",提出様式!I58)","v":""},{"$f":"IF(提出様式!K58=\"\",\"\",(ROUNDUP(提出様式!K58/5,0)))","v":""},{"$f":"IF(提出様式!H58=\"\",\"\",提出様式!H58)","v":""},{"$f":"IF(提出様式!L58=\"\",\"\",提出様式!L58)","v":""},{"$f":"IF(提出様式!M58=\"\",\"\",提出様式!M58)","v":""},{"$f":"IF(提出様式!N58=\"\",\"\",提出様式!N58)","v":""}]
[null,35,null,{"$f":"IF(提出様式!C59=\"\",\"\",提出様式!C59)","v":""},null,{"$f":"IF(提出様式!I59=\"\",\"\",提出様式!I59)","v":""},{"$f":"IF(提出様式!K59=\"\",\"\",(ROUNDUP(提出様式!K59/5,0)))","v":""},{"$f":"IF(提出様式!H59=\"\",\"\",提出様式!H59)","v":""},{"$f":"IF(提出様式!L59=\"\",\"\",提出様式!L59)","v":""},{"$f":"IF(提出様式!M59=\"\",\"\",提出様式!M59)","v":""},{"$f":"IF(提出様式!N59=\"\",\"\",提出様式!N59)","v":""}]
[null,36,null,{"$f":"IF(提出様式!C60=\"\",\"\",提出様式!C60)","v":""},null,{"$f":"IF(提出様式!I60=\"\",\"\",提出様式!I60)","v":""},{"$f":"IF(提出様式!K60=\"\",\"\",(ROUNDUP(提出様式!K60/5,0)))","v":""},{"$f":"IF(提出様式!H60=\"\",\"\",提出様式!H60)","v":""},{"$f":"IF(提出様式!L60=\"\",\"\",提出様式!L60)","v":""},{"$f":"IF(提出様式!M60=\"\",\"\",提出様式!M60)","v":""},{"$f":"IF(提出様式!N60=\"\",\"\",提出様式!N60)","v":""}]
[null,37,null,{"$f":"IF(提出様式!C61=\"\",\"\",提出様式!C61)","v":""},null,{"$f":"IF(提出様式!I61=\"\",\"\",提出様式!I61)","v":""},{"$f":"IF(提出様式!K61=\"\",\"\",(ROUNDUP(提出様式!K61/5,0)))","v":""},{"$f":"IF(提出様式!H61=\"\",\"\",提出様式!H61)","v":""},{"$f":"IF(提出様式!L61=\"\",\"\",提出様式!L61)","v":""},{"$f":"IF(提出様式!M61=\"\",\"\",提出様式!M61)","v":""},{"$f":"IF(提出様式!N61=\"\",\"\",提出様式!N61)","v":""}]
[null,38,null,{"$f":"IF(提出様式!C62=\"\",\"\",提出様式!C62)","v":""},null,{"$f":"IF(提出様式!I62=\"\",\"\",提出様式!I62)","v":""},{"$f":"IF(提出様式!K62=\"\",\"\",(ROUNDUP(提出様式!K62/5,0)))","v":""},{"$f":"IF(提出様式!H62=\"\",\"\",提出様式!H62)","v":""},{"$f":"IF(提出様式!L62=\"\",\"\",提出様式!L62)","v":""},{"$f":"IF(提出様式!M62=\"\",\"\",提出様式!M62)","v":""},{"$f":"IF(提出様式!N62=\"\",\"\",提出様式!N62)","v":""}]
[null,39,null,{"$f":"IF(提出様式!C63=\"\",\"\",提出様式!C63)","v":""},null,{"$f":"IF(提出様式!I63=\"\",\"\",提出様式!I63)","v":""},{"$f":"IF(提出様式!K63=\"\",\"\",(ROUNDUP(提出様式!K63/5,0)))","v":""},{"$f":"IF(提出様式!H63=\"\",\"\",提出様式!H63)","v":""},{"$f":"IF(提出様式!L63=\"\",\"\",提出様式!L63)","v":""},{"$f":"IF(提出様式!M63=\"\",\"\",提出様式!M63)","v":""},{"$f":"IF(提出様式!N63=\"\",\"\",提出様式!N63)","v":""}]
[null,40,null,{"$f":"IF(提出様式!C64=\"\",\"\",提出様式!C64)","v":""},null,{"$f":"IF(提出様式!I64=\"\",\"\",提出様式!I64)","v":""},{"$f":"IF(提出様式!K64=\"\",\"\",(ROUNDUP(提出様式!K64/5,0)))","v":""},{"$f":"IF(提出様式!H64=\"\",\"\",提出様式!H64)","v":""},{"$f":"IF(提出様式!L64=\"\",\"\",提出様式!L64)","v":""},{"$f":"IF(提出様式!M64=\"\",\"\",提出様式!M64)","v":""},{"$f":"IF(提出様式!N64=\"\",\"\",提出様式!N64)","v":""}]
[null,41,null,{"$f":"IF(提出様式!C65=\"\",\"\",提出様式!C65)","v":""},null,{"$f":"IF(提出様式!I65=\"\",\"\",提出様式!I65)","v":""},{"$f":"IF(提出様式!K65=\"\",\"\",(ROUNDUP(提出様式!K65/5,0)))","v":""},{"$f":"IF(提出様式!H65=\"\",\"\",提出様式!H65)","v":""},{"$f":"IF(提出様式!L65=\"\",\"\",提出様式!L65)","v":""},{"$f":"IF(提出様式!M65=\"\",\"\",提出様式!M65)","v":""},{"$f":"IF(提出様式!N65=\"\",\"\",提出様式!N65)","v":""}]
[null,42,null,{"$f":"IF(提出様式!C66=\"\",\"\",提出様式!C66)","v":""},null,{"$f":"IF(提出様式!I66=\"\",\"\",提出様式!I66)","v":""},{"$f":"IF(提出様式!K66=\"\",\"\",(ROUNDUP(提出様式!K66/5,0)))","v":""},{"$f":"IF(提出様式!H66=\"\",\"\",提出様式!H66)","v":""},{"$f":"IF(提出様式!L66=\"\",\"\",提出様式!L66)","v":""},{"$f":"IF(提出様式!M66=\"\",\"\",提出様式!M66)","v":""},{"$f":"IF(提出様式!N66=\"\",\"\",提出様式!N66)","v":""}]
[null,43,null,{"$f":"IF(提出様式!C67=\"\",\"\",提出様式!C67)","v":""},null,{"$f":"IF(提出様式!I67=\"\",\"\",提出様式!I67)","v":""},{"$f":"IF(提出様式!K67=\"\",\"\",(ROUNDUP(提出様式!K67/5,0)))","v":""},{"$f":"IF(提出様式!H67=\"\",\"\",提出様式!H67)","v":""},{"$f":"IF(提出様式!L67=\"\",\"\",提出様式!L67)","v":""},{"$f":"IF(提出様式!M67=\"\",\"\",提出様式!M67)","v":""},{"$f":"IF(提出様式!N67=\"\",\"\",提出様式!N67)","v":""}]
[null,44,null,{"$f":"IF(提出様式!C68=\"\",\"\",提出様式!C68)","v":""},null,{"$f":"IF(提出様式!I68=\"\",\"\",提出様式!I68)","v":""},{"$f":"IF(提出様式!K68=\"\",\"\",(ROUNDUP(提出様式!K68/5,0)))","v":""},{"$f":"IF(提出様式!H68=\"\",\"\",提出様式!H68)","v":""},{"$f":"IF(提出様式!L68=\"\",\"\",提出様式!L68)","v":""},{"$f":"IF(提出様式!M68=\"\",\"\",提出様式!M68)","v":""},{"$f":"IF(提出様式!N68=\"\",\"\",提出様式!N68)","v":""}]
[null,45,null,{"$f":"IF(提出様式!C69=\"\",\"\",提出様式!C69)","v":""},null,{"$f":"IF(提出様式!I69=\"\",\"\",提出様式!I69)","v":""},{"$f":"IF(提出様式!K69=\"\",\"\",(ROUNDUP(提出様式!K69/5,0)))","v":""},{"$f":"IF(提出様式!H69=\"\",\"\",提出様式!H69)","v":""},{"$f":"IF(提出様式!L69=\"\",\"\",提出様式!L69)","v":""},{"$f":"IF(提出様式!M69=\"\",\"\",提出様式!M69)","v":""},{"$f":"IF(提出様式!N69=\"\",\"\",提出様式!N69)","v":""}]
[null,46,null,{"$f":"IF(提出様式!C70=\"\",\"\",提出様式!C70)","v":""},null,{"$f":"IF(提出様式!I70=\"\",\"\",提出様式!I70)","v":""},{"$f":"IF(提出様式!K70=\"\",\"\",(ROUNDUP(提出様式!K70/5,0)))","v":""},{"$f":"IF(提出様式!H70=\"\",\"\",提出様式!H70)","v":""},{"$f":"IF(提出様式!L70=\"\",\"\",提出様式!L70)","v":""},{"$f":"IF(提出様式!M70=\"\",\"\",提出様式!M70)","v":""},{"$f":"IF(提出様式!N70=\"\",\"\",提出様式!N70)","v":""}]
[null,47,null,{"$f":"IF(提出様式!C71=\"\",\"\",提出様式!C71)","v":""},null,{"$f":"IF(提出様式!I71=\"\",\"\",提出様式!I71)","v":""},{"$f":"IF(提出様式!K71=\"\",\"\",(ROUNDUP(提出様式!K71/5,0)))","v":""},{"$f":"IF(提出様式!H71=\"\",\"\",提出様式!H71)","v":""},{"$f":"IF(提出様式!L71=\"\",\"\",提出様式!L71)","v":""},{"$f":"IF(提出様式!M71=\"\",\"\",提出様式!M71)","v":""},{"$f":"IF(提出様式!N71=\"\",\"\",提出様式!N71)","v":""}]
[null,48,null,{"$f":"IF(提出様式!C72=\"\",\"\",提出様式!C72)","v":""},null,{"$f":"IF(提出様式!I72=\"\",\"\",提出様式!I72)","v":""},{"$f":"IF(提出様式!K72=\"\",\"\",(ROUNDUP(提出様式!K72/5,0)))","v":""},{"$f":"IF(提出様式!H72=\"\",\"\",提出様式!H72)","v":""},{"$f":"IF(提出様式!L72=\"\",\"\",提出様式!L72)","v":""},{"$f":"IF(提出様式!M72=\"\",\"\",提出様式!M72)","v":""},{"$f":"IF(提出様式!N72=\"\",\"\",提出様式!N72)","v":""}]
[null,49,null,{"$f":"IF(提出様式!C73=\"\",\"\",提出様式!C73)","v":""},null,{"$f":"IF(提出様式!I73=\"\",\"\",提出様式!I73)","v":""},{"$f":"IF(提出様式!K73=\"\",\"\",(ROUNDUP(提出様式!K73/5,0)))","v":""},{"$f":"IF(提出様式!H73=\"\",\"\",提出様式!H73)","v":""},{"$f":"IF(提出様式!L73=\"\",\"\",提出様式!L73)","v":""},{"$f":"IF(提出様式!M73=\"\",\"\",提出様式!M73)","v":""},{"$f":"IF(提出様式!N73=\"\",\"\",提出様式!N73)","v":""}]
[null,50,null,{"$f":"IF(提出様式!C74=\"\",\"\",提出様式!C74)","v":""},null,{"$f":"IF(提出様式!I74=\"\",\"\",提出様式!I74)","v":""},{"$f":"IF(提出様式!K74=\"\",\"\",(ROUNDUP(提出様式!K74/5,0)))","v":""},{"$f":"IF(提出様式!H74=\"\",\"\",提出様式!H74)","v":""},{"$f":"IF(提出様式!L74=\"\",\"\",提出様式!L74)","v":""},{"$f":"IF(提出様式!M74=\"\",\"\",提出様式!M74)","v":""},{"$f":"IF(提出様式!N74=\"\",\"\",提出様式!N74)","v":""}]
[null,51,null,{"$f":"IF(提出様式!C75=\"\",\"\",提出様式!C75)","v":""},null,{"$f":"IF(提出様式!I75=\"\",\"\",提出様式!I75)","v":""},{"$f":"IF(提出様式!K75=\"\",\"\",(ROUNDUP(提出様式!K75/5,0)))","v":""},{"$f":"IF(提出様式!H75=\"\",\"\",提出様式!H75)","v":""},{"$f":"IF(提出様式!L75=\"\",\"\",提出様式!L75)","v":""},{"$f":"IF(提出様式!M75=\"\",\"\",提出様式!M75)","v":""},{"$f":"IF(提出様式!N75=\"\",\"\",提出様式!N75)","v":""}]
[null,52,null,{"$f":"IF(提出様式!C76=\"\",\"\",提出様式!C76)","v":""},null,{"$f":"IF(提出様式!I76=\"\",\"\",提出様式!I76)","v":""},{"$f":"IF(提出様式!K76=\"\",\"\",(ROUNDUP(提出様式!K76/5,0)))","v":""},{"$f":"IF(提出様式!H76=\"\",\"\",提出様式!H76)","v":""},{"$f":"IF(提出様式!L76=\"\",\"\",提出様式!L76)","v":""},{"$f":"IF(提出様式!M76=\"\",\"\",提出様式!M76)","v":""},{"$f":"IF(提出様式!N76=\"\",\"\",提出様式!N76)","v":""}]
[null,53,null,{"$f":"IF(提出様式!C77=\"\",\"\",提出様式!C77)","v":""},null,{"$f":"IF(提出様式!I77=\"\",\"\",提出様式!I77)","v":""},{"$f":"IF(提出様式!K77=\"\",\"\",(ROUNDUP(提出様式!K77/5,0)))","v":""},{"$f":"IF(提出様式!H77=\"\",\"\",提出様式!H77)","v":""},{"$f":"IF(提出様式!L77=\"\",\"\",提出様式!L77)","v":""},{"$f":"IF(提出様式!M77=\"\",\"\",提出様式!M77)","v":""},{"$f":"IF(提出様式!N77=\"\",\"\",提出様式!N77)","v":""}]
[null,54,null,{"$f":"IF(提出様式!C78=\"\",\"\",提出様式!C78)","v":""},null,{"$f":"IF(提出様式!I78=\"\",\"\",提出様式!I78)","v":""},{"$f":"IF(提出様式!K78=\"\",\"\",(ROUNDUP(提出様式!K78/5,0)))","v":""},{"$f":"IF(提出様式!H78=\"\",\"\",提出様式!H78)","v":""},{"$f":"IF(提出様式!L78=\"\",\"\",提出様式!L78)","v":""},{"$f":"IF(提出様式!M78=\"\",\"\",提出様式!M78)","v":""},{"$f":"IF(提出様式!N78=\"\",\"\",提出様式!N78)","v":""}]
[null,55,null,{"$f":"IF(提出様式!C79=\"\",\"\",提出様式!C79)","v":""},null,{"$f":"IF(提出様式!I79=\"\",\"\",提出様式!I79)","v":""},{"$f":"IF(提出様式!K79=\"\",\"\",(ROUNDUP(提出様式!K79/5,0)))","v":""},{"$f":"IF(提出様式!H79=\"\",\"\",提出様式!H79)","v":""},{"$f":"IF(提出様式!L79=\"\",\"\",提出様式!L79)","v":""},{"$f":"IF(提出様式!M79=\"\",\"\",提出様式!M79)","v":""},{"$f":"IF(提出様式!N79=\"\",\"\",提出様式!N79)","v":""}]
[null,56,null,{"$f":"IF(提出様式!C80=\"\",\"\",提出様式!C80)","v":""},null,{"$f":"IF(提出様式!I80=\"\",\"\",提出様式!I80)","v":""},{"$f":"IF(提出様式!K80=\"\",\"\",(ROUNDUP(提出様式!K80/5,0)))","v":""},{"$f":"IF(提出様式!H80=\"\",\"\",提出様式!H80)","v":""},{"$f":"IF(提出様式!L80=\"\",\"\",提出様式!L80)","v":""},{"$f":"IF(提出様式!M80=\"\",\"\",提出様式!M80)","v":""},{"$f":"IF(提出様式!N80=\"\",\"\",提出様式!N80)","v":""}]
[null,57,null,{"$f":"IF(提出様式!C81=\"\",\"\",提出様式!C81)","v":""},null,{"$f":"IF(提出様式!I81=\"\",\"\",提出様式!I81)","v":""},{"$f":"IF(提出様式!K81=\"\",\"\",(ROUNDUP(提出様式!K81/5,0)))","v":""},{"$f":"IF(提出様式!H81=\"\",\"\",提出様式!H81)","v":""},{"$f":"IF(提出様式!L81=\"\",\"\",提出様式!L81)","v":""},{"$f":"IF(提出様式!M81=\"\",\"\",提出様式!M81)","v":""},{"$f":"IF(提出様式!N81=\"\",\"\",提出様式!N81)","v":""}]
[null,58,null,{"$f":"IF(提出様式!C82=\"\",\"\",提出様式!C82)","v":""},null,{"$f":"IF(提出様式!I82=\"\",\"\",提出様式!I82)","v":""},{"$f":"IF(提出様式!K82=\"\",\"\",(ROUNDUP(提出様式!K82/5,0)))","v":""},{"$f":"IF(提出様式!H82=\"\",\"\",提出様式!H82)","v":""},{"$f":"IF(提出様式!L82=\"\",\"\",提出様式!L82)","v":""},{"$f":"IF(提出様式!M82=\"\",\"\",提出様式!M82)","v":""},{"$f":"IF(提出様式!N82=\"\",\"\",提出様式!N82)","v":""}]
[null,59,null,{"$f":"IF(提出様式!C83=\"\",\"\",提出様式!C83)","v":""},null,{"$f":"IF(提出様式!I83=\"\",\"\",提出様式!I83)","v":""},{"$f":"IF(提出様式!K83=\"\",\"\",(ROUNDUP(提出様式!K83/5,0)))","v":""},{"$f":"IF(提出様式!H83=\"\",\"\",提出様式!H83)","v":""},{"$f":"IF(提出様式!L83=\"\",\"\",提出様式!L83)","v":""},{"$f":"IF(提出様式!M83=\"\",\"\",提出様式!M83)","v":""},{"$f":"IF(提出様式!N83=\"\",\"\",提出様式!N83)","v":""}]
[null,60,null,{"$f":"IF(提出様式!C84=\"\",\"\",提出様式!C84)","v":""},null,{"$f":"IF(提出様式!I84=\"\",\"\",提出様式!I84)","v":""},{"$f":"IF(提出様式!K84=\"\",\"\",(ROUNDUP(提出様式!K84/5,0)))","v":""},{"$f":"IF(提出様式!H84=\"\",\"\",提出様式!H84)","v":""},{"$f":"IF(提出様式!L84=\"\",\"\",提出様式!L84)","v":""},{"$f":"IF(提出様式!M84=\"\",\"\",提出様式!M84)","v":""},{"$f":"IF(提出様式!N84=\"\",\"\",提出様式!N84)","v":""}]
[null,61,null,{"$f":"IF(提出様式!C85=\"\",\"\",提出様式!C85)","v":""},null,{"$f":"IF(提出様式!I85=\"\",\"\",提出様式!I85)","v":""},{"$f":"IF(提出様式!K85=\"\",\"\",(ROUNDUP(提出様式!K85/5,0)))","v":""},{"$f":"IF(提出様式!H85=\"\",\"\",提出様式!H85)","v":""},{"$f":"IF(提出様式!L85=\"\",\"\",提出様式!L85)","v":""},{"$f":"IF(提出様式!M85=\"\",\"\",提出様式!M85)","v":""},{"$f":"IF(提出様式!N85=\"\",\"\",提出様式!N85)","v":""}]
[null,62,null,{"$f":"IF(提出様式!C86=\"\",\"\",提出様式!C86)","v":""},null,{"$f":"IF(提出様式!I86=\"\",\"\",提出様式!I86)","v":""},{"$f":"IF(提出様式!K86=\"\",\"\",(ROUNDUP(提出様式!K86/5,0)))","v":""},{"$f":"IF(提出様式!H86=\"\",\"\",提出様式!H86)","v":""},{"$f":"IF(提出様式!L86=\"\",\"\",提出様式!L86)","v":""},{"$f":"IF(提出様式!M86=\"\",\"\",提出様式!M86)","v":""},{"$f":"IF(提出様式!N86=\"\",\"\",提出様式!N86)","v":""}]
[null,63,null,{"$f":"IF(提出様式!C87=\"\",\"\",提出様式!C87)","v":""},null,{"$f":"IF(提出様式!I87=\"\",\"\",提出様式!I87)","v":""},{"$f":"IF(提出様式!K87=\"\",\"\",(ROUNDUP(提出様式!K87/5,0)))","v":""},{"$f":"IF(提出様式!H87=\"\",\"\",提出様式!H87)","v":""},{"$f":"IF(提出様式!L87=\"\",\"\",提出様式!L87)","v":""},{"$f":"IF(提出様式!M87=\"\",\"\",提出様式!M87)","v":""},{"$f":"IF(提出様式!N87=\"\",\"\",提出様式!N87)","v":""}]
[null,64,null,{"$f":"IF(提出様式!C88=\"\",\"\",提出様式!C88)","v":""},null,{"$f":"IF(提出様式!I88=\"\",\"\",提出様式!I88)","v":""},{"$f":"IF(提出様式!K88=\"\",\"\",(ROUNDUP(提出様式!K88/5,0)))","v":""},{"$f":"IF(提出様式!H88=\"\",\"\",提出様式!H88)","v":""},{"$f":"IF(提出様式!L88=\"\",\"\",提出様式!L88)","v":""},{"$f":"IF(提出様式!M88=\"\",\"\",提出様式!M88)","v":""},{"$f":"IF(提出様式!N88=\"\",\"\",提出様式!N88)","v":""}]
[null,65,null,{"$f":"IF(提出様式!C89=\"\",\"\",提出様式!C89)","v":""},null,{"$f":"IF(提出様式!I89=\"\",\"\",提出様式!I89)","v":""},{"$f":"IF(提出様式!K89=\"\",\"\",(ROUNDUP(提出様式!K89/5,0)))","v":""},{"$f":"IF(提出様式!H89=\"\",\"\",提出様式!H89)","v":""},{"$f":"IF(提出様式!L89=\"\",\"\",提出様式!L89)","v":""},{"$f":"IF(提出様式!M89=\"\",\"\",提出様式!M89)","v":""},{"$f":"IF(提出様式!N89=\"\",\"\",提出様式!N89)","v":""}]
[null,66,null,{"$f":"IF(提出様式!C90=\"\",\"\",提出様式!C90)","v":""},null,{"$f":"IF(提出様式!I90=\"\",\"\",提出様式!I90)","v":""},{"$f":"IF(提出様式!K90=\"\",\"\",(ROUNDUP(提出様式!K90/5,0)))","v":""},{"$f":"IF(提出様式!H90=\"\",\"\",提出様式!H90)","v":""},{"$f":"IF(提出様式!L90=\"\",\"\",提出様式!L90)","v":""},{"$f":"IF(提出様式!M90=\"\",\"\",提出様式!M90)","v":""},{"$f":"IF(提出様式!N90=\"\",\"\",提出様式!N90)","v":""}]
[null,67,null,{"$f":"IF(提出様式!C91=\"\",\"\",提出様式!C91)","v":""},null,{"$f":"IF(提出様式!I91=\"\",\"\",提出様式!I91)","v":""},{"$f":"IF(提出様式!K91=\"\",\"\",(ROUNDUP(提出様式!K91/5,0)))","v":""},{"$f":"IF(提出様式!H91=\"\",\"\",提出様式!H91)","v":""},{"$f":"IF(提出様式!L91=\"\",\"\",提出様式!L91)","v":""},{"$f":"IF(提出様式!M91=\"\",\"\",提出様式!M91)","v":""},{"$f":"IF(提出様式!N91=\"\",\"\",提出様式!N91)","v":""}]
[null,68,null,{"$f":"IF(提出様式!C92=\"\",\"\",提出様式!C92)","v":""},null,{"$f":"IF(提出様式!I92=\"\",\"\",提出様式!I92)","v":""},{"$f":"IF(提出様式!K92=\"\",\"\",(ROUNDUP(提出様式!K92/5,0)))","v":""},{"$f":"IF(提出様式!H92=\"\",\"\",提出様式!H92)","v":""},{"$f":"IF(提出様式!L92=\"\",\"\",提出様式!L92)","v":""},{"$f":"IF(提出様式!M92=\"\",\"\",提出様式!M92)","v":""},{"$f":"IF(提出様式!N92=\"\",\"\",提出様式!N92)","v":""}]
[null,69,null,{"$f":"IF(提出様式!C93=\"\",\"\",提出様式!C93)","v":""},null,{"$f":"IF(提出様式!I93=\"\",\"\",提出様式!I93)","v":""},{"$f":"IF(提出様式!K93=\"\",\"\",(ROUNDUP(提出様式!K93/5,0)))","v":""},{"$f":"IF(提出様式!H93=\"\",\"\",提出様式!H93)","v":""},{"$f":"IF(提出様式!L93=\"\",\"\",提出様式!L93)","v":""},{"$f":"IF(提出様式!M93=\"\",\"\",提出様式!M93)","v":""},{"$f":"IF(提出様式!N93=\"\",\"\",提出様式!N93)","v":""}]
[null,70,null,{"$f":"IF(提出様式!C94=\"\",\"\",提出様式!C94)","v":""},null,{"$f":"IF(提出様式!I94=\"\",\"\",提出様式!I94)","v":""},{"$f":"IF(提出様式!K94=\"\",\"\",(ROUNDUP(提出様式!K94/5,0)))","v":""},{"$f":"IF(提出様式!H94=\"\",\"\",提出様式!H94)","v":""},{"$f":"IF(提出様式!L94=\"\",\"\",提出様式!L94)","v":""},{"$f":"IF(提出様式!M94=\"\",\"\",提出様式!M94)","v":""},{"$f":"IF(提出様式!N94=\"\",\"\",提出様式!N94)","v":""}]
[null,71,null,{"$f":"IF(提出様式!C95=\"\",\"\",提出様式!C95)","v":""},null,{"$f":"IF(提出様式!I95=\"\",\"\",提出様式!I95)","v":""},{"$f":"IF(提出様式!K95=\"\",\"\",(ROUNDUP(提出様式!K95/5,0)))","v":""},{"$f":"IF(提出様式!H95=\"\",\"\",提出様式!H95)","v":""},{"$f":"IF(提出様式!L95=\"\",\"\",提出様式!L95)","v":""},{"$f":"IF(提出様式!M95=\"\",\"\",提出様式!M95)","v":""},{"$f":"IF(提出様式!N95=\"\",\"\",提出様式!N95)","v":""}]
[null,72,null,{"$f":"IF(提出様式!C96=\"\",\"\",提出様式!C96)","v":""},null,{"$f":"IF(提出様式!I96=\"\",\"\",提出様式!I96)","v":""},{"$f":"IF(提出様式!K96=\"\",\"\",(ROUNDUP(提出様式!K96/5,0)))","v":""},{"$f":"IF(提出様式!H96=\"\",\"\",提出様式!H96)","v":""},{"$f":"IF(提出様式!L96=\"\",\"\",提出様式!L96)","v":""},{"$f":"IF(提出様式!M96=\"\",\"\",提出様式!M96)","v":""},{"$f":"IF(提出様式!N96=\"\",\"\",提出様式!N96)","v":""}]
[null,73,null,{"$f":"IF(提出様式!C97=\"\",\"\",提出様式!C97)","v":""},null,{"$f":"IF(提出様式!I97=\"\",\"\",提出様式!I97)","v":""},{"$f":"IF(提出様式!K97=\"\",\"\",(ROUNDUP(提出様式!K97/5,0)))","v":""},{"$f":"IF(提出様式!H97=\"\",\"\",提出様式!H97)","v":""},{"$f":"IF(提出様式!L97=\"\",\"\",提出様式!L97)","v":""},{"$f":"IF(提出様式!M97=\"\",\"\",提出様式!M97)","v":""},{"$f":"IF(提出様式!N97=\"\",\"\",提出様式!N97)","v":""}]
[null,74,null,{"$f":"IF(提出様式!C98=\"\",\"\",提出様式!C98)","v":""},null,{"$f":"IF(提出様式!I98=\"\",\"\",提出様式!I98)","v":""},{"$f":"IF(提出様式!K98=\"\",\"\",(ROUNDUP(提出様式!K98/5,0)))","v":""},{"$f":"IF(提出様式!H98=\"\",\"\",提出様式!H98)","v":""},{"$f":"IF(提出様式!L98=\"\",\"\",提出様式!L98)","v":""},{"$f":"IF(提出様式!M98=\"\",\"\",提出様式!M98)","v":""},{"$f":"IF(提出様式!N98=\"\",\"\",提出様式!N98)","v":""}]
[null,75,null,{"$f":"IF(提出様式!C99=\"\",\"\",提出様式!C99)","v":""},null,{"$f":"IF(提出様式!I99=\"\",\"\",提出様式!I99)","v":""},{"$f":"IF(提出様式!K99=\"\",\"\",(ROUNDUP(提出様式!K99/5,0)))","v":""},{"$f":"IF(提出様式!H99=\"\",\"\",提出様式!H99)","v":""},{"$f":"IF(提出様式!L99=\"\",\"\",提出様式!L99)","v":""},{"$f":"IF(提出様式!M99=\"\",\"\",提出様式!M99)","v":""},{"$f":"IF(提出様式!N99=\"\",\"\",提出様式!N99)","v":""}]
[null,76,null,{"$f":"IF(提出様式!C100=\"\",\"\",提出様式!C100)","v":""},null,{"$f":"IF(提出様式!I100=\"\",\"\",提出様式!I100)","v":""},{"$f":"IF(提出様式!K100=\"\",\"\",(ROUNDUP(提出様式!K100/5,0)))","v":""},{"$f":"IF(提出様式!H100=\"\",\"\",提出様式!H100)","v":""},{"$f":"IF(提出様式!L100=\"\",\"\",提出様式!L100)","v":""},{"$f":"IF(提出様式!M100=\"\",\"\",提出様式!M100)","v":""},{"$f":"IF(提出様式!N100=\"\",\"\",提出様式!N100)","v":""}]
[null,77,null,{"$f":"IF(提出様式!C101=\"\",\"\",提出様式!C101)","v":""},null,{"$f":"IF(提出様式!I101=\"\",\"\",提出様式!I101)","v":""},{"$f":"IF(提出様式!K101=\"\",\"\",(ROUNDUP(提出様式!K101/5,0)))","v":""},{"$f":"IF(提出様式!H101=\"\",\"\",提出様式!H101)","v":""},{"$f":"IF(提出様式!L101=\"\",\"\",提出様式!L101)","v":""},{"$f":"IF(提出様式!M101=\"\",\"\",提出様式!M101)","v":""},{"$f":"IF(提出様式!N101=\"\",\"\",提出様式!N101)","v":""}]
[null,78,null,{"$f":"IF(提出様式!C102=\"\",\"\",提出様式!C102)","v":""},null,{"$f":"IF(提出様式!I102=\"\",\"\",提出様式!I102)","v":""},{"$f":"IF(提出様式!K102=\"\",\"\",(ROUNDUP(提出様式!K102/5,0)))","v":""},{"$f":"IF(提出様式!H102=\"\",\"\",提出様式!H102)","v":""},{"$f":"IF(提出様式!L102=\"\",\"\",提出様式!L102)","v":""},{"$f":"IF(提出様式!M102=\"\",\"\",提出様式!M102)","v":""},{"$f":"IF(提出様式!N102=\"\",\"\",提出様式!N102)","v":""}]
[null,79,null,{"$f":"IF(提出様式!C103=\"\",\"\",提出様式!C103)","v":""},null,{"$f":"IF(提出様式!I103=\"\",\"\",提出様式!I103)","v":""},{"$f":"IF(提出様式!K103=\"\",\"\",(ROUNDUP(提出様式!K103/5,0)))","v":""},{"$f":"IF(提出様式!H103=\"\",\"\",提出様式!H103)","v":""},{"$f":"IF(提出様式!L103=\"\",\"\",提出様式!L103)","v":""},{"$f":"IF(提出様式!M103=\"\",\"\",提出様式!M103)","v":""},{"$f":"IF(提出様式!N103=\"\",\"\",提出様式!N103)","v":""}]
[null,80,null,{"$f":"IF(提出様式!C104=\"\",\"\",提出様式!C104)","v":""},null,{"$f":"IF(提出様式!I104=\"\",\"\",提出様式!I104)","v":""},{"$f":"IF(提出様式!K104=\"\",\"\",(ROUNDUP(提出様式!K104/5,0)))","v":""},{"$f":"IF(提出様式!H104=\"\",\"\",提出様式!H104)","v":""},{"$f":"IF(提出様式!L104=\"\",\"\",提出様式!L104)","v":""},{"$f":"IF(提出様式!M104=\"\",\"\",提出様式!M104)","v":""},{"$f":"IF(提出様式!N104=\"\",\"\",提出様式!N104)","v":""}]
[null,81,null,{"$f":"IF(提出様式!C105=\"\",\"\",提出様式!C105)","v":""},null,{"$f":"IF(提出様式!I105=\"\",\"\",提出様式!I105)","v":""},{"$f":"IF(提出様式!K105=\"\",\"\",(ROUNDUP(提出様式!K105/5,0)))","v":""},{"$f":"IF(提出様式!H105=\"\",\"\",提出様式!H105)","v":""},{"$f":"IF(提出様式!L105=\"\",\"\",提出様式!L105)","v":""},{"$f":"IF(提出様式!M105=\"\",\"\",提出様式!M105)","v":""},{"$f":"IF(提出様式!N105=\"\",\"\",提出様式!N105)","v":""}]
[null,82,null,{"$f":"IF(提出様式!C106=\"\",\"\",提出様式!C106)","v":""},null,{"$f":"IF(提出様式!I106=\"\",\"\",提出様式!I106)","v":""},{"$f":"IF(提出様式!K106=\"\",\"\",(ROUNDUP(提出様式!K106/5,0)))","v":""},{"$f":"IF(提出様式!H106=\"\",\"\",提出様式!H106)","v":""},{"$f":"IF(提出様式!L106=\"\",\"\",提出様式!L106)","v":""},{"$f":"IF(提出様式!M106=\"\",\"\",提出様式!M106)","v":""},{"$f":"IF(提出様式!N106=\"\",\"\",提出様式!N106)","v":""}]
[null,83,null,{"$f":"IF(提出様式!C107=\"\",\"\",提出様式!C107)","v":""},null,{"$f":"IF(提出様式!I107=\"\",\"\",提出様式!I107)","v":""},{"$f":"IF(提出様式!K107=\"\",\"\",(ROUNDUP(提出様式!K107/5,0)))","v":""},{"$f":"IF(提出様式!H107=\"\",\"\",提出様式!H107)","v":""},{"$f":"IF(提出様式!L107=\"\",\"\",提出様式!L107)","v":""},{"$f":"IF(提出様式!M107=\"\",\"\",提出様式!M107)","v":""},{"$f":"IF(提出様式!N107=\"\",\"\",提出様式!N107)","v":""}]
[null,84,null,{"$f":"IF(提出様式!C108=\"\",\"\",提出様式!C108)","v":""},null,{"$f":"IF(提出様式!I108=\"\",\"\",提出様式!I108)","v":""},{"$f":"IF(提出様式!K108=\"\",\"\",(ROUNDUP(提出様式!K108/5,0)))","v":""},{"$f":"IF(提出様式!H108=\"\",\"\",提出様式!H108)","v":""},{"$f":"IF(提出様式!L108=\"\",\"\",提出様式!L108)","v":""},{"$f":"IF(提出様式!M108=\"\",\"\",提出様式!M108)","v":""},{"$f":"IF(提出様式!N108=\"\",\"\",提出様式!N108)","v":""}]
[null,85,null,{"$f":"IF(提出様式!C109=\"\",\"\",提出様式!C109)","v":""},null,{"$f":"IF(提出様式!I109=\"\",\"\",提出様式!I109)","v":""},{"$f":"IF(提出様式!K109=\"\",\"\",(ROUNDUP(提出様式!K109/5,0)))","v":""},{"$f":"IF(提出様式!H109=\"\",\"\",提出様式!H109)","v":""},{"$f":"IF(提出様式!L109=\"\",\"\",提出様式!L109)","v":""},{"$f":"IF(提出様式!M109=\"\",\"\",提出様式!M109)","v":""},{"$f":"IF(提出様式!N109=\"\",\"\",提出様式!N109)","v":""}]
[null,86,null,{"$f":"IF(提出様式!C110=\"\",\"\",提出様式!C110)","v":""},null,{"$f":"IF(提出様式!I110=\"\",\"\",提出様式!I110)","v":""},{"$f":"IF(提出様式!K110=\"\",\"\",(ROUNDUP(提出様式!K110/5,0)))","v":""},{"$f":"IF(提出様式!H110=\"\",\"\",提出様式!H110)","v":""},{"$f":"IF(提出様式!L110=\"\",\"\",提出様式!L110)","v":""},{"$f":"IF(提出様式!M110=\"\",\"\",提出様式!M110)","v":""},{"$f":"IF(提出様式!N110=\"\",\"\",提出様式!N110)","v":""}]
[null,87,null,{"$f":"IF(提出様式!C111=\"\",\"\",提出様式!C111)","v":""},null,{"$f":"IF(提出様式!I111=\"\",\"\",提出様式!I111)","v":""},{"$f":"IF(提出様式!K111=\"\",\"\",(ROUNDUP(提出様式!K111/5,0)))","v":""},{"$f":"IF(提出様式!H111=\"\",\"\",提出様式!H111)","v":""},{"$f":"IF(提出様式!L111=\"\",\"\",提出様式!L111)","v":""},{"$f":"IF(提出様式!M111=\"\",\"\",提出様式!M111)","v":""},{"$f":"IF(提出様式!N111=\"\",\"\",提出様式!N111)","v":""}]
[null,88,null,{"$f":"IF(提出様式!C112=\"\",\"\",提出様式!C112)","v":""},null,{"$f":"IF(提出様式!I112=\"\",\"\",提出様式!I112)","v":""},{"$f":"IF(提出様式!K112=\"\",\"\",(ROUNDUP(提出様式!K112/5,0)))","v":""},{"$f":"IF(提出様式!H112=\"\",\"\",提出様式!H112)","v":""},{"$f":"IF(提出様式!L112=\"\",\"\",提出様式!L112)","v":""},{"$f":"IF(提出様式!M112=\"\",\"\",提出様式!M112)","v":""},{"$f":"IF(提出様式!N112=\"\",\"\",提出様式!N112)","v":""}]
[null,89,null,{"$f":"IF(提出様式!C113=\"\",\"\",提出様式!C113)","v":""},null,{"$f":"IF(提出様式!I113=\"\",\"\",提出様式!I113)","v":""},{"$f":"IF(提出様式!K113=\"\",\"\",(ROUNDUP(提出様式!K113/5,0)))","v":""},{"$f":"IF(提出様式!H113=\"\",\"\",提出様式!H113)","v":""},{"$f":"IF(提出様式!L113=\"\",\"\",提出様式!L113)","v":""},{"$f":"IF(提出様式!M113=\"\",\"\",提出様式!M113)","v":""},{"$f":"IF(提出様式!N113=\"\",\"\",提出様式!N113)","v":""}]
[null,90,null,{"$f":"IF(提出様式!C114=\"\",\"\",提出様式!C114)","v":""},null,{"$f":"IF(提出様式!I114=\"\",\"\",提出様式!I114)","v":""},{"$f":"IF(提出様式!K114=\"\",\"\",(ROUNDUP(提出様式!K114/5,0)))","v":""},{"$f":"IF(提出様式!H114=\"\",\"\",提出様式!H114)","v":""},{"$f":"IF(提出様式!L114=\"\",\"\",提出様式!L114)","v":""},{"$f":"IF(提出様式!M114=\"\",\"\",提出様式!M114)","v":""},{"$f":"IF(提出様式!N114=\"\",\"\",提出様式!N114)","v":""}]
[null,91,null,{"$f":"IF(提出様式!C115=\"\",\"\",提出様式!C115)","v":""},null,{"$f":"IF(提出様式!I115=\"\",\"\",提出様式!I115)","v":""},{"$f":"IF(提出様式!K115=\"\",\"\",(ROUNDUP(提出様式!K115/5,0)))","v":""},{"$f":"IF(提出様式!H115=\"\",\"\",提出様式!H115)","v":""},{"$f":"IF(提出様式!L115=\"\",\"\",提出様式!L115)","v":""},{"$f":"IF(提出様式!M115=\"\",\"\",提出様式!M115)","v":""},{"$f":"IF(提出様式!N115=\"\",\"\",提出様式!N115)","v":""}]
[null,92,null,{"$f":"IF(提出様式!C116=\"\",\"\",提出様式!C116)","v":""},null,{"$f":"IF(提出様式!I116=\"\",\"\",提出様式!I116)","v":""},{"$f":"IF(提出様式!K116=\"\",\"\",(ROUNDUP(提出様式!K116/5,0)))","v":""},{"$f":"IF(提出様式!H116=\"\",\"\",提出様式!H116)","v":""},{"$f":"IF(提出様式!L116=\"\",\"\",提出様式!L116)","v":""},{"$f":"IF(提出様式!M116=\"\",\"\",提出様式!M116)","v":""},{"$f":"IF(提出様式!N116=\"\",\"\",提出様式!N116)","v":""}]
[null,93,null,{"$f":"IF(提出様式!C117=\"\",\"\",提出様式!C117)","v":""},null,{"$f":"IF(提出様式!I117=\"\",\"\",提出様式!I117)","v":""},{"$f":"IF(提出様式!K117=\"\",\"\",(ROUNDUP(提出様式!K117/5,0)))","v":""},{"$f":"IF(提出様式!H117=\"\",\"\",提出様式!H117)","v":""},{"$f":"IF(提出様式!L117=\"\",\"\",提出様式!L117)","v":""},{"$f":"IF(提出様式!M117=\"\",\"\",提出様式!M117)","v":""},{"$f":"IF(提出様式!N117=\"\",\"\",提出様式!N117)","v":""}]
[null,94,null,{"$f":"IF(提出様式!C118=\"\",\"\",提出様式!C118)","v":""},null,{"$f":"IF(提出様式!I118=\"\",\"\",提出様式!I118)","v":""},{"$f":"IF(提出様式!K118=\"\",\"\",(ROUNDUP(提出様式!K118/5,0)))","v":""},{"$f":"IF(提出様式!H118=\"\",\"\",提出様式!H118)","v":""},{"$f":"IF(提出様式!L118=\"\",\"\",提出様式!L118)","v":""},{"$f":"IF(提出様式!M118=\"\",\"\",提出様式!M118)","v":""},{"$f":"IF(提出様式!N118=\"\",\"\",提出様式!N118)","v":""}]
[null,95,null,{"$f":"IF(提出様式!C119=\"\",\"\",提出様式!C119)","v":""},null,{"$f":"IF(提出様式!I119=\"\",\"\",提出様式!I119)","v":""},{"$f":"IF(提出様式!K119=\"\",\"\",(ROUNDUP(提出様式!K119/5,0)))","v":""},{"$f":"IF(提出様式!H119=\"\",\"\",提出様式!H119)","v":""},{"$f":"IF(提出様式!L119=\"\",\"\",提出様式!L119)","v":""},{"$f":"IF(提出様式!M119=\"\",\"\",提出様式!M119)","v":""},{"$f":"IF(提出様式!N119=\"\",\"\",提出様式!N119)","v":""}]
[null,96,null,{"$f":"IF(提出様式!C120=\"\",\"\",提出様式!C120)","v":""},null,{"$f":"IF(提出様式!I120=\"\",\"\",提出様式!I120)","v":""},{"$f":"IF(提出様式!K120=\"\",\"\",(ROUNDUP(提出様式!K120/5,0)))","v":""},{"$f":"IF(提出様式!H120=\"\",\"\",提出様式!H120)","v":""},{"$f":"IF(提出様式!L120=\"\",\"\",提出様式!L120)","v":""},{"$f":"IF(提出様式!M120=\"\",\"\",提出様式!M120)","v":""},{"$f":"IF(提出様式!N120=\"\",\"\",提出様式!N120)","v":""}]
[null,97,null,{"$f":"IF(提出様式!C121=\"\",\"\",提出様式!C121)","v":""},null,{"$f":"IF(提出様式!I121=\"\",\"\",提出様式!I121)","v":""},{"$f":"IF(提出様式!K121=\"\",\"\",(ROUNDUP(提出様式!K121/5,0)))","v":""},{"$f":"IF(提出様式!H121=\"\",\"\",提出様式!H121)","v":""},{"$f":"IF(提出様式!L121=\"\",\"\",提出様式!L121)","v":""},{"$f":"IF(提出様式!M121=\"\",\"\",提出様式!M121)","v":""},{"$f":"IF(提出様式!N121=\"\",\"\",提出様式!N121)","v":""}]
[null,98,null,{"$f":"IF(提出様式!C122=\"\",\"\",提出様式!C122)","v":""},null,{"$f":"IF(提出様式!I122=\"\",\"\",提出様式!I122)","v":""},{"$f":"IF(提出様式!K122=\"\",\"\",(ROUNDUP(提出様式!K122/5,0)))","v":""},{"$f":"IF(提出様式!H122=\"\",\"\",提出様式!H122)","v":""},{"$f":"IF(提出様式!L122=\"\",\"\",提出様式!L122)","v":""},{"$f":"IF(提出様式!M122=\"\",\"\",提出様式!M122)","v":""},{"$f":"IF(提出様式!N122=\"\",\"\",提出様式!N122)","v":""}]
[null,99,null,{"$f":"IF(提出様式!C123=\"\",\"\",提出様式!C123)","v":""},null,{"$f":"IF(提出様式!I123=\"\",\"\",提出様式!I123)","v":""},{"$f":"IF(提出様式!K123=\"\",\"\",(ROUNDUP(提出様式!K123/5,0)))","v":""},{"$f":"IF(提出様式!H123=\"\",\"\",提出様式!H123)","v":""},{"$f":"IF(提出様式!L123=\"\",\"\",提出様式!L123)","v":""},{"$f":"IF(提出様式!M123=\"\",\"\",提出様式!M123)","v":""},{"$f":"IF(提出様式!N123=\"\",\"\",提出様式!N123)","v":""}]
[null,100,null,{"$f":"IF(提出様式!C124=\"\",\"\",提出様式!C124)","v":""},null,{"$f":"IF(提出様式!I124=\"\",\"\",提出様式!I124)","v":""},{"$f":"IF(提出様式!K124=\"\",\"\",(ROUNDUP(提出様式!K124/5,0)))","v":""},{"$f":"IF(提出様式!H124=\"\",\"\",提出様式!H124)","v":""},{"$f":"IF(提出様式!L124=\"\",\"\",提出様式!L124)","v":""},{"$f":"IF(提出様式!M124=\"\",\"\",提出様式!M124)","v":""},{"$f":"IF(提出様式!N124=\"\",\"\",提出様式!N124)","v":""}]
[null,101,null,{"$f":"IF(提出様式!C125=\"\",\"\",提出様式!C125)","v":""},null,{"$f":"IF(提出様式!I125=\"\",\"\",提出様式!I125)","v":""},{"$f":"IF(提出様式!K125=\"\",\"\",(ROUNDUP(提出様式!K125/5,0)))","v":""},{"$f":"IF(提出様式!H125=\"\",\"\",提出様式!H125)","v":""},{"$f":"IF(提出様式!L125=\"\",\"\",提出様式!L125)","v":""},{"$f":"IF(提出様式!M125=\"\",\"\",提出様式!M125)","v":""},{"$f":"IF(提出様式!N125=\"\",\"\",提出様式!N125)","v":""}]
[null,102,null,{"$f":"IF(提出様式!C126=\"\",\"\",提出様式!C126)","v":""},null,{"$f":"IF(提出様式!I126=\"\",\"\",提出様式!I126)","v":""},{"$f":"IF(提出様式!K126=\"\",\"\",(ROUNDUP(提出様式!K126/5,0)))","v":""},{"$f":"IF(提出様式!H126=\"\",\"\",提出様式!H126)","v":""},{"$f":"IF(提出様式!L126=\"\",\"\",提出様式!L126)","v":""},{"$f":"IF(提出様式!M126=\"\",\"\",提出様式!M126)","v":""},{"$f":"IF(提出様式!N126=\"\",\"\",提出様式!N126)","v":""}]
[null,103,null,{"$f":"IF(提出様式!C127=\"\",\"\",提出様式!C127)","v":""},null,{"$f":"IF(提出様式!I127=\"\",\"\",提出様式!I127)","v":""},{"$f":"IF(提出様式!K127=\"\",\"\",(ROUNDUP(提出様式!K127/5,0)))","v":""},{"$f":"IF(提出様式!H127=\"\",\"\",提出様式!H127)","v":""},{"$f":"IF(提出様式!L127=\"\",\"\",提出様式!L127)","v":""},{"$f":"IF(提出様式!M127=\"\",\"\",提出様式!M127)","v":""},{"$f":"IF(提出様式!N127=\"\",\"\",提出様式!N127)","v":""}]
[null,104,null,{"$f":"IF(提出様式!C128=\"\",\"\",提出様式!C128)","v":""},null,{"$f":"IF(提出様式!I128=\"\",\"\",提出様式!I128)","v":""},{"$f":"IF(提出様式!K128=\"\",\"\",(ROUNDUP(提出様式!K128/5,0)))","v":""},{"$f":"IF(提出様式!H128=\"\",\"\",提出様式!H128)","v":""},{"$f":"IF(提出様式!L128=\"\",\"\",提出様式!L128)","v":""},{"$f":"IF(提出様式!M128=\"\",\"\",提出様式!M128)","v":""},{"$f":"IF(提出様式!N128=\"\",\"\",提出様式!N128)","v":""}]
[null,105,null,{"$f":"IF(提出様式!C129=\"\",\"\",提出様式!C129)","v":""},null,{"$f":"IF(提出様式!I129=\"\",\"\",提出様式!I129)","v":""},{"$f":"IF(提出様式!K129=\"\",\"\",(ROUNDUP(提出様式!K129/5,0)))","v":""},{"$f":"IF(提出様式!H129=\"\",\"\",提出様式!H129)","v":""},{"$f":"IF(提出様式!L129=\"\",\"\",提出様式!L129)","v":""},{"$f":"IF(提出様式!M129=\"\",\"\",提出様式!M129)","v":""},{"$f":"IF(提出様式!N129=\"\",\"\",提出様式!N129)","v":""}]
[null,106,null,{"$f":"IF(提出様式!C130=\"\",\"\",提出様式!C130)","v":""},null,{"$f":"IF(提出様式!I130=\"\",\"\",提出様式!I130)","v":""},{"$f":"IF(提出様式!K130=\"\",\"\",(ROUNDUP(提出様式!K130/5,0)))","v":""},{"$f":"IF(提出様式!H130=\"\",\"\",提出様式!H130)","v":""},{"$f":"IF(提出様式!L130=\"\",\"\",提出様式!L130)","v":""},{"$f":"IF(提出様式!M130=\"\",\"\",提出様式!M130)","v":""},{"$f":"IF(提出様式!N130=\"\",\"\",提出様式!N130)","v":""}]
[null,107,null,{"$f":"IF(提出様式!C131=\"\",\"\",提出様式!C131)","v":""},null,{"$f":"IF(提出様式!I131=\"\",\"\",提出様式!I131)","v":""},{"$f":"IF(提出様式!K131=\"\",\"\",(ROUNDUP(提出様式!K131/5,0)))","v":""},{"$f":"IF(提出様式!H131=\"\",\"\",提出様式!H131)","v":""},{"$f":"IF(提出様式!L131=\"\",\"\",提出様式!L131)","v":""},{"$f":"IF(提出様式!M131=\"\",\"\",提出様式!M131)","v":""},{"$f":"IF(提出様式!N131=\"\",\"\",提出様式!N131)","v":""}]
[null,108,null,{"$f":"IF(提出様式!C132=\"\",\"\",提出様式!C132)","v":""},null,{"$f":"IF(提出様式!I132=\"\",\"\",提出様式!I132)","v":""},{"$f":"IF(提出様式!K132=\"\",\"\",(ROUNDUP(提出様式!K132/5,0)))","v":""},{"$f":"IF(提出様式!H132=\"\",\"\",提出様式!H132)","v":""},{"$f":"IF(提出様式!L132=\"\",\"\",提出様式!L132)","v":""},{"$f":"IF(提出様式!M132=\"\",\"\",提出様式!M132)","v":""},{"$f":"IF(提出様式!N132=\"\",\"\",提出様式!N132)","v":""}]
[null,109,null,{"$f":"IF(提出様式!C133=\"\",\"\",提出様式!C133)","v":""},null,{"$f":"IF(提出様式!I133=\"\",\"\",提出様式!I133)","v":""},{"$f":"IF(提出様式!K133=\"\",\"\",(ROUNDUP(提出様式!K133/5,0)))","v":""},{"$f":"IF(提出様式!H133=\"\",\"\",提出様式!H133)","v":""},{"$f":"IF(提出様式!L133=\"\",\"\",提出様式!L133)","v":""},{"$f":"IF(提出様式!M133=\"\",\"\",提出様式!M133)","v":""},{"$f":"IF(提出様式!N133=\"\",\"\",提出様式!N133)","v":""}]
[null,110,null,{"$f":"IF(提出様式!C134=\"\",\"\",提出様式!C134)","v":""},null,{"$f":"IF(提出様式!I134=\"\",\"\",提出様式!I134)","v":""},{"$f":"IF(提出様式!K134=\"\",\"\",(ROUNDUP(提出様式!K134/5,0)))","v":""},{"$f":"IF(提出様式!H134=\"\",\"\",提出様式!H134)","v":""},{"$f":"IF(提出様式!L134=\"\",\"\",提出様式!L134)","v":""},{"$f":"IF(提出様式!M134=\"\",\"\",提出様式!M134)","v":""},{"$f":"IF(提出様式!N134=\"\",\"\",提出様式!N134)","v":""}]
[null,111,null,{"$f":"IF(提出様式!C135=\"\",\"\",提出様式!C135)","v":""},null,{"$f":"IF(提出様式!I135=\"\",\"\",提出様式!I135)","v":""},{"$f":"IF(提出様式!K135=\"\",\"\",(ROUNDUP(提出様式!K135/5,0)))","v":""},{"$f":"IF(提出様式!H135=\"\",\"\",提出様式!H135)","v":""},{"$f":"IF(提出様式!L135=\"\",\"\",提出様式!L135)","v":""},{"$f":"IF(提出様式!M135=\"\",\"\",提出様式!M135)","v":""},{"$f":"IF(提出様式!N135=\"\",\"\",提出様式!N135)","v":""}]
[null,112,null,{"$f":"IF(提出様式!C136=\"\",\"\",提出様式!C136)","v":""},null,{"$f":"IF(提出様式!I136=\"\",\"\",提出様式!I136)","v":""},{"$f":"IF(提出様式!K136=\"\",\"\",(ROUNDUP(提出様式!K136/5,0)))","v":""},{"$f":"IF(提出様式!H136=\"\",\"\",提出様式!H136)","v":""},{"$f":"IF(提出様式!L136=\"\",\"\",提出様式!L136)","v":""},{"$f":"IF(提出様式!M136=\"\",\"\",提出様式!M136)","v":""},{"$f":"IF(提出様式!N136=\"\",\"\",提出様式!N136)","v":""}]
[null,113,null,{"$f":"IF(提出様式!C137=\"\",\"\",提出様式!C137)","v":""},null,{"$f":"IF(提出様式!I137=\"\",\"\",提出様式!I137)","v":""},{"$f":"IF(提出様式!K137=\"\",\"\",(ROUNDUP(提出様式!K137/5,0)))","v":""},{"$f":"IF(提出様式!H137=\"\",\"\",提出様式!H137)","v":""},{"$f":"IF(提出様式!L137=\"\",\"\",提出様式!L137)","v":""},{"$f":"IF(提出様式!M137=\"\",\"\",提出様式!M137)","v":""},{"$f":"IF(提出様式!N137=\"\",\"\",提出様式!N137)","v":""}]
[null,114,null,{"$f":"IF(提出様式!C138=\"\",\"\",提出様式!C138)","v":""},null,{"$f":"IF(提出様式!I138=\"\",\"\",提出様式!I138)","v":""},{"$f":"IF(提出様式!K138=\"\",\"\",(ROUNDUP(提出様式!K138/5,0)))","v":""},{"$f":"IF(提出様式!H138=\"\",\"\",提出様式!H138)","v":""},{"$f":"IF(提出様式!L138=\"\",\"\",提出様式!L138)","v":""},{"$f":"IF(提出様式!M138=\"\",\"\",提出様式!M138)","v":""},{"$f":"IF(提出様式!N138=\"\",\"\",提出様式!N138)","v":""}]
[null,115,null,{"$f":"IF(提出様式!C139=\"\",\"\",提出様式!C139)","v":""},null,{"$f":"IF(提出様式!I139=\"\",\"\",提出様式!I139)","v":""},{"$f":"IF(提出様式!K139=\"\",\"\",(ROUNDUP(提出様式!K139/5,0)))","v":""},{"$f":"IF(提出様式!H139=\"\",\"\",提出様式!H139)","v":""},{"$f":"IF(提出様式!L139=\"\",\"\",提出様式!L139)","v":""},{"$f":"IF(提出様式!M139=\"\",\"\",提出様式!M139)","v":""},{"$f":"IF(提出様式!N139=\"\",\"\",提出様式!N139)","v":""}]
[null,116,null,{"$f":"IF(提出様式!C140=\"\",\"\",提出様式!C140)","v":""},null,{"$f":"IF(提出様式!I140=\"\",\"\",提出様式!I140)","v":""},{"$f":"IF(提出様式!K140=\"\",\"\",(ROUNDUP(提出様式!K140/5,0)))","v":""},{"$f":"IF(提出様式!H140=\"\",\"\",提出様式!H140)","v":""},{"$f":"IF(提出様式!L140=\"\",\"\",提出様式!L140)","v":""},{"$f":"IF(提出様式!M140=\"\",\"\",提出様式!M140)","v":""},{"$f":"IF(提出様式!N140=\"\",\"\",提出様式!N140)","v":""}]
[null,117,null,{"$f":"IF(提出様式!C141=\"\",\"\",提出様式!C141)","v":""},null,{"$f":"IF(提出様式!I141=\"\",\"\",提出様式!I141)","v":""},{"$f":"IF(提出様式!K141=\"\",\"\",(ROUNDUP(提出様式!K141/5,0)))","v":""},{"$f":"IF(提出様式!H141=\"\",\"\",提出様式!H141)","v":""},{"$f":"IF(提出様式!L141=\"\",\"\",提出様式!L141)","v":""},{"$f":"IF(提出様式!M141=\"\",\"\",提出様式!M141)","v":""},{"$f":"IF(提出様式!N141=\"\",\"\",提出様式!N141)","v":""}]
[null,118,null,{"$f":"IF(提出様式!C142=\"\",\"\",提出様式!C142)","v":""},null,{"$f":"IF(提出様式!I142=\"\",\"\",提出様式!I142)","v":""},{"$f":"IF(提出様式!K142=\"\",\"\",(ROUNDUP(提出様式!K142/5,0)))","v":""},{"$f":"IF(提出様式!H142=\"\",\"\",提出様式!H142)","v":""},{"$f":"IF(提出様式!L142=\"\",\"\",提出様式!L142)","v":""},{"$f":"IF(提出様式!M142=\"\",\"\",提出様式!M142)","v":""},{"$f":"IF(提出様式!N142=\"\",\"\",提出様式!N142)","v":""}]
[null,119,null,{"$f":"IF(提出様式!C143=\"\",\"\",提出様式!C143)","v":""},null,{"$f":"IF(提出様式!I143=\"\",\"\",提出様式!I143)","v":""},{"$f":"IF(提出様式!K143=\"\",\"\",(ROUNDUP(提出様式!K143/5,0)))","v":""},{"$f":"IF(提出様式!H143=\"\",\"\",提出様式!H143)","v":""},{"$f":"IF(提出様式!L143=\"\",\"\",提出様式!L143)","v":""},{"$f":"IF(提出様式!M143=\"\",\"\",提出様式!M143)","v":""},{"$f":"IF(提出様式!N143=\"\",\"\",提出様式!N143)","v":""}]
[null,120,null,{"$f":"IF(提出様式!C144=\"\",\"\",提出様式!C144)","v":""},null,{"$f":"IF(提出様式!I144=\"\",\"\",提出様式!I144)","v":""},{"$f":"IF(提出様式!K144=\"\",\"\",(ROUNDUP(提出様式!K144/5,0)))","v":""},{"$f":"IF(提出様式!H144=\"\",\"\",提出様式!H144)","v":""},{"$f":"IF(提出様式!L144=\"\",\"\",提出様式!L144)","v":""},{"$f":"IF(提出様式!M144=\"\",\"\",提出様式!M144)","v":""},{"$f":"IF(提出様式!N144=\"\",\"\",提出様式!N144)","v":""}]
[null,121,null,{"$f":"IF(提出様式!C145=\"\",\"\",提出様式!C145)","v":""},null,{"$f":"IF(提出様式!I145=\"\",\"\",提出様式!I145)","v":""},{"$f":"IF(提出様式!K145=\"\",\"\",(ROUNDUP(提出様式!K145/5,0)))","v":""},{"$f":"IF(提出様式!H145=\"\",\"\",提出様式!H145)","v":""},{"$f":"IF(提出様式!L145=\"\",\"\",提出様式!L145)","v":""},{"$f":"IF(提出様式!M145=\"\",\"\",提出様式!M145)","v":""},{"$f":"IF(提出様式!N145=\"\",\"\",提出様式!N145)","v":""}]
[null,122,null,{"$f":"IF(提出様式!C146=\"\",\"\",提出様式!C146)","v":""},null,{"$f":"IF(提出様式!I146=\"\",\"\",提出様式!I146)","v":""},{"$f":"IF(提出様式!K146=\"\",\"\",(ROUNDUP(提出様式!K146/5,0)))","v":""},{"$f":"IF(提出様式!H146=\"\",\"\",提出様式!H146)","v":""},{"$f":"IF(提出様式!L146=\"\",\"\",提出様式!L146)","v":""},{"$f":"IF(提出様式!M146=\"\",\"\",提出様式!M146)","v":""},{"$f":"IF(提出様式!N146=\"\",\"\",提出様式!N146)","v":""}]
[null,123,null,{"$f":"IF(提出様式!C147=\"\",\"\",提出様式!C147)","v":""},null,{"$f":"IF(提出様式!I147=\"\",\"\",提出様式!I147)","v":""},{"$f":"IF(提出様式!K147=\"\",\"\",(ROUNDUP(提出様式!K147/5,0)))","v":""},{"$f":"IF(提出様式!H147=\"\",\"\",提出様式!H147)","v":""},{"$f":"IF(提出様式!L147=\"\",\"\",提出様式!L147)","v":""},{"$f":"IF(提出様式!M147=\"\",\"\",提出様式!M147)","v":""},{"$f":"IF(提出様式!N147=\"\",\"\",提出様式!N147)","v":""}]
[null,124,null,{"$f":"IF(提出様式!C148=\"\",\"\",提出様式!C148)","v":""},null,{"$f":"IF(提出様式!I148=\"\",\"\",提出様式!I148)","v":""},{"$f":"IF(提出様式!K148=\"\",\"\",(ROUNDUP(提出様式!K148/5,0)))","v":""},{"$f":"IF(提出様式!H148=\"\",\"\",提出様式!H148)","v":""},{"$f":"IF(提出様式!L148=\"\",\"\",提出様式!L148)","v":""},{"$f":"IF(提出様式!M148=\"\",\"\",提出様式!M148)","v":""},{"$f":"IF(提出様式!N148=\"\",\"\",提出様式!N148)","v":""}]
[null,125,null,{"$f":"IF(提出様式!C149=\"\",\"\",提出様式!C149)","v":""},null,{"$f":"IF(提出様式!I149=\"\",\"\",提出様式!I149)","v":""},{"$f":"IF(提出様式!K149=\"\",\"\",(ROUNDUP(提出様式!K149/5,0)))","v":""},{"$f":"IF(提出様式!H149=\"\",\"\",提出様式!H149)","v":""},{"$f":"IF(提出様式!L149=\"\",\"\",提出様式!L149)","v":""},{"$f":"IF(提出様式!M149=\"\",\"\",提出様式!M149)","v":""},{"$f":"IF(提出様式!N149=\"\",\"\",提出様式!N149)","v":""}]
[null,126,null,{"$f":"IF(提出様式!C150=\"\",\"\",提出様式!C150)","v":""},null,{"$f":"IF(提出様式!I150=\"\",\"\",提出様式!I150)","v":""},{"$f":"IF(提出様式!K150=\"\",\"\",(ROUNDUP(提出様式!K150/5,0)))","v":""},{"$f":"IF(提出様式!H150=\"\",\"\",提出様式!H150)","v":""},{"$f":"IF(提出様式!L150=\"\",\"\",提出様式!L150)","v":""},{"$f":"IF(提出様式!M150=\"\",\"\",提出様式!M150)","v":""},{"$f":"IF(提出様式!N150=\"\",\"\",提出様式!N150)","v":""}]
[null,127,null,{"$f":"IF(提出様式!C151=\"\",\"\",提出様式!C151)","v":""},null,{"$f":"IF(提出様式!I151=\"\",\"\",提出様式!I151)","v":""},{"$f":"IF(提出様式!K151=\"\",\"\",(ROUNDUP(提出様式!K151/5,0)))","v":""},{"$f":"IF(提出様式!H151=\"\",\"\",提出様式!H151)","v":""},{"$f":"IF(提出様式!L151=\"\",\"\",提出様式!L151)","v":""},{"$f":"IF(提出様式!M151=\"\",\"\",提出様式!M151)","v":""},{"$f":"IF(提出様式!N151=\"\",\"\",提出様式!N151)","v":""}]
[null,128,null,{"$f":"IF(提出様式!C152=\"\",\"\",提出様式!C152)","v":""},null,{"$f":"IF(提出様式!I152=\"\",\"\",提出様式!I152)","v":""},{"$f":"IF(提出様式!K152=\"\",\"\",(ROUNDUP(提出様式!K152/5,0)))","v":""},{"$f":"IF(提出様式!H152=\"\",\"\",提出様式!H152)","v":""},{"$f":"IF(提出様式!L152=\"\",\"\",提出様式!L152)","v":""},{"$f":"IF(提出様式!M152=\"\",\"\",提出様式!M152)","v":""},{"$f":"IF(提出様式!N152=\"\",\"\",提出様式!N152)","v":""}]
[null,129,null,{"$f":"IF(提出様式!C153=\"\",\"\",提出様式!C153)","v":""},null,{"$f":"IF(提出様式!I153=\"\",\"\",提出様式!I153)","v":""},{"$f":"IF(提出様式!K153=\"\",\"\",(ROUNDUP(提出様式!K153/5,0)))","v":""},{"$f":"IF(提出様式!H153=\"\",\"\",提出様式!H153)","v":""},{"$f":"IF(提出様式!L153=\"\",\"\",提出様式!L153)","v":""},{"$f":"IF(提出様式!M153=\"\",\"\",提出様式!M153)","v":""},{"$f":"IF(提出様式!N153=\"\",\"\",提出様式!N153)","v":""}]
[null,130,null,{"$f":"IF(提出様式!C154=\"\",\"\",提出様式!C154)","v":""},null,{"$f":"IF(提出様式!I154=\"\",\"\",提出様式!I154)","v":""},{"$f":"IF(提出様式!K154=\"\",\"\",(ROUNDUP(提出様式!K154/5,0)))","v":""},{"$f":"IF(提出様式!H154=\"\",\"\",提出様式!H154)","v":""},{"$f":"IF(提出様式!L154=\"\",\"\",提出様式!L154)","v":""},{"$f":"IF(提出様式!M154=\"\",\"\",提出様式!M154)","v":""},{"$f":"IF(提出様式!N154=\"\",\"\",提出様式!N154)","v":""}]
[null,131,null,{"$f":"IF(提出様式!C155=\"\",\"\",提出様式!C155)","v":""},null,{"$f":"IF(提出様式!I155=\"\",\"\",提出様式!I155)","v":""},{"$f":"IF(提出様式!K155=\"\",\"\",(ROUNDUP(提出様式!K155/5,0)))","v":""},{"$f":"IF(提出様式!H155=\"\",\"\",提出様式!H155)","v":""},{"$f":"IF(提出様式!L155=\"\",\"\",提出様式!L155)","v":""},{"$f":"IF(提出様式!M155=\"\",\"\",提出様式!M155)","v":""},{"$f":"IF(提出様式!N155=\"\",\"\",提出様式!N155)","v":""}]
[null,132,null,{"$f":"IF(提出様式!C156=\"\",\"\",提出様式!C156)","v":""},null,{"$f":"IF(提出様式!I156=\"\",\"\",提出様式!I156)","v":""},{"$f":"IF(提出様式!K156=\"\",\"\",(ROUNDUP(提出様式!K156/5,0)))","v":""},{"$f":"IF(提出様式!H156=\"\",\"\",提出様式!H156)","v":""},{"$f":"IF(提出様式!L156=\"\",\"\",提出様式!L156)","v":""},{"$f":"IF(提出様式!M156=\"\",\"\",提出様式!M156)","v":""},{"$f":"IF(提出様式!N156=\"\",\"\",提出様式!N156)","v":""}]
[null,133,null,{"$f":"IF(提出様式!C157=\"\",\"\",提出様式!C157)","v":""},null,{"$f":"IF(提出様式!I157=\"\",\"\",提出様式!I157)","v":""},{"$f":"IF(提出様式!K157=\"\",\"\",(ROUNDUP(提出様式!K157/5,0)))","v":""},{"$f":"IF(提出様式!H157=\"\",\"\",提出様式!H157)","v":""},{"$f":"IF(提出様式!L157=\"\",\"\",提出様式!L157)","v":""},{"$f":"IF(提出様式!M157=\"\",\"\",提出様式!M157)","v":""},{"$f":"IF(提出様式!N157=\"\",\"\",提出様式!N157)","v":""}]
[null,134,null,{"$f":"IF(提出様式!C158=\"\",\"\",提出様式!C158)","v":""},null,{"$f":"IF(提出様式!I158=\"\",\"\",提出様式!I158)","v":""},{"$f":"IF(提出様式!K158=\"\",\"\",(ROUNDUP(提出様式!K158/5,0)))","v":""},{"$f":"IF(提出様式!H158=\"\",\"\",提出様式!H158)","v":""},{"$f":"IF(提出様式!L158=\"\",\"\",提出様式!L158)","v":""},{"$f":"IF(提出様式!M158=\"\",\"\",提出様式!M158)","v":""},{"$f":"IF(提出様式!N158=\"\",\"\",提出様式!N158)","v":""}]
[null,135,null,{"$f":"IF(提出様式!C159=\"\",\"\",提出様式!C159)","v":""},null,{"$f":"IF(提出様式!I159=\"\",\"\",提出様式!I159)","v":""},{"$f":"IF(提出様式!K159=\"\",\"\",(ROUNDUP(提出様式!K159/5,0)))","v":""},{"$f":"IF(提出様式!H159=\"\",\"\",提出様式!H159)","v":""},{"$f":"IF(提出様式!L159=\"\",\"\",提出様式!L159)","v":""},{"$f":"IF(提出様式!M159=\"\",\"\",提出様式!M159)","v":""},{"$f":"IF(提出様式!N159=\"\",\"\",提出様式!N159)","v":""}]
[null,136,null,{"$f":"IF(提出様式!C160=\"\",\"\",提出様式!C160)","v":""},null,{"$f":"IF(提出様式!I160=\"\",\"\",提出様式!I160)","v":""},{"$f":"IF(提出様式!K160=\"\",\"\",(ROUNDUP(提出様式!K160/5,0)))","v":""},{"$f":"IF(提出様式!H160=\"\",\"\",提出様式!H160)","v":""},{"$f":"IF(提出様式!L160=\"\",\"\",提出様式!L160)","v":""},{"$f":"IF(提出様式!M160=\"\",\"\",提出様式!M160)","v":""},{"$f":"IF(提出様式!N160=\"\",\"\",提出様式!N160)","v":""}]
[null,137,null,{"$f":"IF(提出様式!C161=\"\",\"\",提出様式!C161)","v":""},null,{"$f":"IF(提出様式!I161=\"\",\"\",提出様式!I161)","v":""},{"$f":"IF(提出様式!K161=\"\",\"\",(ROUNDUP(提出様式!K161/5,0)))","v":""},{"$f":"IF(提出様式!H161=\"\",\"\",提出様式!H161)","v":""},{"$f":"IF(提出様式!L161=\"\",\"\",提出様式!L161)","v":""},{"$f":"IF(提出様式!M161=\"\",\"\",提出様式!M161)","v":""},{"$f":"IF(提出様式!N161=\"\",\"\",提出様式!N161)","v":""}]
[null,138,null,{"$f":"IF(提出様式!C162=\"\",\"\",提出様式!C162)","v":""},null,{"$f":"IF(提出様式!I162=\"\",\"\",提出様式!I162)","v":""},{"$f":"IF(提出様式!K162=\"\",\"\",(ROUNDUP(提出様式!K162/5,0)))","v":""},{"$f":"IF(提出様式!H162=\"\",\"\",提出様式!H162)","v":""},{"$f":"IF(提出様式!L162=\"\",\"\",提出様式!L162)","v":""},{"$f":"IF(提出様式!M162=\"\",\"\",提出様式!M162)","v":""},{"$f":"IF(提出様式!N162=\"\",\"\",提出様式!N162)","v":""}]
[null,139,null,{"$f":"IF(提出様式!C163=\"\",\"\",提出様式!C163)","v":""},null,{"$f":"IF(提出様式!I163=\"\",\"\",提出様式!I163)","v":""},{"$f":"IF(提出様式!K163=\"\",\"\",(ROUNDUP(提出様式!K163/5,0)))","v":""},{"$f":"IF(提出様式!H163=\"\",\"\",提出様式!H163)","v":""},{"$f":"IF(提出様式!L163=\"\",\"\",提出様式!L163)","v":""},{"$f":"IF(提出様式!M163=\"\",\"\",提出様式!M163)","v":""},{"$f":"IF(提出様式!N163=\"\",\"\",提出様式!N163)","v":""}]
[null,140,null,{"$f":"IF(提出様式!C164=\"\",\"\",提出様式!C164)","v":""},null,{"$f":"IF(提出様式!I164=\"\",\"\",提出様式!I164)","v":""},{"$f":"IF(提出様式!K164=\"\",\"\",(ROUNDUP(提出様式!K164/5,0)))","v":""},{"$f":"IF(提出様式!H164=\"\",\"\",提出様式!H164)","v":""},{"$f":"IF(提出様式!L164=\"\",\"\",提出様式!L164)","v":""},{"$f":"IF(提出様式!M164=\"\",\"\",提出様式!M164)","v":""},{"$f":"IF(提出様式!N164=\"\",\"\",提出様式!N164)","v":""}]
[null,141,null,{"$f":"IF(提出様式!C165=\"\",\"\",提出様式!C165)","v":""},null,{"$f":"IF(提出様式!I165=\"\",\"\",提出様式!I165)","v":""},{"$f":"IF(提出様式!K165=\"\",\"\",(ROUNDUP(提出様式!K165/5,0)))","v":""},{"$f":"IF(提出様式!H165=\"\",\"\",提出様式!H165)","v":""},{"$f":"IF(提出様式!L165=\"\",\"\",提出様式!L165)","v":""},{"$f":"IF(提出様式!M165=\"\",\"\",提出様式!M165)","v":""},{"$f":"IF(提出様式!N165=\"\",\"\",提出様式!N165)","v":""}]
[null,142,null,{"$f":"IF(提出様式!C166=\"\",\"\",提出様式!C166)","v":""},null,{"$f":"IF(提出様式!I166=\"\",\"\",提出様式!I166)","v":""},{"$f":"IF(提出様式!K166=\"\",\"\",(ROUNDUP(提出様式!K166/5,0)))","v":""},{"$f":"IF(提出様式!H166=\"\",\"\",提出様式!H166)","v":""},{"$f":"IF(提出様式!L166=\"\",\"\",提出様式!L166)","v":""},{"$f":"IF(提出様式!M166=\"\",\"\",提出様式!M166)","v":""},{"$f":"IF(提出様式!N166=\"\",\"\",提出様式!N166)","v":""}]
[null,143,null,{"$f":"IF(提出様式!C167=\"\",\"\",提出様式!C167)","v":""},null,{"$f":"IF(提出様式!I167=\"\",\"\",提出様式!I167)","v":""},{"$f":"IF(提出様式!K167=\"\",\"\",(ROUNDUP(提出様式!K167/5,0)))","v":""},{"$f":"IF(提出様式!H167=\"\",\"\",提出様式!H167)","v":""},{"$f":"IF(提出様式!L167=\"\",\"\",提出様式!L167)","v":""},{"$f":"IF(提出様式!M167=\"\",\"\",提出様式!M167)","v":""},{"$f":"IF(提出様式!N167=\"\",\"\",提出様式!N167)","v":""}]
[null,144,null,{"$f":"IF(提出様式!C168=\"\",\"\",提出様式!C168)","v":""},null,{"$f":"IF(提出様式!I168=\"\",\"\",提出様式!I168)","v":""},{"$f":"IF(提出様式!K168=\"\",\"\",(ROUNDUP(提出様式!K168/5,0)))","v":""},{"$f":"IF(提出様式!H168=\"\",\"\",提出様式!H168)","v":""},{"$f":"IF(提出様式!L168=\"\",\"\",提出様式!L168)","v":""},{"$f":"IF(提出様式!M168=\"\",\"\",提出様式!M168)","v":""},{"$f":"IF(提出様式!N168=\"\",\"\",提出様式!N168)","v":""}]
[null,145,null,{"$f":"IF(提出様式!C169=\"\",\"\",提出様式!C169)","v":""},null,{"$f":"IF(提出様式!I169=\"\",\"\",提出様式!I169)","v":""},{"$f":"IF(提出様式!K169=\"\",\"\",(ROUNDUP(提出様式!K169/5,0)))","v":""},{"$f":"IF(提出様式!H169=\"\",\"\",提出様式!H169)","v":""},{"$f":"IF(提出様式!L169=\"\",\"\",提出様式!L169)","v":""},{"$f":"IF(提出様式!M169=\"\",\"\",提出様式!M169)","v":""},{"$f":"IF(提出様式!N169=\"\",\"\",提出様式!N169)","v":""}]
[null,146,null,{"$f":"IF(提出様式!C170=\"\",\"\",提出様式!C170)","v":""},null,{"$f":"IF(提出様式!I170=\"\",\"\",提出様式!I170)","v":""},{"$f":"IF(提出様式!K170=\"\",\"\",(ROUNDUP(提出様式!K170/5,0)))","v":""},{"$f":"IF(提出様式!H170=\"\",\"\",提出様式!H170)","v":""},{"$f":"IF(提出様式!L170=\"\",\"\",提出様式!L170)","v":""},{"$f":"IF(提出様式!M170=\"\",\"\",提出様式!M170)","v":""},{"$f":"IF(提出様式!N170=\"\",\"\",提出様式!N170)","v":""}]
[null,147,null,{"$f":"IF(提出様式!C171=\"\",\"\",提出様式!C171)","v":""},null,{"$f":"IF(提出様式!I171=\"\",\"\",提出様式!I171)","v":""},{"$f":"IF(提出様式!K171=\"\",\"\",(ROUNDUP(提出様式!K171/5,0)))","v":""},{"$f":"IF(提出様式!H171=\"\",\"\",提出様式!H171)","v":""},{"$f":"IF(提出様式!L171=\"\",\"\",提出様式!L171)","v":""},{"$f":"IF(提出様式!M171=\"\",\"\",提出様式!M171)","v":""},{"$f":"IF(提出様式!N171=\"\",\"\",提出様式!N171)","v":""}]
[null,148,null,{"$f":"IF(提出様式!C172=\"\",\"\",提出様式!C172)","v":""},null,{"$f":"IF(提出様式!I172=\"\",\"\",提出様式!I172)","v":""},{"$f":"IF(提出様式!K172=\"\",\"\",(ROUNDUP(提出様式!K172/5,0)))","v":""},{"$f":"IF(提出様式!H172=\"\",\"\",提出様式!H172)","v":""},{"$f":"IF(提出様式!L172=\"\",\"\",提出様式!L172)","v":""},{"$f":"IF(提出様式!M172=\"\",\"\",提出様式!M172)","v":""},{"$f":"IF(提出様式!N172=\"\",\"\",提出様式!N172)","v":""}]
[null,149,null,{"$f":"IF(提出様式!C173=\"\",\"\",提出様式!C173)","v":""},null,{"$f":"IF(提出様式!I173=\"\",\"\",提出様式!I173)","v":""},{"$f":"IF(提出様式!K173=\"\",\"\",(ROUNDUP(提出様式!K173/5,0)))","v":""},{"$f":"IF(提出様式!H173=\"\",\"\",提出様式!H173)","v":""},{"$f":"IF(提出様式!L173=\"\",\"\",提出様式!L173)","v":""},{"$f":"IF(提出様式!M173=\"\",\"\",提出様式!M173)","v":""},{"$f":"IF(提出様式!N173=\"\",\"\",提出様式!N173)","v":""}]
[null,150,null,{"$f":"IF(提出様式!C174=\"\",\"\",提出様式!C174)","v":""},null,{"$f":"IF(提出様式!I174=\"\",\"\",提出様式!I174)","v":""},{"$f":"IF(提出様式!K174=\"\",\"\",(ROUNDUP(提出様式!K174/5,0)))","v":""},{"$f":"IF(提出様式!H174=\"\",\"\",提出様式!H174)","v":""},{"$f":"IF(提出様式!L174=\"\",\"\",提出様式!L174)","v":""},{"$f":"IF(提出様式!M174=\"\",\"\",提出様式!M174)","v":""},{"$f":"IF(提出様式!N174=\"\",\"\",提出様式!N174)","v":""}]
[null,151,null,{"$f":"IF(提出様式!C175=\"\",\"\",提出様式!C175)","v":""},null,{"$f":"IF(提出様式!I175=\"\",\"\",提出様式!I175)","v":""},{"$f":"IF(提出様式!K175=\"\",\"\",(ROUNDUP(提出様式!K175/5,0)))","v":""},{"$f":"IF(提出様式!H175=\"\",\"\",提出様式!H175)","v":""},{"$f":"IF(提出様式!L175=\"\",\"\",提出様式!L175)","v":""},{"$f":"IF(提出様式!M175=\"\",\"\",提出様式!M175)","v":""},{"$f":"IF(提出様式!N175=\"\",\"\",提出様式!N175)","v":""}]
[null,152,null,{"$f":"IF(提出様式!C176=\"\",\"\",提出様式!C176)","v":""},null,{"$f":"IF(提出様式!I176=\"\",\"\",提出様式!I176)","v":""},{"$f":"IF(提出様式!K176=\"\",\"\",(ROUNDUP(提出様式!K176/5,0)))","v":""},{"$f":"IF(提出様式!H176=\"\",\"\",提出様式!H176)","v":""},{"$f":"IF(提出様式!L176=\"\",\"\",提出様式!L176)","v":""},{"$f":"IF(提出様式!M176=\"\",\"\",提出様式!M176)","v":""},{"$f":"IF(提出様式!N176=\"\",\"\",提出様式!N176)","v":""}]
[null,153,null,{"$f":"IF(提出様式!C177=\"\",\"\",提出様式!C177)","v":""},null,{"$f":"IF(提出様式!I177=\"\",\"\",提出様式!I177)","v":""},{"$f":"IF(提出様式!K177=\"\",\"\",(ROUNDUP(提出様式!K177/5,0)))","v":""},{"$f":"IF(提出様式!H177=\"\",\"\",提出様式!H177)","v":""},{"$f":"IF(提出様式!L177=\"\",\"\",提出様式!L177)","v":""},{"$f":"IF(提出様式!M177=\"\",\"\",提出様式!M177)","v":""},{"$f":"IF(提出様式!N177=\"\",\"\",提出様式!N177)","v":""}]
[null,154,null,{"$f":"IF(提出様式!C178=\"\",\"\",提出様式!C178)","v":""},null,{"$f":"IF(提出様式!I178=\"\",\"\",提出様式!I178)","v":""},{"$f":"IF(提出様式!K178=\"\",\"\",(ROUNDUP(提出様式!K178/5,0)))","v":""},{"$f":"IF(提出様式!H178=\"\",\"\",提出様式!H178)","v":""},{"$f":"IF(提出様式!L178=\"\",\"\",提出様式!L178)","v":""},{"$f":"IF(提出様式!M178=\"\",\"\",提出様式!M178)","v":""},{"$f":"IF(提出様式!N178=\"\",\"\",提出様式!N178)","v":""}]
[null,155,null,{"$f":"IF(提出様式!C179=\"\",\"\",提出様式!C179)","v":""},null,{"$f":"IF(提出様式!I179=\"\",\"\",提出様式!I179)","v":""},{"$f":"IF(提出様式!K179=\"\",\"\",(ROUNDUP(提出様式!K179/5,0)))","v":""},{"$f":"IF(提出様式!H179=\"\",\"\",提出様式!H179)","v":""},{"$f":"IF(提出様式!L179=\"\",\"\",提出様式!L179)","v":""},{"$f":"IF(提出様式!M179=\"\",\"\",提出様式!M179)","v":""},{"$f":"IF(提出様式!N179=\"\",\"\",提出様式!N179)","v":""}]
[null,156,null,{"$f":"IF(提出様式!C180=\"\",\"\",提出様式!C180)","v":""},null,{"$f":"IF(提出様式!I180=\"\",\"\",提出様式!I180)","v":""},{"$f":"IF(提出様式!K180=\"\",\"\",(ROUNDUP(提出様式!K180/5,0)))","v":""},{"$f":"IF(提出様式!H180=\"\",\"\",提出様式!H180)","v":""},{"$f":"IF(提出様式!L180=\"\",\"\",提出様式!L180)","v":""},{"$f":"IF(提出様式!M180=\"\",\"\",提出様式!M180)","v":""},{"$f":"IF(提出様式!N180=\"\",\"\",提出様式!N180)","v":""}]
[null,157,null,{"$f":"IF(提出様式!C181=\"\",\"\",提出様式!C181)","v":""},null,{"$f":"IF(提出様式!I181=\"\",\"\",提出様式!I181)","v":""},{"$f":"IF(提出様式!K181=\"\",\"\",(ROUNDUP(提出様式!K181/5,0)))","v":""},{"$f":"IF(提出様式!H181=\"\",\"\",提出様式!H181)","v":""},{"$f":"IF(提出様式!L181=\"\",\"\",提出様式!L181)","v":""},{"$f":"IF(提出様式!M181=\"\",\"\",提出様式!M181)","v":""},{"$f":"IF(提出様式!N181=\"\",\"\",提出様式!N181)","v":""}]
[null,158,null,{"$f":"IF(提出様式!C182=\"\",\"\",提出様式!C182)","v":""},null,{"$f":"IF(提出様式!I182=\"\",\"\",提出様式!I182)","v":""},{"$f":"IF(提出様式!K182=\"\",\"\",(ROUNDUP(提出様式!K182/5,0)))","v":""},{"$f":"IF(提出様式!H182=\"\",\"\",提出様式!H182)","v":""},{"$f":"IF(提出様式!L182=\"\",\"\",提出様式!L182)","v":""},{"$f":"IF(提出様式!M182=\"\",\"\",提出様式!M182)","v":""},{"$f":"IF(提出様式!N182=\"\",\"\",提出様式!N182)","v":""}]
[null,159,null,{"$f":"IF(提出様式!C183=\"\",\"\",提出様式!C183)","v":""},null,{"$f":"IF(提出様式!I183=\"\",\"\",提出様式!I183)","v":""},{"$f":"IF(提出様式!K183=\"\",\"\",(ROUNDUP(提出様式!K183/5,0)))","v":""},{"$f":"IF(提出様式!H183=\"\",\"\",提出様式!H183)","v":""},{"$f":"IF(提出様式!L183=\"\",\"\",提出様式!L183)","v":""},{"$f":"IF(提出様式!M183=\"\",\"\",提出様式!M183)","v":""},{"$f":"IF(提出様式!N183=\"\",\"\",提出様式!N183)","v":""}]
[null,160,null,{"$f":"IF(提出様式!C184=\"\",\"\",提出様式!C184)","v":""},null,{"$f":"IF(提出様式!I184=\"\",\"\",提出様式!I184)","v":""},{"$f":"IF(提出様式!K184=\"\",\"\",(ROUNDUP(提出様式!K184/5,0)))","v":""},{"$f":"IF(提出様式!H184=\"\",\"\",提出様式!H184)","v":""},{"$f":"IF(提出様式!L184=\"\",\"\",提出様式!L184)","v":""},{"$f":"IF(提出様式!M184=\"\",\"\",提出様式!M184)","v":""},{"$f":"IF(提出様式!N184=\"\",\"\",提出様式!N184)","v":""}]
[null,161,null,{"$f":"IF(提出様式!C185=\"\",\"\",提出様式!C185)","v":""},null,{"$f":"IF(提出様式!I185=\"\",\"\",提出様式!I185)","v":""},{"$f":"IF(提出様式!K185=\"\",\"\",(ROUNDUP(提出様式!K185/5,0)))","v":""},{"$f":"IF(提出様式!H185=\"\",\"\",提出様式!H185)","v":""},{"$f":"IF(提出様式!L185=\"\",\"\",提出様式!L185)","v":""},{"$f":"IF(提出様式!M185=\"\",\"\",提出様式!M185)","v":""},{"$f":"IF(提出様式!N185=\"\",\"\",提出様式!N185)","v":""}]
[null,162,null,{"$f":"IF(提出様式!C186=\"\",\"\",提出様式!C186)","v":""},null,{"$f":"IF(提出様式!I186=\"\",\"\",提出様式!I186)","v":""},{"$f":"IF(提出様式!K186=\"\",\"\",(ROUNDUP(提出様式!K186/5,0)))","v":""},{"$f":"IF(提出様式!H186=\"\",\"\",提出様式!H186)","v":""},{"$f":"IF(提出様式!L186=\"\",\"\",提出様式!L186)","v":""},{"$f":"IF(提出様式!M186=\"\",\"\",提出様式!M186)","v":""},{"$f":"IF(提出様式!N186=\"\",\"\",提出様式!N186)","v":""}]
[null,163,null,{"$f":"IF(提出様式!C187=\"\",\"\",提出様式!C187)","v":""},null,{"$f":"IF(提出様式!I187=\"\",\"\",提出様式!I187)","v":""},{"$f":"IF(提出様式!K187=\"\",\"\",(ROUNDUP(提出様式!K187/5,0)))","v":""},{"$f":"IF(提出様式!H187=\"\",\"\",提出様式!H187)","v":""},{"$f":"IF(提出様式!L187=\"\",\"\",提出様式!L187)","v":""},{"$f":"IF(提出様式!M187=\"\",\"\",提出様式!M187)","v":""},{"$f":"IF(提出様式!N187=\"\",\"\",提出様式!N187)","v":""}]
[null,164,null,{"$f":"IF(提出様式!C188=\"\",\"\",提出様式!C188)","v":""},null,{"$f":"IF(提出様式!I188=\"\",\"\",提出様式!I188)","v":""},{"$f":"IF(提出様式!K188=\"\",\"\",(ROUNDUP(提出様式!K188/5,0)))","v":""},{"$f":"IF(提出様式!H188=\"\",\"\",提出様式!H188)","v":""},{"$f":"IF(提出様式!L188=\"\",\"\",提出様式!L188)","v":""},{"$f":"IF(提出様式!M188=\"\",\"\",提出様式!M188)","v":""},{"$f":"IF(提出様式!N188=\"\",\"\",提出様式!N188)","v":""}]
[null,165,null,{"$f":"IF(提出様式!C189=\"\",\"\",提出様式!C189)","v":""},null,{"$f":"IF(提出様式!I189=\"\",\"\",提出様式!I189)","v":""},{"$f":"IF(提出様式!K189=\"\",\"\",(ROUNDUP(提出様式!K189/5,0)))","v":""},{"$f":"IF(提出様式!H189=\"\",\"\",提出様式!H189)","v":""},{"$f":"IF(提出様式!L189=\"\",\"\",提出様式!L189)","v":""},{"$f":"IF(提出様式!M189=\"\",\"\",提出様式!M189)","v":""},{"$f":"IF(提出様式!N189=\"\",\"\",提出様式!N189)","v":""}]
[null,166,null,{"$f":"IF(提出様式!C190=\"\",\"\",提出様式!C190)","v":""},null,{"$f":"IF(提出様式!I190=\"\",\"\",提出様式!I190)","v":""},{"$f":"IF(提出様式!K190=\"\",\"\",(ROUNDUP(提出様式!K190/5,0)))","v":""},{"$f":"IF(提出様式!H190=\"\",\"\",提出様式!H190)","v":""},{"$f":"IF(提出様式!L190=\"\",\"\",提出様式!L190)","v":""},{"$f":"IF(提出様式!M190=\"\",\"\",提出様式!M190)","v":""},{"$f":"IF(提出様式!N190=\"\",\"\",提出様式!N190)","v":""}]
[null,167,null,{"$f":"IF(提出様式!C191=\"\",\"\",提出様式!C191)","v":""},null,{"$f":"IF(提出様式!I191=\"\",\"\",提出様式!I191)","v":""},{"$f":"IF(提出様式!K191=\"\",\"\",(ROUNDUP(提出様式!K191/5,0)))","v":""},{"$f":"IF(提出様式!H191=\"\",\"\",提出様式!H191)","v":""},{"$f":"IF(提出様式!L191=\"\",\"\",提出様式!L191)","v":""},{"$f":"IF(提出様式!M191=\"\",\"\",提出様式!M191)","v":""},{"$f":"IF(提出様式!N191=\"\",\"\",提出様式!N191)","v":""}]
[null,168,null,{"$f":"IF(提出様式!C192=\"\",\"\",提出様式!C192)","v":""},null,{"$f":"IF(提出様式!I192=\"\",\"\",提出様式!I192)","v":""},{"$f":"IF(提出様式!K192=\"\",\"\",(ROUNDUP(提出様式!K192/5,0)))","v":""},{"$f":"IF(提出様式!H192=\"\",\"\",提出様式!H192)","v":""},{"$f":"IF(提出様式!L192=\"\",\"\",提出様式!L192)","v":""},{"$f":"IF(提出様式!M192=\"\",\"\",提出様式!M192)","v":""},{"$f":"IF(提出様式!N192=\"\",\"\",提出様式!N192)","v":""}]
[null,169,null,{"$f":"IF(提出様式!C193=\"\",\"\",提出様式!C193)","v":""},null,{"$f":"IF(提出様式!I193=\"\",\"\",提出様式!I193)","v":""},{"$f":"IF(提出様式!K193=\"\",\"\",(ROUNDUP(提出様式!K193/5,0)))","v":""},{"$f":"IF(提出様式!H193=\"\",\"\",提出様式!H193)","v":""},{"$f":"IF(提出様式!L193=\"\",\"\",提出様式!L193)","v":""},{"$f":"IF(提出様式!M193=\"\",\"\",提出様式!M193)","v":""},{"$f":"IF(提出様式!N193=\"\",\"\",提出様式!N193)","v":""}]
[null,170,null,{"$f":"IF(提出様式!C194=\"\",\"\",提出様式!C194)","v":""},null,{"$f":"IF(提出様式!I194=\"\",\"\",提出様式!I194)","v":""},{"$f":"IF(提出様式!K194=\"\",\"\",(ROUNDUP(提出様式!K194/5,0)))","v":""},{"$f":"IF(提出様式!H194=\"\",\"\",提出様式!H194)","v":""},{"$f":"IF(提出様式!L194=\"\",\"\",提出様式!L194)","v":""},{"$f":"IF(提出様式!M194=\"\",\"\",提出様式!M194)","v":""},{"$f":"IF(提出様式!N194=\"\",\"\",提出様式!N194)","v":""}]
[null,171,null,{"$f":"IF(提出様式!C195=\"\",\"\",提出様式!C195)","v":""},null,{"$f":"IF(提出様式!I195=\"\",\"\",提出様式!I195)","v":""},{"$f":"IF(提出様式!K195=\"\",\"\",(ROUNDUP(提出様式!K195/5,0)))","v":""},{"$f":"IF(提出様式!H195=\"\",\"\",提出様式!H195)","v":""},{"$f":"IF(提出様式!L195=\"\",\"\",提出様式!L195)","v":""},{"$f":"IF(提出様式!M195=\"\",\"\",提出様式!M195)","v":""},{"$f":"IF(提出様式!N195=\"\",\"\",提出様式!N195)","v":""}]
[null,172,null,{"$f":"IF(提出様式!C196=\"\",\"\",提出様式!C196)","v":""},null,{"$f":"IF(提出様式!I196=\"\",\"\",提出様式!I196)","v":""},{"$f":"IF(提出様式!K196=\"\",\"\",(ROUNDUP(提出様式!K196/5,0)))","v":""},{"$f":"IF(提出様式!H196=\"\",\"\",提出様式!H196)","v":""},{"$f":"IF(提出様式!L196=\"\",\"\",提出様式!L196)","v":""},{"$f":"IF(提出様式!M196=\"\",\"\",提出様式!M196)","v":""},{"$f":"IF(提出様式!N196=\"\",\"\",提出様式!N196)","v":""}]
[null,173,null,{"$f":"IF(提出様式!C197=\"\",\"\",提出様式!C197)","v":""},null,{"$f":"IF(提出様式!I197=\"\",\"\",提出様式!I197)","v":""},{"$f":"IF(提出様式!K197=\"\",\"\",(ROUNDUP(提出様式!K197/5,0)))","v":""},{"$f":"IF(提出様式!H197=\"\",\"\",提出様式!H197)","v":""},{"$f":"IF(提出様式!L197=\"\",\"\",提出様式!L197)","v":""},{"$f":"IF(提出様式!M197=\"\",\"\",提出様式!M197)","v":""},{"$f":"IF(提出様式!N197=\"\",\"\",提出様式!N197)","v":""}]
[null,174,null,{"$f":"IF(提出様式!C198=\"\",\"\",提出様式!C198)","v":""},null,{"$f":"IF(提出様式!I198=\"\",\"\",提出様式!I198)","v":""},{"$f":"IF(提出様式!K198=\"\",\"\",(ROUNDUP(提出様式!K198/5,0)))","v":""},{"$f":"IF(提出様式!H198=\"\",\"\",提出様式!H198)","v":""},{"$f":"IF(提出様式!L198=\"\",\"\",提出様式!L198)","v":""},{"$f":"IF(提出様式!M198=\"\",\"\",提出様式!M198)","v":""},{"$f":"IF(提出様式!N198=\"\",\"\",提出様式!N198)","v":""}]
[null,175,null,{"$f":"IF(提出様式!C199=\"\",\"\",提出様式!C199)","v":""},null,{"$f":"IF(提出様式!I199=\"\",\"\",提出様式!I199)","v":""},{"$f":"IF(提出様式!K199=\"\",\"\",(ROUNDUP(提出様式!K199/5,0)))","v":""},{"$f":"IF(提出様式!H199=\"\",\"\",提出様式!H199)","v":""},{"$f":"IF(提出様式!L199=\"\",\"\",提出様式!L199)","v":""},{"$f":"IF(提出様式!M199=\"\",\"\",提出様式!M199)","v":""},{"$f":"IF(提出様式!N199=\"\",\"\",提出様式!N199)","v":""}]
[null,176,null,{"$f":"IF(提出様式!C200=\"\",\"\",提出様式!C200)","v":""},null,{"$f":"IF(提出様式!I200=\"\",\"\",提出様式!I200)","v":""},{"$f":"IF(提出様式!K200=\"\",\"\",(ROUNDUP(提出様式!K200/5,0)))","v":""},{"$f":"IF(提出様式!H200=\"\",\"\",提出様式!H200)","v":""},{"$f":"IF(提出様式!L200=\"\",\"\",提出様式!L200)","v":""},{"$f":"IF(提出様式!M200=\"\",\"\",提出様式!M200)","v":""},{"$f":"IF(提出様式!N200=\"\",\"\",提出様式!N200)","v":""}]
[null,177,null,{"$f":"IF(提出様式!C201=\"\",\"\",提出様式!C201)","v":""},null,{"$f":"IF(提出様式!I201=\"\",\"\",提出様式!I201)","v":""},{"$f":"IF(提出様式!K201=\"\",\"\",(ROUNDUP(提出様式!K201/5,0)))","v":""},{"$f":"IF(提出様式!H201=\"\",\"\",提出様式!H201)","v":""},{"$f":"IF(提出様式!L201=\"\",\"\",提出様式!L201)","v":""},{"$f":"IF(提出様式!M201=\"\",\"\",提出様式!M201)","v":""},{"$f":"IF(提出様式!N201=\"\",\"\",提出様式!N201)","v":""}]
[null,178,null,{"$f":"IF(提出様式!C202=\"\",\"\",提出様式!C202)","v":""},null,{"$f":"IF(提出様式!I202=\"\",\"\",提出様式!I202)","v":""},{"$f":"IF(提出様式!K202=\"\",\"\",(ROUNDUP(提出様式!K202/5,0)))","v":""},{"$f":"IF(提出様式!H202=\"\",\"\",提出様式!H202)","v":""},{"$f":"IF(提出様式!L202=\"\",\"\",提出様式!L202)","v":""},{"$f":"IF(提出様式!M202=\"\",\"\",提出様式!M202)","v":""},{"$f":"IF(提出様式!N202=\"\",\"\",提出様式!N202)","v":""}]
[null,179,null,{"$f":"IF(提出様式!C203=\"\",\"\",提出様式!C203)","v":""},null,{"$f":"IF(提出様式!I203=\"\",\"\",提出様式!I203)","v":""},{"$f":"IF(提出様式!K203=\"\",\"\",(ROUNDUP(提出様式!K203/5,0)))","v":""},{"$f":"IF(提出様式!H203=\"\",\"\",提出様式!H203)","v":""},{"$f":"IF(提出様式!L203=\"\",\"\",提出様式!L203)","v":""},{"$f":"IF(提出様式!M203=\"\",\"\",提出様式!M203)","v":""},{"$f":"IF(提出様式!N203=\"\",\"\",提出様式!N203)","v":""}]
[null,180,null,{"$f":"IF(提出様式!C204=\"\",\"\",提出様式!C204)","v":""},null,{"$f":"IF(提出様式!I204=\"\",\"\",提出様式!I204)","v":""},{"$f":"IF(提出様式!K204=\"\",\"\",(ROUNDUP(提出様式!K204/5,0)))","v":""},{"$f":"IF(提出様式!H204=\"\",\"\",提出様式!H204)","v":""},{"$f":"IF(提出様式!L204=\"\",\"\",提出様式!L204)","v":""},{"$f":"IF(提出様式!M204=\"\",\"\",提出様式!M204)","v":""},{"$f":"IF(提出様式!N204=\"\",\"\",提出様式!N204)","v":""}]
[null,181,null,{"$f":"IF(提出様式!C205=\"\",\"\",提出様式!C205)","v":""},null,{"$f":"IF(提出様式!I205=\"\",\"\",提出様式!I205)","v":""},{"$f":"IF(提出様式!K205=\"\",\"\",(ROUNDUP(提出様式!K205/5,0)))","v":""},{"$f":"IF(提出様式!H205=\"\",\"\",提出様式!H205)","v":""},{"$f":"IF(提出様式!L205=\"\",\"\",提出様式!L205)","v":""},{"$f":"IF(提出様式!M205=\"\",\"\",提出様式!M205)","v":""},{"$f":"IF(提出様式!N205=\"\",\"\",提出様式!N205)","v":""}]
[null,182,null,{"$f":"IF(提出様式!C206=\"\",\"\",提出様式!C206)","v":""},null,{"$f":"IF(提出様式!I206=\"\",\"\",提出様式!I206)","v":""},{"$f":"IF(提出様式!K206=\"\",\"\",(ROUNDUP(提出様式!K206/5,0)))","v":""},{"$f":"IF(提出様式!H206=\"\",\"\",提出様式!H206)","v":""},{"$f":"IF(提出様式!L206=\"\",\"\",提出様式!L206)","v":""},{"$f":"IF(提出様式!M206=\"\",\"\",提出様式!M206)","v":""},{"$f":"IF(提出様式!N206=\"\",\"\",提出様式!N206)","v":""}]
[null,183,null,{"$f":"IF(提出様式!C207=\"\",\"\",提出様式!C207)","v":""},null,{"$f":"IF(提出様式!I207=\"\",\"\",提出様式!I207)","v":""},{"$f":"IF(提出様式!K207=\"\",\"\",(ROUNDUP(提出様式!K207/5,0)))","v":""},{"$f":"IF(提出様式!H207=\"\",\"\",提出様式!H207)","v":""},{"$f":"IF(提出様式!L207=\"\",\"\",提出様式!L207)","v":""},{"$f":"IF(提出様式!M207=\"\",\"\",提出様式!M207)","v":""},{"$f":"IF(提出様式!N207=\"\",\"\",提出様式!N207)","v":""}]
[null,184,null,{"$f":"IF(提出様式!C208=\"\",\"\",提出様式!C208)","v":""},null,{"$f":"IF(提出様式!I208=\"\",\"\",提出様式!I208)","v":""},{"$f":"IF(提出様式!K208=\"\",\"\",(ROUNDUP(提出様式!K208/5,0)))","v":""},{"$f":"IF(提出様式!H208=\"\",\"\",提出様式!H208)","v":""},{"$f":"IF(提出様式!L208=\"\",\"\",提出様式!L208)","v":""},{"$f":"IF(提出様式!M208=\"\",\"\",提出様式!M208)","v":""},{"$f":"IF(提出様式!N208=\"\",\"\",提出様式!N208)","v":""}]
[null,185,null,{"$f":"IF(提出様式!C209=\"\",\"\",提出様式!C209)","v":""},null,{"$f":"IF(提出様式!I209=\"\",\"\",提出様式!I209)","v":""},{"$f":"IF(提出様式!K209=\"\",\"\",(ROUNDUP(提出様式!K209/5,0)))","v":""},{"$f":"IF(提出様式!H209=\"\",\"\",提出様式!H209)","v":""},{"$f":"IF(提出様式!L209=\"\",\"\",提出様式!L209)","v":""},{"$f":"IF(提出様式!M209=\"\",\"\",提出様式!M209)","v":""},{"$f":"IF(提出様式!N209=\"\",\"\",提出様式!N209)","v":""}]
[null,186,null,{"$f":"IF(提出様式!C210=\"\",\"\",提出様式!C210)","v":""},null,{"$f":"IF(提出様式!I210=\"\",\"\",提出様式!I210)","v":""},{"$f":"IF(提出様式!K210=\"\",\"\",(ROUNDUP(提出様式!K210/5,0)))","v":""},{"$f":"IF(提出様式!H210=\"\",\"\",提出様式!H210)","v":""},{"$f":"IF(提出様式!L210=\"\",\"\",提出様式!L210)","v":""},{"$f":"IF(提出様式!M210=\"\",\"\",提出様式!M210)","v":""},{"$f":"IF(提出様式!N210=\"\",\"\",提出様式!N210)","v":""}]
[null,187,null,{"$f":"IF(提出様式!C211=\"\",\"\",提出様式!C211)","v":""},null,{"$f":"IF(提出様式!I211=\"\",\"\",提出様式!I211)","v":""},{"$f":"IF(提出様式!K211=\"\",\"\",(ROUNDUP(提出様式!K211/5,0)))","v":""},{"$f":"IF(提出様式!H211=\"\",\"\",提出様式!H211)","v":""},{"$f":"IF(提出様式!L211=\"\",\"\",提出様式!L211)","v":""},{"$f":"IF(提出様式!M211=\"\",\"\",提出様式!M211)","v":""},{"$f":"IF(提出様式!N211=\"\",\"\",提出様式!N211)","v":""}]
[null,188,null,{"$f":"IF(提出様式!C212=\"\",\"\",提出様式!C212)","v":""},null,{"$f":"IF(提出様式!I212=\"\",\"\",提出様式!I212)","v":""},{"$f":"IF(提出様式!K212=\"\",\"\",(ROUNDUP(提出様式!K212/5,0)))","v":""},{"$f":"IF(提出様式!H212=\"\",\"\",提出様式!H212)","v":""},{"$f":"IF(提出様式!L212=\"\",\"\",提出様式!L212)","v":""},{"$f":"IF(提出様式!M212=\"\",\"\",提出様式!M212)","v":""},{"$f":"IF(提出様式!N212=\"\",\"\",提出様式!N212)","v":""}]
[null,189,null,{"$f":"IF(提出様式!C213=\"\",\"\",提出様式!C213)","v":""},null,{"$f":"IF(提出様式!I213=\"\",\"\",提出様式!I213)","v":""},{"$f":"IF(提出様式!K213=\"\",\"\",(ROUNDUP(提出様式!K213/5,0)))","v":""},{"$f":"IF(提出様式!H213=\"\",\"\",提出様式!H213)","v":""},{"$f":"IF(提出様式!L213=\"\",\"\",提出様式!L213)","v":""},{"$f":"IF(提出様式!M213=\"\",\"\",提出様式!M213)","v":""},{"$f":"IF(提出様式!N213=\"\",\"\",提出様式!N213)","v":""}]
[null,190,null,{"$f":"IF(提出様式!C214=\"\",\"\",提出様式!C214)","v":""},null,{"$f":"IF(提出様式!I214=\"\",\"\",提出様式!I214)","v":""},{"$f":"IF(提出様式!K214=\"\",\"\",(ROUNDUP(提出様式!K214/5,0)))","v":""},{"$f":"IF(提出様式!H214=\"\",\"\",提出様式!H214)","v":""},{"$f":"IF(提出様式!L214=\"\",\"\",提出様式!L214)","v":""},{"$f":"IF(提出様式!M214=\"\",\"\",提出様式!M214)","v":""},{"$f":"IF(提出様式!N214=\"\",\"\",提出様式!N214)","v":""}]
[null,191,null,{"$f":"IF(提出様式!C215=\"\",\"\",提出様式!C215)","v":""},null,{"$f":"IF(提出様式!I215=\"\",\"\",提出様式!I215)","v":""},{"$f":"IF(提出様式!K215=\"\",\"\",(ROUNDUP(提出様式!K215/5,0)))","v":""},{"$f":"IF(提出様式!H215=\"\",\"\",提出様式!H215)","v":""},{"$f":"IF(提出様式!L215=\"\",\"\",提出様式!L215)","v":""},{"$f":"IF(提出様式!M215=\"\",\"\",提出様式!M215)","v":""},{"$f":"IF(提出様式!N215=\"\",\"\",提出様式!N215)","v":""}]
[null,192,null,{"$f":"IF(提出様式!C216=\"\",\"\",提出様式!C216)","v":""},null,{"$f":"IF(提出様式!I216=\"\",\"\",提出様式!I216)","v":""},{"$f":"IF(提出様式!K216=\"\",\"\",(ROUNDUP(提出様式!K216/5,0)))","v":""},{"$f":"IF(提出様式!H216=\"\",\"\",提出様式!H216)","v":""},{"$f":"IF(提出様式!L216=\"\",\"\",提出様式!L216)","v":""},{"$f":"IF(提出様式!M216=\"\",\"\",提出様式!M216)","v":""},{"$f":"IF(提出様式!N216=\"\",\"\",提出様式!N216)","v":""}]
[null,193,null,{"$f":"IF(提出様式!C217=\"\",\"\",提出様式!C217)","v":""},null,{"$f":"IF(提出様式!I217=\"\",\"\",提出様式!I217)","v":""},{"$f":"IF(提出様式!K217=\"\",\"\",(ROUNDUP(提出様式!K217/5,0)))","v":""},{"$f":"IF(提出様式!H217=\"\",\"\",提出様式!H217)","v":""},{"$f":"IF(提出様式!L217=\"\",\"\",提出様式!L217)","v":""},{"$f":"IF(提出様式!M217=\"\",\"\",提出様式!M217)","v":""},{"$f":"IF(提出様式!N217=\"\",\"\",提出様式!N217)","v":""}]
[null,194,null,{"$f":"IF(提出様式!C218=\"\",\"\",提出様式!C218)","v":""},null,{"$f":"IF(提出様式!I218=\"\",\"\",提出様式!I218)","v":""},{"$f":"IF(提出様式!K218=\"\",\"\",(ROUNDUP(提出様式!K218/5,0)))","v":""},{"$f":"IF(提出様式!H218=\"\",\"\",提出様式!H218)","v":""},{"$f":"IF(提出様式!L218=\"\",\"\",提出様式!L218)","v":""},{"$f":"IF(提出様式!M218=\"\",\"\",提出様式!M218)","v":""},{"$f":"IF(提出様式!N218=\"\",\"\",提出様式!N218)","v":""}]
[null,195,null,{"$f":"IF(提出様式!C219=\"\",\"\",提出様式!C219)","v":""},null,{"$f":"IF(提出様式!I219=\"\",\"\",提出様式!I219)","v":""},{"$f":"IF(提出様式!K219=\"\",\"\",(ROUNDUP(提出様式!K219/5,0)))","v":""},{"$f":"IF(提出様式!H219=\"\",\"\",提出様式!H219)","v":""},{"$f":"IF(提出様式!L219=\"\",\"\",提出様式!L219)","v":""},{"$f":"IF(提出様式!M219=\"\",\"\",提出様式!M219)","v":""},{"$f":"IF(提出様式!N219=\"\",\"\",提出様式!N219)","v":""}]
[null,196,null,{"$f":"IF(提出様式!C220=\"\",\"\",提出様式!C220)","v":""},null,{"$f":"IF(提出様式!I220=\"\",\"\",提出様式!I220)","v":""},{"$f":"IF(提出様式!K220=\"\",\"\",(ROUNDUP(提出様式!K220/5,0)))","v":""},{"$f":"IF(提出様式!H220=\"\",\"\",提出様式!H220)","v":""},{"$f":"IF(提出様式!L220=\"\",\"\",提出様式!L220)","v":""},{"$f":"IF(提出様式!M220=\"\",\"\",提出様式!M220)","v":""},{"$f":"IF(提出様式!N220=\"\",\"\",提出様式!N220)","v":""}]
[null,197,null,{"$f":"IF(提出様式!C221=\"\",\"\",提出様式!C221)","v":""},null,{"$f":"IF(提出様式!I221=\"\",\"\",提出様式!I221)","v":""},{"$f":"IF(提出様式!K221=\"\",\"\",(ROUNDUP(提出様式!K221/5,0)))","v":""},{"$f":"IF(提出様式!H221=\"\",\"\",提出様式!H221)","v":""},{"$f":"IF(提出様式!L221=\"\",\"\",提出様式!L221)","v":""},{"$f":"IF(提出様式!M221=\"\",\"\",提出様式!M221)","v":""},{"$f":"IF(提出様式!N221=\"\",\"\",提出様式!N221)","v":""}]
[null,198,null,{"$f":"IF(提出様式!C222=\"\",\"\",提出様式!C222)","v":""},null,{"$f":"IF(提出様式!I222=\"\",\"\",提出様式!I222)","v":""},{"$f":"IF(提出様式!K222=\"\",\"\",(ROUNDUP(提出様式!K222/5,0)))","v":""},{"$f":"IF(提出様式!H222=\"\",\"\",提出様式!H222)","v":""},{"$f":"IF(提出様式!L222=\"\",\"\",提出様式!L222)","v":""},{"$f":"IF(提出様式!M222=\"\",\"\",提出様式!M222)","v":""},{"$f":"IF(提出様式!N222=\"\",\"\",提出様式!N222)","v":""}]
[null,199,null,{"$f":"IF(提出様式!C223=\"\",\"\",提出様式!C223)","v":""},null,{"$f":"IF(提出様式!I223=\"\",\"\",提出様式!I223)","v":""},{"$f":"IF(提出様式!K223=\"\",\"\",(ROUNDUP(提出様式!K223/5,0)))","v":""},{"$f":"IF(提出様式!H223=\"\",\"\",提出様式!H223)","v":""},{"$f":"IF(提出様式!L223=\"\",\"\",提出様式!L223)","v":""},{"$f":"IF(提出様式!M223=\"\",\"\",提出様式!M223)","v":""},{"$f":"IF(提出様式!N223=\"\",\"\",提出様式!N223)","v":""}]
[null,200,null,{"$f":"IF(提出様式!C224=\"\",\"\",提出様式!C224)","v":""},null,{"$f":"IF(提出様式!I224=\"\",\"\",提出様式!I224)","v":""},{"$f":"IF(提出様式!K224=\"\",\"\",(ROUNDUP(提出様式!K224/5,0)))","v":""},{"$f":"IF(提出様式!H224=\"\",\"\",提出様式!H224)","v":""},{"$f":"IF(提出様式!L224=\"\",\"\",提出様式!L224)","v":""},{"$f":"IF(提出様式!M224=\"\",\"\",提出様式!M224)","v":""},{"$f":"IF(提出様式!N224=\"\",\"\",提出様式!N224)","v":""}]
[null,201,null,{"$f":"IF(提出様式!C225=\"\",\"\",提出様式!C225)","v":""},null,{"$f":"IF(提出様式!I225=\"\",\"\",提出様式!I225)","v":""},{"$f":"IF(提出様式!K225=\"\",\"\",(ROUNDUP(提出様式!K225/5,0)))","v":""},{"$f":"IF(提出様式!H225=\"\",\"\",提出様式!H225)","v":""},{"$f":"IF(提出様式!L225=\"\",\"\",提出様式!L225)","v":""},{"$f":"IF(提出様式!M225=\"\",\"\",提出様式!M225)","v":""},{"$f":"IF(提出様式!N225=\"\",\"\",提出様式!N225)","v":""}]
[null,202,null,{"$f":"IF(提出様式!C226=\"\",\"\",提出様式!C226)","v":""},null,{"$f":"IF(提出様式!I226=\"\",\"\",提出様式!I226)","v":""},{"$f":"IF(提出様式!K226=\"\",\"\",(ROUNDUP(提出様式!K226/5,0)))","v":""},{"$f":"IF(提出様式!H226=\"\",\"\",提出様式!H226)","v":""},{"$f":"IF(提出様式!L226=\"\",\"\",提出様式!L226)","v":""},{"$f":"IF(提出様式!M226=\"\",\"\",提出様式!M226)","v":""},{"$f":"IF(提出様式!N226=\"\",\"\",提出様式!N226)","v":""}]
[null,203,null,{"$f":"IF(提出様式!C227=\"\",\"\",提出様式!C227)","v":""},null,{"$f":"IF(提出様式!I227=\"\",\"\",提出様式!I227)","v":""},{"$f":"IF(提出様式!K227=\"\",\"\",(ROUNDUP(提出様式!K227/5,0)))","v":""},{"$f":"IF(提出様式!H227=\"\",\"\",提出様式!H227)","v":""},{"$f":"IF(提出様式!L227=\"\",\"\",提出様式!L227)","v":""},{"$f":"IF(提出様式!M227=\"\",\"\",提出様式!M227)","v":""},{"$f":"IF(提出様式!N227=\"\",\"\",提出様式!N227)","v":""}]
[null,204,null,{"$f":"IF(提出様式!C228=\"\",\"\",提出様式!C228)","v":""},null,{"$f":"IF(提出様式!I228=\"\",\"\",提出様式!I228)","v":""},{"$f":"IF(提出様式!K228=\"\",\"\",(ROUNDUP(提出様式!K228/5,0)))","v":""},{"$f":"IF(提出様式!H228=\"\",\"\",提出様式!H228)","v":""},{"$f":"IF(提出様式!L228=\"\",\"\",提出様式!L228)","v":""},{"$f":"IF(提出様式!M228=\"\",\"\",提出様式!M228)","v":""},{"$f":"IF(提出様式!N228=\"\",\"\",提出様式!N228)","v":""}]
[null,205,null,{"$f":"IF(提出様式!C229=\"\",\"\",提出様式!C229)","v":""},null,{"$f":"IF(提出様式!I229=\"\",\"\",提出様式!I229)","v":""},{"$f":"IF(提出様式!K229=\"\",\"\",(ROUNDUP(提出様式!K229/5,0)))","v":""},{"$f":"IF(提出様式!H229=\"\",\"\",提出様式!H229)","v":""},{"$f":"IF(提出様式!L229=\"\",\"\",提出様式!L229)","v":""},{"$f":"IF(提出様式!M229=\"\",\"\",提出様式!M229)","v":""},{"$f":"IF(提出様式!N229=\"\",\"\",提出様式!N229)","v":""}]
[null,206,null,{"$f":"IF(提出様式!C230=\"\",\"\",提出様式!C230)","v":""},null,{"$f":"IF(提出様式!I230=\"\",\"\",提出様式!I230)","v":""},{"$f":"IF(提出様式!K230=\"\",\"\",(ROUNDUP(提出様式!K230/5,0)))","v":""},{"$f":"IF(提出様式!H230=\"\",\"\",提出様式!H230)","v":""},{"$f":"IF(提出様式!L230=\"\",\"\",提出様式!L230)","v":""},{"$f":"IF(提出様式!M230=\"\",\"\",提出様式!M230)","v":""},{"$f":"IF(提出様式!N230=\"\",\"\",提出様式!N230)","v":""}]
[null,207,null,{"$f":"IF(提出様式!C231=\"\",\"\",提出様式!C231)","v":""},null,{"$f":"IF(提出様式!I231=\"\",\"\",提出様式!I231)","v":""},{"$f":"IF(提出様式!K231=\"\",\"\",(ROUNDUP(提出様式!K231/5,0)))","v":""},{"$f":"IF(提出様式!H231=\"\",\"\",提出様式!H231)","v":""},{"$f":"IF(提出様式!L231=\"\",\"\",提出様式!L231)","v":""},{"$f":"IF(提出様式!M231=\"\",\"\",提出様式!M231)","v":""},{"$f":"IF(提出様式!N231=\"\",\"\",提出様式!N231)","v":""}]
[null,208,null,{"$f":"IF(提出様式!C232=\"\",\"\",提出様式!C232)","v":""},null,{"$f":"IF(提出様式!I232=\"\",\"\",提出様式!I232)","v":""},{"$f":"IF(提出様式!K232=\"\",\"\",(ROUNDUP(提出様式!K232/5,0)))","v":""},{"$f":"IF(提出様式!H232=\"\",\"\",提出様式!H232)","v":""},{"$f":"IF(提出様式!L232=\"\",\"\",提出様式!L232)","v":""},{"$f":"IF(提出様式!M232=\"\",\"\",提出様式!M232)","v":""},{"$f":"IF(提出様式!N232=\"\",\"\",提出様式!N232)","v":""}]
[null,209,null,{"$f":"IF(提出様式!C233=\"\",\"\",提出様式!C233)","v":""},null,{"$f":"IF(提出様式!I233=\"\",\"\",提出様式!I233)","v":""},{"$f":"IF(提出様式!K233=\"\",\"\",(ROUNDUP(提出様式!K233/5,0)))","v":""},{"$f":"IF(提出様式!H233=\"\",\"\",提出様式!H233)","v":""},{"$f":"IF(提出様式!L233=\"\",\"\",提出様式!L233)","v":""},{"$f":"IF(提出様式!M233=\"\",\"\",提出様式!M233)","v":""},{"$f":"IF(提出様式!N233=\"\",\"\",提出様式!N233)","v":""}]
[null,210,null,{"$f":"IF(提出様式!C234=\"\",\"\",提出様式!C234)","v":""},null,{"$f":"IF(提出様式!I234=\"\",\"\",提出様式!I234)","v":""},{"$f":"IF(提出様式!K234=\"\",\"\",(ROUNDUP(提出様式!K234/5,0)))","v":""},{"$f":"IF(提出様式!H234=\"\",\"\",提出様式!H234)","v":""},{"$f":"IF(提出様式!L234=\"\",\"\",提出様式!L234)","v":""},{"$f":"IF(提出様式!M234=\"\",\"\",提出様式!M234)","v":""},{"$f":"IF(提出様式!N234=\"\",\"\",提出様式!N234)","v":""}]
[null,211,null,{"$f":"IF(提出様式!C235=\"\",\"\",提出様式!C235)","v":""},null,{"$f":"IF(提出様式!I235=\"\",\"\",提出様式!I235)","v":""},{"$f":"IF(提出様式!K235=\"\",\"\",(ROUNDUP(提出様式!K235/5,0)))","v":""},{"$f":"IF(提出様式!H235=\"\",\"\",提出様式!H235)","v":""},{"$f":"IF(提出様式!L235=\"\",\"\",提出様式!L235)","v":""},{"$f":"IF(提出様式!M235=\"\",\"\",提出様式!M235)","v":""},{"$f":"IF(提出様式!N235=\"\",\"\",提出様式!N235)","v":""}]
[null,212,null,{"$f":"IF(提出様式!C236=\"\",\"\",提出様式!C236)","v":""},null,{"$f":"IF(提出様式!I236=\"\",\"\",提出様式!I236)","v":""},{"$f":"IF(提出様式!K236=\"\",\"\",(ROUNDUP(提出様式!K236/5,0)))","v":""},{"$f":"IF(提出様式!H236=\"\",\"\",提出様式!H236)","v":""},{"$f":"IF(提出様式!L236=\"\",\"\",提出様式!L236)","v":""},{"$f":"IF(提出様式!M236=\"\",\"\",提出様式!M236)","v":""},{"$f":"IF(提出様式!N236=\"\",\"\",提出様式!N236)","v":""}]
[null,213,null,{"$f":"IF(提出様式!C237=\"\",\"\",提出様式!C237)","v":""},null,{"$f":"IF(提出様式!I237=\"\",\"\",提出様式!I237)","v":""},{"$f":"IF(提出様式!K237=\"\",\"\",(ROUNDUP(提出様式!K237/5,0)))","v":""},{"$f":"IF(提出様式!H237=\"\",\"\",提出様式!H237)","v":""},{"$f":"IF(提出様式!L237=\"\",\"\",提出様式!L237)","v":""},{"$f":"IF(提出様式!M237=\"\",\"\",提出様式!M237)","v":""},{"$f":"IF(提出様式!N237=\"\",\"\",提出様式!N237)","v":""}]
[null,214,null,{"$f":"IF(提出様式!C238=\"\",\"\",提出様式!C238)","v":""},null,{"$f":"IF(提出様式!I238=\"\",\"\",提出様式!I238)","v":""},{"$f":"IF(提出様式!K238=\"\",\"\",(ROUNDUP(提出様式!K238/5,0)))","v":""},{"$f":"IF(提出様式!H238=\"\",\"\",提出様式!H238)","v":""},{"$f":"IF(提出様式!L238=\"\",\"\",提出様式!L238)","v":""},{"$f":"IF(提出様式!M238=\"\",\"\",提出様式!M238)","v":""},{"$f":"IF(提出様式!N238=\"\",\"\",提出様式!N238)","v":""}]
[null,215,null,{"$f":"IF(提出様式!C239=\"\",\"\",提出様式!C239)","v":""},null,{"$f":"IF(提出様式!I239=\"\",\"\",提出様式!I239)","v":""},{"$f":"IF(提出様式!K239=\"\",\"\",(ROUNDUP(提出様式!K239/5,0)))","v":""},{"$f":"IF(提出様式!H239=\"\",\"\",提出様式!H239)","v":""},{"$f":"IF(提出様式!L239=\"\",\"\",提出様式!L239)","v":""},{"$f":"IF(提出様式!M239=\"\",\"\",提出様式!M239)","v":""},{"$f":"IF(提出様式!N239=\"\",\"\",提出様式!N239)","v":""}]
[null,216,null,{"$f":"IF(提出様式!C240=\"\",\"\",提出様式!C240)","v":""},null,{"$f":"IF(提出様式!I240=\"\",\"\",提出様式!I240)","v":""},{"$f":"IF(提出様式!K240=\"\",\"\",(ROUNDUP(提出様式!K240/5,0)))","v":""},{"$f":"IF(提出様式!H240=\"\",\"\",提出様式!H240)","v":""},{"$f":"IF(提出様式!L240=\"\",\"\",提出様式!L240)","v":""},{"$f":"IF(提出様式!M240=\"\",\"\",提出様式!M240)","v":""},{"$f":"IF(提出様式!N240=\"\",\"\",提出様式!N240)","v":""}]
[null,217,null,{"$f":"IF(提出様式!C241=\"\",\"\",提出様式!C241)","v":""},null,{"$f":"IF(提出様式!I241=\"\",\"\",提出様式!I241)","v":""},{"$f":"IF(提出様式!K241=\"\",\"\",(ROUNDUP(提出様式!K241/5,0)))","v":""},{"$f":"IF(提出様式!H241=\"\",\"\",提出様式!H241)","v":""},{"$f":"IF(提出様式!L241=\"\",\"\",提出様式!L241)","v":""},{"$f":"IF(提出様式!M241=\"\",\"\",提出様式!M241)","v":""},{"$f":"IF(提出様式!N241=\"\",\"\",提出様式!N241)","v":""}]
[null,218,null,{"$f":"IF(提出様式!C242=\"\",\"\",提出様式!C242)","v":""},null,{"$f":"IF(提出様式!I242=\"\",\"\",提出様式!I242)","v":""},{"$f":"IF(提出様式!K242=\"\",\"\",(ROUNDUP(提出様式!K242/5,0)))","v":""},{"$f":"IF(提出様式!H242=\"\",\"\",提出様式!H242)","v":""},{"$f":"IF(提出様式!L242=\"\",\"\",提出様式!L242)","v":""},{"$f":"IF(提出様式!M242=\"\",\"\",提出様式!M242)","v":""},{"$f":"IF(提出様式!N242=\"\",\"\",提出様式!N242)","v":""}]
[null,219,null,{"$f":"IF(提出様式!C243=\"\",\"\",提出様式!C243)","v":""},null,{"$f":"IF(提出様式!I243=\"\",\"\",提出様式!I243)","v":""},{"$f":"IF(提出様式!K243=\"\",\"\",(ROUNDUP(提出様式!K243/5,0)))","v":""},{"$f":"IF(提出様式!H243=\"\",\"\",提出様式!H243)","v":""},{"$f":"IF(提出様式!L243=\"\",\"\",提出様式!L243)","v":""},{"$f":"IF(提出様式!M243=\"\",\"\",提出様式!M243)","v":""},{"$f":"IF(提出様式!N243=\"\",\"\",提出様式!N243)","v":""}]
[null,220,null,{"$f":"IF(提出様式!C244=\"\",\"\",提出様式!C244)","v":""},null,{"$f":"IF(提出様式!I244=\"\",\"\",提出様式!I244)","v":""},{"$f":"IF(提出様式!K244=\"\",\"\",(ROUNDUP(提出様式!K244/5,0)))","v":""},{"$f":"IF(提出様式!H244=\"\",\"\",提出様式!H244)","v":""},{"$f":"IF(提出様式!L244=\"\",\"\",提出様式!L244)","v":""},{"$f":"IF(提出様式!M244=\"\",\"\",提出様式!M244)","v":""},{"$f":"IF(提出様式!N244=\"\",\"\",提出様式!N244)","v":""}]
[null,221,null,{"$f":"IF(提出様式!C245=\"\",\"\",提出様式!C245)","v":""},null,{"$f":"IF(提出様式!I245=\"\",\"\",提出様式!I245)","v":""},{"$f":"IF(提出様式!K245=\"\",\"\",(ROUNDUP(提出様式!K245/5,0)))","v":""},{"$f":"IF(提出様式!H245=\"\",\"\",提出様式!H245)","v":""},{"$f":"IF(提出様式!L245=\"\",\"\",提出様式!L245)","v":""},{"$f":"IF(提出様式!M245=\"\",\"\",提出様式!M245)","v":""},{"$f":"IF(提出様式!N245=\"\",\"\",提出様式!N245)","v":""}]
[null,222,null,{"$f":"IF(提出様式!C246=\"\",\"\",提出様式!C246)","v":""},null,{"$f":"IF(提出様式!I246=\"\",\"\",提出様式!I246)","v":""},{"$f":"IF(提出様式!K246=\"\",\"\",(ROUNDUP(提出様式!K246/5,0)))","v":""},{"$f":"IF(提出様式!H246=\"\",\"\",提出様式!H246)","v":""},{"$f":"IF(提出様式!L246=\"\",\"\",提出様式!L246)","v":""},{"$f":"IF(提出様式!M246=\"\",\"\",提出様式!M246)","v":""},{"$f":"IF(提出様式!N246=\"\",\"\",提出様式!N246)","v":""}]
[null,223,null,{"$f":"IF(提出様式!C247=\"\",\"\",提出様式!C247)","v":""},null,{"$f":"IF(提出様式!I247=\"\",\"\",提出様式!I247)","v":""},{"$f":"IF(提出様式!K247=\"\",\"\",(ROUNDUP(提出様式!K247/5,0)))","v":""},{"$f":"IF(提出様式!H247=\"\",\"\",提出様式!H247)","v":""},{"$f":"IF(提出様式!L247=\"\",\"\",提出様式!L247)","v":""},{"$f":"IF(提出様式!M247=\"\",\"\",提出様式!M247)","v":""},{"$f":"IF(提出様式!N247=\"\",\"\",提出様式!N247)","v":""}]
[null,224,null,{"$f":"IF(提出様式!C248=\"\",\"\",提出様式!C248)","v":""},null,{"$f":"IF(提出様式!I248=\"\",\"\",提出様式!I248)","v":""},{"$f":"IF(提出様式!K248=\"\",\"\",(ROUNDUP(提出様式!K248/5,0)))","v":""},{"$f":"IF(提出様式!H248=\"\",\"\",提出様式!H248)","v":""},{"$f":"IF(提出様式!L248=\"\",\"\",提出様式!L248)","v":""},{"$f":"IF(提出様式!M248=\"\",\"\",提出様式!M248)","v":""},{"$f":"IF(提出様式!N248=\"\",\"\",提出様式!N248)","v":""}]
[null,225,null,{"$f":"IF(提出様式!C249=\"\",\"\",提出様式!C249)","v":""},null,{"$f":"IF(提出様式!I249=\"\",\"\",提出様式!I249)","v":""},{"$f":"IF(提出様式!K249=\"\",\"\",(ROUNDUP(提出様式!K249/5,0)))","v":""},{"$f":"IF(提出様式!H249=\"\",\"\",提出様式!H249)","v":""},{"$f":"IF(提出様式!L249=\"\",\"\",提出様式!L249)","v":""},{"$f":"IF(提出様式!M249=\"\",\"\",提出様式!M249)","v":""},{"$f":"IF(提出様式!N249=\"\",\"\",提出様式!N249)","v":""}]
[null,226,null,{"$f":"IF(提出様式!C250=\"\",\"\",提出様式!C250)","v":""},null,{"$f":"IF(提出様式!I250=\"\",\"\",提出様式!I250)","v":""},{"$f":"IF(提出様式!K250=\"\",\"\",(ROUNDUP(提出様式!K250/5,0)))","v":""},{"$f":"IF(提出様式!H250=\"\",\"\",提出様式!H250)","v":""},{"$f":"IF(提出様式!L250=\"\",\"\",提出様式!L250)","v":""},{"$f":"IF(提出様式!M250=\"\",\"\",提出様式!M250)","v":""},{"$f":"IF(提出様式!N250=\"\",\"\",提出様式!N250)","v":""}]
[null,227,null,{"$f":"IF(提出様式!C251=\"\",\"\",提出様式!C251)","v":""},null,{"$f":"IF(提出様式!I251=\"\",\"\",提出様式!I251)","v":""},{"$f":"IF(提出様式!K251=\"\",\"\",(ROUNDUP(提出様式!K251/5,0)))","v":""},{"$f":"IF(提出様式!H251=\"\",\"\",提出様式!H251)","v":""},{"$f":"IF(提出様式!L251=\"\",\"\",提出様式!L251)","v":""},{"$f":"IF(提出様式!M251=\"\",\"\",提出様式!M251)","v":""},{"$f":"IF(提出様式!N251=\"\",\"\",提出様式!N251)","v":""}]
[null,228,null,{"$f":"IF(提出様式!C252=\"\",\"\",提出様式!C252)","v":""},null,{"$f":"IF(提出様式!I252=\"\",\"\",提出様式!I252)","v":""},{"$f":"IF(提出様式!K252=\"\",\"\",(ROUNDUP(提出様式!K252/5,0)))","v":""},{"$f":"IF(提出様式!H252=\"\",\"\",提出様式!H252)","v":""},{"$f":"IF(提出様式!L252=\"\",\"\",提出様式!L252)","v":""},{"$f":"IF(提出様式!M252=\"\",\"\",提出様式!M252)","v":""},{"$f":"IF(提出様式!N252=\"\",\"\",提出様式!N252)","v":""}]
[null,229,null,{"$f":"IF(提出様式!C253=\"\",\"\",提出様式!C253)","v":""},null,{"$f":"IF(提出様式!I253=\"\",\"\",提出様式!I253)","v":""},{"$f":"IF(提出様式!K253=\"\",\"\",(ROUNDUP(提出様式!K253/5,0)))","v":""},{"$f":"IF(提出様式!H253=\"\",\"\",提出様式!H253)","v":""},{"$f":"IF(提出様式!L253=\"\",\"\",提出様式!L253)","v":""},{"$f":"IF(提出様式!M253=\"\",\"\",提出様式!M253)","v":""},{"$f":"IF(提出様式!N253=\"\",\"\",提出様式!N253)","v":""}]
[null,230,null,{"$f":"IF(提出様式!C254=\"\",\"\",提出様式!C254)","v":""},null,{"$f":"IF(提出様式!I254=\"\",\"\",提出様式!I254)","v":""},{"$f":"IF(提出様式!K254=\"\",\"\",(ROUNDUP(提出様式!K254/5,0)))","v":""},{"$f":"IF(提出様式!H254=\"\",\"\",提出様式!H254)","v":""},{"$f":"IF(提出様式!L254=\"\",\"\",提出様式!L254)","v":""},{"$f":"IF(提出様式!M254=\"\",\"\",提出様式!M254)","v":""},{"$f":"IF(提出様式!N254=\"\",\"\",提出様式!N254)","v":""}]
[null,231,null,{"$f":"IF(提出様式!C255=\"\",\"\",提出様式!C255)","v":""},null,{"$f":"IF(提出様式!I255=\"\",\"\",提出様式!I255)","v":""},{"$f":"IF(提出様式!K255=\"\",\"\",(ROUNDUP(提出様式!K255/5,0)))","v":""},{"$f":"IF(提出様式!H255=\"\",\"\",提出様式!H255)","v":""},{"$f":"IF(提出様式!L255=\"\",\"\",提出様式!L255)","v":""},{"$f":"IF(提出様式!M255=\"\",\"\",提出様式!M255)","v":""},{"$f":"IF(提出様式!N255=\"\",\"\",提出様式!N255)","v":""}]
[null,232,null,{"$f":"IF(提出様式!C256=\"\",\"\",提出様式!C256)","v":""},null,{"$f":"IF(提出様式!I256=\"\",\"\",提出様式!I256)","v":""},{"$f":"IF(提出様式!K256=\"\",\"\",(ROUNDUP(提出様式!K256/5,0)))","v":""},{"$f":"IF(提出様式!H256=\"\",\"\",提出様式!H256)","v":""},{"$f":"IF(提出様式!L256=\"\",\"\",提出様式!L256)","v":""},{"$f":"IF(提出様式!M256=\"\",\"\",提出様式!M256)","v":""},{"$f":"IF(提出様式!N256=\"\",\"\",提出様式!N256)","v":""}]
[null,233,null,{"$f":"IF(提出様式!C257=\"\",\"\",提出様式!C257)","v":""},null,{"$f":"IF(提出様式!I257=\"\",\"\",提出様式!I257)","v":""},{"$f":"IF(提出様式!K257=\"\",\"\",(ROUNDUP(提出様式!K257/5,0)))","v":""},{"$f":"IF(提出様式!H257=\"\",\"\",提出様式!H257)","v":""},{"$f":"IF(提出様式!L257=\"\",\"\",提出様式!L257)","v":""},{"$f":"IF(提出様式!M257=\"\",\"\",提出様式!M257)","v":""},{"$f":"IF(提出様式!N257=\"\",\"\",提出様式!N257)","v":""}]
[null,234,null,{"$f":"IF(提出様式!C258=\"\",\"\",提出様式!C258)","v":""},null,{"$f":"IF(提出様式!I258=\"\",\"\",提出様式!I258)","v":""},{"$f":"IF(提出様式!K258=\"\",\"\",(ROUNDUP(提出様式!K258/5,0)))","v":""},{"$f":"IF(提出様式!H258=\"\",\"\",提出様式!H258)","v":""},{"$f":"IF(提出様式!L258=\"\",\"\",提出様式!L258)","v":""},{"$f":"IF(提出様式!M258=\"\",\"\",提出様式!M258)","v":""},{"$f":"IF(提出様式!N258=\"\",\"\",提出様式!N258)","v":""}]
[null,235,null,{"$f":"IF(提出様式!C259=\"\",\"\",提出様式!C259)","v":""},null,{"$f":"IF(提出様式!I259=\"\",\"\",提出様式!I259)","v":""},{"$f":"IF(提出様式!K259=\"\",\"\",(ROUNDUP(提出様式!K259/5,0)))","v":""},{"$f":"IF(提出様式!H259=\"\",\"\",提出様式!H259)","v":""},{"$f":"IF(提出様式!L259=\"\",\"\",提出様式!L259)","v":""},{"$f":"IF(提出様式!M259=\"\",\"\",提出様式!M259)","v":""},{"$f":"IF(提出様式!N259=\"\",\"\",提出様式!N259)","v":""}]
[null,236,null,{"$f":"IF(提出様式!C260=\"\",\"\",提出様式!C260)","v":""},null,{"$f":"IF(提出様式!I260=\"\",\"\",提出様式!I260)","v":""},{"$f":"IF(提出様式!K260=\"\",\"\",(ROUNDUP(提出様式!K260/5,0)))","v":""},{"$f":"IF(提出様式!H260=\"\",\"\",提出様式!H260)","v":""},{"$f":"IF(提出様式!L260=\"\",\"\",提出様式!L260)","v":""},{"$f":"IF(提出様式!M260=\"\",\"\",提出様式!M260)","v":""},{"$f":"IF(提出様式!N260=\"\",\"\",提出様式!N260)","v":""}]
[null,237,null,{"$f":"IF(提出様式!C261=\"\",\"\",提出様式!C261)","v":""},null,{"$f":"IF(提出様式!I261=\"\",\"\",提出様式!I261)","v":""},{"$f":"IF(提出様式!K261=\"\",\"\",(ROUNDUP(提出様式!K261/5,0)))","v":""},{"$f":"IF(提出様式!H261=\"\",\"\",提出様式!H261)","v":""},{"$f":"IF(提出様式!L261=\"\",\"\",提出様式!L261)","v":""},{"$f":"IF(提出様式!M261=\"\",\"\",提出様式!M261)","v":""},{"$f":"IF(提出様式!N261=\"\",\"\",提出様式!N261)","v":""}]
[null,238,null,{"$f":"IF(提出様式!C262=\"\",\"\",提出様式!C262)","v":""},null,{"$f":"IF(提出様式!I262=\"\",\"\",提出様式!I262)","v":""},{"$f":"IF(提出様式!K262=\"\",\"\",(ROUNDUP(提出様式!K262/5,0)))","v":""},{"$f":"IF(提出様式!H262=\"\",\"\",提出様式!H262)","v":""},{"$f":"IF(提出様式!L262=\"\",\"\",提出様式!L262)","v":""},{"$f":"IF(提出様式!M262=\"\",\"\",提出様式!M262)","v":""},{"$f":"IF(提出様式!N262=\"\",\"\",提出様式!N262)","v":""}]
[null,239,null,{"$f":"IF(提出様式!C263=\"\",\"\",提出様式!C263)","v":""},null,{"$f":"IF(提出様式!I263=\"\",\"\",提出様式!I263)","v":""},{"$f":"IF(提出様式!K263=\"\",\"\",(ROUNDUP(提出様式!K263/5,0)))","v":""},{"$f":"IF(提出様式!H263=\"\",\"\",提出様式!H263)","v":""},{"$f":"IF(提出様式!L263=\"\",\"\",提出様式!L263)","v":""},{"$f":"IF(提出様式!M263=\"\",\"\",提出様式!M263)","v":""},{"$f":"IF(提出様式!N263=\"\",\"\",提出様式!N263)","v":""}]
[null,240,null,{"$f":"IF(提出様式!C264=\"\",\"\",提出様式!C264)","v":""},null,{"$f":"IF(提出様式!I264=\"\",\"\",提出様式!I264)","v":""},{"$f":"IF(提出様式!K264=\"\",\"\",(ROUNDUP(提出様式!K264/5,0)))","v":""},{"$f":"IF(提出様式!H264=\"\",\"\",提出様式!H264)","v":""},{"$f":"IF(提出様式!L264=\"\",\"\",提出様式!L264)","v":""},{"$f":"IF(提出様式!M264=\"\",\"\",提出様式!M264)","v":""},{"$f":"IF(提出様式!N264=\"\",\"\",提出様式!N264)","v":""}]
[null,241,null,{"$f":"IF(提出様式!C265=\"\",\"\",提出様式!C265)","v":""},null,{"$f":"IF(提出様式!I265=\"\",\"\",提出様式!I265)","v":""},{"$f":"IF(提出様式!K265=\"\",\"\",(ROUNDUP(提出様式!K265/5,0)))","v":""},{"$f":"IF(提出様式!H265=\"\",\"\",提出様式!H265)","v":""},{"$f":"IF(提出様式!L265=\"\",\"\",提出様式!L265)","v":""},{"$f":"IF(提出様式!M265=\"\",\"\",提出様式!M265)","v":""},{"$f":"IF(提出様式!N265=\"\",\"\",提出様式!N265)","v":""}]
[null,242,null,{"$f":"IF(提出様式!C266=\"\",\"\",提出様式!C266)","v":""},null,{"$f":"IF(提出様式!I266=\"\",\"\",提出様式!I266)","v":""},{"$f":"IF(提出様式!K266=\"\",\"\",(ROUNDUP(提出様式!K266/5,0)))","v":""},{"$f":"IF(提出様式!H266=\"\",\"\",提出様式!H266)","v":""},{"$f":"IF(提出様式!L266=\"\",\"\",提出様式!L266)","v":""},{"$f":"IF(提出様式!M266=\"\",\"\",提出様式!M266)","v":""},{"$f":"IF(提出様式!N266=\"\",\"\",提出様式!N266)","v":""}]
[null,243,null,{"$f":"IF(提出様式!C267=\"\",\"\",提出様式!C267)","v":""},null,{"$f":"IF(提出様式!I267=\"\",\"\",提出様式!I267)","v":""},{"$f":"IF(提出様式!K267=\"\",\"\",(ROUNDUP(提出様式!K267/5,0)))","v":""},{"$f":"IF(提出様式!H267=\"\",\"\",提出様式!H267)","v":""},{"$f":"IF(提出様式!L267=\"\",\"\",提出様式!L267)","v":""},{"$f":"IF(提出様式!M267=\"\",\"\",提出様式!M267)","v":""},{"$f":"IF(提出様式!N267=\"\",\"\",提出様式!N267)","v":""}]
[null,244,null,{"$f":"IF(提出様式!C268=\"\",\"\",提出様式!C268)","v":""},null,{"$f":"IF(提出様式!I268=\"\",\"\",提出様式!I268)","v":""},{"$f":"IF(提出様式!K268=\"\",\"\",(ROUNDUP(提出様式!K268/5,0)))","v":""},{"$f":"IF(提出様式!H268=\"\",\"\",提出様式!H268)","v":""},{"$f":"IF(提出様式!L268=\"\",\"\",提出様式!L268)","v":""},{"$f":"IF(提出様式!M268=\"\",\"\",提出様式!M268)","v":""},{"$f":"IF(提出様式!N268=\"\",\"\",提出様式!N268)","v":""}]
[null,245,null,{"$f":"IF(提出様式!C269=\"\",\"\",提出様式!C269)","v":""},null,{"$f":"IF(提出様式!I269=\"\",\"\",提出様式!I269)","v":""},{"$f":"IF(提出様式!K269=\"\",\"\",(ROUNDUP(提出様式!K269/5,0)))","v":""},{"$f":"IF(提出様式!H269=\"\",\"\",提出様式!H269)","v":""},{"$f":"IF(提出様式!L269=\"\",\"\",提出様式!L269)","v":""},{"$f":"IF(提出様式!M269=\"\",\"\",提出様式!M269)","v":""},{"$f":"IF(提出様式!N269=\"\",\"\",提出様式!N269)","v":""}]
[null,246,null,{"$f":"IF(提出様式!C270=\"\",\"\",提出様式!C270)","v":""},null,{"$f":"IF(提出様式!I270=\"\",\"\",提出様式!I270)","v":""},{"$f":"IF(提出様式!K270=\"\",\"\",(ROUNDUP(提出様式!K270/5,0)))","v":""},{"$f":"IF(提出様式!H270=\"\",\"\",提出様式!H270)","v":""},{"$f":"IF(提出様式!L270=\"\",\"\",提出様式!L270)","v":""},{"$f":"IF(提出様式!M270=\"\",\"\",提出様式!M270)","v":""},{"$f":"IF(提出様式!N270=\"\",\"\",提出様式!N270)","v":""}]
[null,247,null,{"$f":"IF(提出様式!C271=\"\",\"\",提出様式!C271)","v":""},null,{"$f":"IF(提出様式!I271=\"\",\"\",提出様式!I271)","v":""},{"$f":"IF(提出様式!K271=\"\",\"\",(ROUNDUP(提出様式!K271/5,0)))","v":""},{"$f":"IF(提出様式!H271=\"\",\"\",提出様式!H271)","v":""},{"$f":"IF(提出様式!L271=\"\",\"\",提出様式!L271)","v":""},{"$f":"IF(提出様式!M271=\"\",\"\",提出様式!M271)","v":""},{"$f":"IF(提出様式!N271=\"\",\"\",提出様式!N271)","v":""}]
[null,248,null,{"$f":"IF(提出様式!C272=\"\",\"\",提出様式!C272)","v":""},null,{"$f":"IF(提出様式!I272=\"\",\"\",提出様式!I272)","v":""},{"$f":"IF(提出様式!K272=\"\",\"\",(ROUNDUP(提出様式!K272/5,0)))","v":""},{"$f":"IF(提出様式!H272=\"\",\"\",提出様式!H272)","v":""},{"$f":"IF(提出様式!L272=\"\",\"\",提出様式!L272)","v":""},{"$f":"IF(提出様式!M272=\"\",\"\",提出様式!M272)","v":""},{"$f":"IF(提出様式!N272=\"\",\"\",提出様式!N272)","v":""}]
[null,249,null,{"$f":"IF(提出様式!C273=\"\",\"\",提出様式!C273)","v":""},null,{"$f":"IF(提出様式!I273=\"\",\"\",提出様式!I273)","v":""},{"$f":"IF(提出様式!K273=\"\",\"\",(ROUNDUP(提出様式!K273/5,0)))","v":""},{"$f":"IF(提出様式!H273=\"\",\"\",提出様式!H273)","v":""},{"$f":"IF(提出様式!L273=\"\",\"\",提出様式!L273)","v":""},{"$f":"IF(提出様式!M273=\"\",\"\",提出様式!M273)","v":""},{"$f":"IF(提出様式!N273=\"\",\"\",提出様式!N273)","v":""}]
[null,250,null,{"$f":"IF(提出様式!C274=\"\",\"\",提出様式!C274)","v":""},null,{"$f":"IF(提出様式!I274=\"\",\"\",提出様式!I274)","v":""},{"$f":"IF(提出様式!K274=\"\",\"\",(ROUNDUP(提出様式!K274/5,0)))","v":""},{"$f":"IF(提出様式!H274=\"\",\"\",提出様式!H274)","v":""},{"$f":"IF(提出様式!L274=\"\",\"\",提出様式!L274)","v":""},{"$f":"IF(提出様式!M274=\"\",\"\",提出様式!M274)","v":""},{"$f":"IF(提出様式!N274=\"\",\"\",提出様式!N274)","v":""}]
[null,251,null,{"$f":"IF(提出様式!C275=\"\",\"\",提出様式!C275)","v":""},null,{"$f":"IF(提出様式!I275=\"\",\"\",提出様式!I275)","v":""},{"$f":"IF(提出様式!K275=\"\",\"\",(ROUNDUP(提出様式!K275/5,0)))","v":""},{"$f":"IF(提出様式!H275=\"\",\"\",提出様式!H275)","v":""},{"$f":"IF(提出様式!L275=\"\",\"\",提出様式!L275)","v":""},{"$f":"IF(提出様式!M275=\"\",\"\",提出様式!M275)","v":""},{"$f":"IF(提出様式!N275=\"\",\"\",提出様式!N275)","v":""}]
[null,252,null,{"$f":"IF(提出様式!C276=\"\",\"\",提出様式!C276)","v":""},null,{"$f":"IF(提出様式!I276=\"\",\"\",提出様式!I276)","v":""},{"$f":"IF(提出様式!K276=\"\",\"\",(ROUNDUP(提出様式!K276/5,0)))","v":""},{"$f":"IF(提出様式!H276=\"\",\"\",提出様式!H276)","v":""},{"$f":"IF(提出様式!L276=\"\",\"\",提出様式!L276)","v":""},{"$f":"IF(提出様式!M276=\"\",\"\",提出様式!M276)","v":""},{"$f":"IF(提出様式!N276=\"\",\"\",提出様式!N276)","v":""}]
[null,253,null,{"$f":"IF(提出様式!C277=\"\",\"\",提出様式!C277)","v":""},null,{"$f":"IF(提出様式!I277=\"\",\"\",提出様式!I277)","v":""},{"$f":"IF(提出様式!K277=\"\",\"\",(ROUNDUP(提出様式!K277/5,0)))","v":""},{"$f":"IF(提出様式!H277=\"\",\"\",提出様式!H277)","v":""},{"$f":"IF(提出様式!L277=\"\",\"\",提出様式!L277)","v":""},{"$f":"IF(提出様式!M277=\"\",\"\",提出様式!M277)","v":""},{"$f":"IF(提出様式!N277=\"\",\"\",提出様式!N277)","v":""}]
[null,254,null,{"$f":"IF(提出様式!C278=\"\",\"\",提出様式!C278)","v":""},null,{"$f":"IF(提出様式!I278=\"\",\"\",提出様式!I278)","v":""},{"$f":"IF(提出様式!K278=\"\",\"\",(ROUNDUP(提出様式!K278/5,0)))","v":""},{"$f":"IF(提出様式!H278=\"\",\"\",提出様式!H278)","v":""},{"$f":"IF(提出様式!L278=\"\",\"\",提出様式!L278)","v":""},{"$f":"IF(提出様式!M278=\"\",\"\",提出様式!M278)","v":""},{"$f":"IF(提出様式!N278=\"\",\"\",提出様式!N278)","v":""}]
[null,255,null,{"$f":"IF(提出様式!C279=\"\",\"\",提出様式!C279)","v":""},null,{"$f":"IF(提出様式!I279=\"\",\"\",提出様式!I279)","v":""},{"$f":"IF(提出様式!K279=\"\",\"\",(ROUNDUP(提出様式!K279/5,0)))","v":""},{"$f":"IF(提出様式!H279=\"\",\"\",提出様式!H279)","v":""},{"$f":"IF(提出様式!L279=\"\",\"\",提出様式!L279)","v":""},{"$f":"IF(提出様式!M279=\"\",\"\",提出様式!M279)","v":""},{"$f":"IF(提出様式!N279=\"\",\"\",提出様式!N279)","v":""}]
[null,256,null,{"$f":"IF(提出様式!C280=\"\",\"\",提出様式!C280)","v":""},null,{"$f":"IF(提出様式!I280=\"\",\"\",提出様式!I280)","v":""},{"$f":"IF(提出様式!K280=\"\",\"\",(ROUNDUP(提出様式!K280/5,0)))","v":""},{"$f":"IF(提出様式!H280=\"\",\"\",提出様式!H280)","v":""},{"$f":"IF(提出様式!L280=\"\",\"\",提出様式!L280)","v":""},{"$f":"IF(提出様式!M280=\"\",\"\",提出様式!M280)","v":""},{"$f":"IF(提出様式!N280=\"\",\"\",提出様式!N280)","v":""}]
[null,257,null,{"$f":"IF(提出様式!C281=\"\",\"\",提出様式!C281)","v":""},null,{"$f":"IF(提出様式!I281=\"\",\"\",提出様式!I281)","v":""},{"$f":"IF(提出様式!K281=\"\",\"\",(ROUNDUP(提出様式!K281/5,0)))","v":""},{"$f":"IF(提出様式!H281=\"\",\"\",提出様式!H281)","v":""},{"$f":"IF(提出様式!L281=\"\",\"\",提出様式!L281)","v":""},{"$f":"IF(提出様式!M281=\"\",\"\",提出様式!M281)","v":""},{"$f":"IF(提出様式!N281=\"\",\"\",提出様式!N281)","v":""}]
[null,258,null,{"$f":"IF(提出様式!C282=\"\",\"\",提出様式!C282)","v":""},null,{"$f":"IF(提出様式!I282=\"\",\"\",提出様式!I282)","v":""},{"$f":"IF(提出様式!K282=\"\",\"\",(ROUNDUP(提出様式!K282/5,0)))","v":""},{"$f":"IF(提出様式!H282=\"\",\"\",提出様式!H282)","v":""},{"$f":"IF(提出様式!L282=\"\",\"\",提出様式!L282)","v":""},{"$f":"IF(提出様式!M282=\"\",\"\",提出様式!M282)","v":""},{"$f":"IF(提出様式!N282=\"\",\"\",提出様式!N282)","v":""}]
[null,259,null,{"$f":"IF(提出様式!C283=\"\",\"\",提出様式!C283)","v":""},null,{"$f":"IF(提出様式!I283=\"\",\"\",提出様式!I283)","v":""},{"$f":"IF(提出様式!K283=\"\",\"\",(ROUNDUP(提出様式!K283/5,0)))","v":""},{"$f":"IF(提出様式!H283=\"\",\"\",提出様式!H283)","v":""},{"$f":"IF(提出様式!L283=\"\",\"\",提出様式!L283)","v":""},{"$f":"IF(提出様式!M283=\"\",\"\",提出様式!M283)","v":""},{"$f":"IF(提出様式!N283=\"\",\"\",提出様式!N283)","v":""}]
[null,260,null,{"$f":"IF(提出様式!C284=\"\",\"\",提出様式!C284)","v":""},null,{"$f":"IF(提出様式!I284=\"\",\"\",提出様式!I284)","v":""},{"$f":"IF(提出様式!K284=\"\",\"\",(ROUNDUP(提出様式!K284/5,0)))","v":""},{"$f":"IF(提出様式!H284=\"\",\"\",提出様式!H284)","v":""},{"$f":"IF(提出様式!L284=\"\",\"\",提出様式!L284)","v":""},{"$f":"IF(提出様式!M284=\"\",\"\",提出様式!M284)","v":""},{"$f":"IF(提出様式!N284=\"\",\"\",提出様式!N284)","v":""}]
[null,261,null,{"$f":"IF(提出様式!C285=\"\",\"\",提出様式!C285)","v":""},null,{"$f":"IF(提出様式!I285=\"\",\"\",提出様式!I285)","v":""},{"$f":"IF(提出様式!K285=\"\",\"\",(ROUNDUP(提出様式!K285/5,0)))","v":""},{"$f":"IF(提出様式!H285=\"\",\"\",提出様式!H285)","v":""},{"$f":"IF(提出様式!L285=\"\",\"\",提出様式!L285)","v":""},{"$f":"IF(提出様式!M285=\"\",\"\",提出様式!M285)","v":""},{"$f":"IF(提出様式!N285=\"\",\"\",提出様式!N285)","v":""}]
[null,262,null,{"$f":"IF(提出様式!C286=\"\",\"\",提出様式!C286)","v":""},null,{"$f":"IF(提出様式!I286=\"\",\"\",提出様式!I286)","v":""},{"$f":"IF(提出様式!K286=\"\",\"\",(ROUNDUP(提出様式!K286/5,0)))","v":""},{"$f":"IF(提出様式!H286=\"\",\"\",提出様式!H286)","v":""},{"$f":"IF(提出様式!L286=\"\",\"\",提出様式!L286)","v":""},{"$f":"IF(提出様式!M286=\"\",\"\",提出様式!M286)","v":""},{"$f":"IF(提出様式!N286=\"\",\"\",提出様式!N286)","v":""}]
[null,263,null,{"$f":"IF(提出様式!C287=\"\",\"\",提出様式!C287)","v":""},null,{"$f":"IF(提出様式!I287=\"\",\"\",提出様式!I287)","v":""},{"$f":"IF(提出様式!K287=\"\",\"\",(ROUNDUP(提出様式!K287/5,0)))","v":""},{"$f":"IF(提出様式!H287=\"\",\"\",提出様式!H287)","v":""},{"$f":"IF(提出様式!L287=\"\",\"\",提出様式!L287)","v":""},{"$f":"IF(提出様式!M287=\"\",\"\",提出様式!M287)","v":""},{"$f":"IF(提出様式!N287=\"\",\"\",提出様式!N287)","v":""}]
[null,264,null,{"$f":"IF(提出様式!C288=\"\",\"\",提出様式!C288)","v":""},null,{"$f":"IF(提出様式!I288=\"\",\"\",提出様式!I288)","v":""},{"$f":"IF(提出様式!K288=\"\",\"\",(ROUNDUP(提出様式!K288/5,0)))","v":""},{"$f":"IF(提出様式!H288=\"\",\"\",提出様式!H288)","v":""},{"$f":"IF(提出様式!L288=\"\",\"\",提出様式!L288)","v":""},{"$f":"IF(提出様式!M288=\"\",\"\",提出様式!M288)","v":""},{"$f":"IF(提出様式!N288=\"\",\"\",提出様式!N288)","v":""}]
[null,265,null,{"$f":"IF(提出様式!C289=\"\",\"\",提出様式!C289)","v":""},null,{"$f":"IF(提出様式!I289=\"\",\"\",提出様式!I289)","v":""},{"$f":"IF(提出様式!K289=\"\",\"\",(ROUNDUP(提出様式!K289/5,0)))","v":""},{"$f":"IF(提出様式!H289=\"\",\"\",提出様式!H289)","v":""},{"$f":"IF(提出様式!L289=\"\",\"\",提出様式!L289)","v":""},{"$f":"IF(提出様式!M289=\"\",\"\",提出様式!M289)","v":""},{"$f":"IF(提出様式!N289=\"\",\"\",提出様式!N289)","v":""}]
[null,266,null,{"$f":"IF(提出様式!C290=\"\",\"\",提出様式!C290)","v":""},null,{"$f":"IF(提出様式!I290=\"\",\"\",提出様式!I290)","v":""},{"$f":"IF(提出様式!K290=\"\",\"\",(ROUNDUP(提出様式!K290/5,0)))","v":""},{"$f":"IF(提出様式!H290=\"\",\"\",提出様式!H290)","v":""},{"$f":"IF(提出様式!L290=\"\",\"\",提出様式!L290)","v":""},{"$f":"IF(提出様式!M290=\"\",\"\",提出様式!M290)","v":""},{"$f":"IF(提出様式!N290=\"\",\"\",提出様式!N290)","v":""}]
[null,267,null,{"$f":"IF(提出様式!C291=\"\",\"\",提出様式!C291)","v":""},null,{"$f":"IF(提出様式!I291=\"\",\"\",提出様式!I291)","v":""},{"$f":"IF(提出様式!K291=\"\",\"\",(ROUNDUP(提出様式!K291/5,0)))","v":""},{"$f":"IF(提出様式!H291=\"\",\"\",提出様式!H291)","v":""},{"$f":"IF(提出様式!L291=\"\",\"\",提出様式!L291)","v":""},{"$f":"IF(提出様式!M291=\"\",\"\",提出様式!M291)","v":""},{"$f":"IF(提出様式!N291=\"\",\"\",提出様式!N291)","v":""}]
[null,268,null,{"$f":"IF(提出様式!C292=\"\",\"\",提出様式!C292)","v":""},null,{"$f":"IF(提出様式!I292=\"\",\"\",提出様式!I292)","v":""},{"$f":"IF(提出様式!K292=\"\",\"\",(ROUNDUP(提出様式!K292/5,0)))","v":""},{"$f":"IF(提出様式!H292=\"\",\"\",提出様式!H292)","v":""},{"$f":"IF(提出様式!L292=\"\",\"\",提出様式!L292)","v":""},{"$f":"IF(提出様式!M292=\"\",\"\",提出様式!M292)","v":""},{"$f":"IF(提出様式!N292=\"\",\"\",提出様式!N292)","v":""}]
[null,269,null,{"$f":"IF(提出様式!C293=\"\",\"\",提出様式!C293)","v":""},null,{"$f":"IF(提出様式!I293=\"\",\"\",提出様式!I293)","v":""},{"$f":"IF(提出様式!K293=\"\",\"\",(ROUNDUP(提出様式!K293/5,0)))","v":""},{"$f":"IF(提出様式!H293=\"\",\"\",提出様式!H293)","v":""},{"$f":"IF(提出様式!L293=\"\",\"\",提出様式!L293)","v":""},{"$f":"IF(提出様式!M293=\"\",\"\",提出様式!M293)","v":""},{"$f":"IF(提出様式!N293=\"\",\"\",提出様式!N293)","v":""}]
[null,270,null,{"$f":"IF(提出様式!C294=\"\",\"\",提出様式!C294)","v":""},null,{"$f":"IF(提出様式!I294=\"\",\"\",提出様式!I294)","v":""},{"$f":"IF(提出様式!K294=\"\",\"\",(ROUNDUP(提出様式!K294/5,0)))","v":""},{"$f":"IF(提出様式!H294=\"\",\"\",提出様式!H294)","v":""},{"$f":"IF(提出様式!L294=\"\",\"\",提出様式!L294)","v":""},{"$f":"IF(提出様式!M294=\"\",\"\",提出様式!M294)","v":""},{"$f":"IF(提出様式!N294=\"\",\"\",提出様式!N294)","v":""}]
[null,271,null,{"$f":"IF(提出様式!C295=\"\",\"\",提出様式!C295)","v":""},null,{"$f":"IF(提出様式!I295=\"\",\"\",提出様式!I295)","v":""},{"$f":"IF(提出様式!K295=\"\",\"\",(ROUNDUP(提出様式!K295/5,0)))","v":""},{"$f":"IF(提出様式!H295=\"\",\"\",提出様式!H295)","v":""},{"$f":"IF(提出様式!L295=\"\",\"\",提出様式!L295)","v":""},{"$f":"IF(提出様式!M295=\"\",\"\",提出様式!M295)","v":""},{"$f":"IF(提出様式!N295=\"\",\"\",提出様式!N295)","v":""}]
[null,272,null,{"$f":"IF(提出様式!C296=\"\",\"\",提出様式!C296)","v":""},null,{"$f":"IF(提出様式!I296=\"\",\"\",提出様式!I296)","v":""},{"$f":"IF(提出様式!K296=\"\",\"\",(ROUNDUP(提出様式!K296/5,0)))","v":""},{"$f":"IF(提出様式!H296=\"\",\"\",提出様式!H296)","v":""},{"$f":"IF(提出様式!L296=\"\",\"\",提出様式!L296)","v":""},{"$f":"IF(提出様式!M296=\"\",\"\",提出様式!M296)","v":""},{"$f":"IF(提出様式!N296=\"\",\"\",提出様式!N296)","v":""}]
[null,273,null,{"$f":"IF(提出様式!C297=\"\",\"\",提出様式!C297)","v":""},null,{"$f":"IF(提出様式!I297=\"\",\"\",提出様式!I297)","v":""},{"$f":"IF(提出様式!K297=\"\",\"\",(ROUNDUP(提出様式!K297/5,0)))","v":""},{"$f":"IF(提出様式!H297=\"\",\"\",提出様式!H297)","v":""},{"$f":"IF(提出様式!L297=\"\",\"\",提出様式!L297)","v":""},{"$f":"IF(提出様式!M297=\"\",\"\",提出様式!M297)","v":""},{"$f":"IF(提出様式!N297=\"\",\"\",提出様式!N297)","v":""}]
[null,274,null,{"$f":"IF(提出様式!C298=\"\",\"\",提出様式!C298)","v":""},null,{"$f":"IF(提出様式!I298=\"\",\"\",提出様式!I298)","v":""},{"$f":"IF(提出様式!K298=\"\",\"\",(ROUNDUP(提出様式!K298/5,0)))","v":""},{"$f":"IF(提出様式!H298=\"\",\"\",提出様式!H298)","v":""},{"$f":"IF(提出様式!L298=\"\",\"\",提出様式!L298)","v":""},{"$f":"IF(提出様式!M298=\"\",\"\",提出様式!M298)","v":""},{"$f":"IF(提出様式!N298=\"\",\"\",提出様式!N298)","v":""}]
[null,275,null,{"$f":"IF(提出様式!C299=\"\",\"\",提出様式!C299)","v":""},null,{"$f":"IF(提出様式!I299=\"\",\"\",提出様式!I299)","v":""},{"$f":"IF(提出様式!K299=\"\",\"\",(ROUNDUP(提出様式!K299/5,0)))","v":""},{"$f":"IF(提出様式!H299=\"\",\"\",提出様式!H299)","v":""},{"$f":"IF(提出様式!L299=\"\",\"\",提出様式!L299)","v":""},{"$f":"IF(提出様式!M299=\"\",\"\",提出様式!M299)","v":""},{"$f":"IF(提出様式!N299=\"\",\"\",提出様式!N299)","v":""}]
[null,276,null,{"$f":"IF(提出様式!C300=\"\",\"\",提出様式!C300)","v":""},null,{"$f":"IF(提出様式!I300=\"\",\"\",提出様式!I300)","v":""},{"$f":"IF(提出様式!K300=\"\",\"\",(ROUNDUP(提出様式!K300/5,0)))","v":""},{"$f":"IF(提出様式!H300=\"\",\"\",提出様式!H300)","v":""},{"$f":"IF(提出様式!L300=\"\",\"\",提出様式!L300)","v":""},{"$f":"IF(提出様式!M300=\"\",\"\",提出様式!M300)","v":""},{"$f":"IF(提出様式!N300=\"\",\"\",提出様式!N300)","v":""}]
[null,277,null,{"$f":"IF(提出様式!C301=\"\",\"\",提出様式!C301)","v":""},null,{"$f":"IF(提出様式!I301=\"\",\"\",提出様式!I301)","v":""},{"$f":"IF(提出様式!K301=\"\",\"\",(ROUNDUP(提出様式!K301/5,0)))","v":""},{"$f":"IF(提出様式!H301=\"\",\"\",提出様式!H301)","v":""},{"$f":"IF(提出様式!L301=\"\",\"\",提出様式!L301)","v":""},{"$f":"IF(提出様式!M301=\"\",\"\",提出様式!M301)","v":""},{"$f":"IF(提出様式!N301=\"\",\"\",提出様式!N301)","v":""}]
[null,278,null,{"$f":"IF(提出様式!C302=\"\",\"\",提出様式!C302)","v":""},null,{"$f":"IF(提出様式!I302=\"\",\"\",提出様式!I302)","v":""},{"$f":"IF(提出様式!K302=\"\",\"\",(ROUNDUP(提出様式!K302/5,0)))","v":""},{"$f":"IF(提出様式!H302=\"\",\"\",提出様式!H302)","v":""},{"$f":"IF(提出様式!L302=\"\",\"\",提出様式!L302)","v":""},{"$f":"IF(提出様式!M302=\"\",\"\",提出様式!M302)","v":""},{"$f":"IF(提出様式!N302=\"\",\"\",提出様式!N302)","v":""}]
[null,279,null,{"$f":"IF(提出様式!C303=\"\",\"\",提出様式!C303)","v":""},null,{"$f":"IF(提出様式!I303=\"\",\"\",提出様式!I303)","v":""},{"$f":"IF(提出様式!K303=\"\",\"\",(ROUNDUP(提出様式!K303/5,0)))","v":""},{"$f":"IF(提出様式!H303=\"\",\"\",提出様式!H303)","v":""},{"$f":"IF(提出様式!L303=\"\",\"\",提出様式!L303)","v":""},{"$f":"IF(提出様式!M303=\"\",\"\",提出様式!M303)","v":""},{"$f":"IF(提出様式!N303=\"\",\"\",提出様式!N303)","v":""}]
[null,280,null,{"$f":"IF(提出様式!C304=\"\",\"\",提出様式!C304)","v":""},null,{"$f":"IF(提出様式!I304=\"\",\"\",提出様式!I304)","v":""},{"$f":"IF(提出様式!K304=\"\",\"\",(ROUNDUP(提出様式!K304/5,0)))","v":""},{"$f":"IF(提出様式!H304=\"\",\"\",提出様式!H304)","v":""},{"$f":"IF(提出様式!L304=\"\",\"\",提出様式!L304)","v":""},{"$f":"IF(提出様式!M304=\"\",\"\",提出様式!M304)","v":""},{"$f":"IF(提出様式!N304=\"\",\"\",提出様式!N304)","v":""}]
[null,281,null,{"$f":"IF(提出様式!C305=\"\",\"\",提出様式!C305)","v":""},null,{"$f":"IF(提出様式!I305=\"\",\"\",提出様式!I305)","v":""},{"$f":"IF(提出様式!K305=\"\",\"\",(ROUNDUP(提出様式!K305/5,0)))","v":""},{"$f":"IF(提出様式!H305=\"\",\"\",提出様式!H305)","v":""},{"$f":"IF(提出様式!L305=\"\",\"\",提出様式!L305)","v":""},{"$f":"IF(提出様式!M305=\"\",\"\",提出様式!M305)","v":""},{"$f":"IF(提出様式!N305=\"\",\"\",提出様式!N305)","v":""}]
[null,282,null,{"$f":"IF(提出様式!C306=\"\",\"\",提出様式!C306)","v":""},null,{"$f":"IF(提出様式!I306=\"\",\"\",提出様式!I306)","v":""},{"$f":"IF(提出様式!K306=\"\",\"\",(ROUNDUP(提出様式!K306/5,0)))","v":""},{"$f":"IF(提出様式!H306=\"\",\"\",提出様式!H306)","v":""},{"$f":"IF(提出様式!L306=\"\",\"\",提出様式!L306)","v":""},{"$f":"IF(提出様式!M306=\"\",\"\",提出様式!M306)","v":""},{"$f":"IF(提出様式!N306=\"\",\"\",提出様式!N306)","v":""}]
[null,283,null,{"$f":"IF(提出様式!C307=\"\",\"\",提出様式!C307)","v":""},null,{"$f":"IF(提出様式!I307=\"\",\"\",提出様式!I307)","v":""},{"$f":"IF(提出様式!K307=\"\",\"\",(ROUNDUP(提出様式!K307/5,0)))","v":""},{"$f":"IF(提出様式!H307=\"\",\"\",提出様式!H307)","v":""},{"$f":"IF(提出様式!L307=\"\",\"\",提出様式!L307)","v":""},{"$f":"IF(提出様式!M307=\"\",\"\",提出様式!M307)","v":""},{"$f":"IF(提出様式!N307=\"\",\"\",提出様式!N307)","v":""}]
[null,284,null,{"$f":"IF(提出様式!C308=\"\",\"\",提出様式!C308)","v":""},null,{"$f":"IF(提出様式!I308=\"\",\"\",提出様式!I308)","v":""},{"$f":"IF(提出様式!K308=\"\",\"\",(ROUNDUP(提出様式!K308/5,0)))","v":""},{"$f":"IF(提出様式!H308=\"\",\"\",提出様式!H308)","v":""},{"$f":"IF(提出様式!L308=\"\",\"\",提出様式!L308)","v":""},{"$f":"IF(提出様式!M308=\"\",\"\",提出様式!M308)","v":""},{"$f":"IF(提出様式!N308=\"\",\"\",提出様式!N308)","v":""}]
[null,285,null,{"$f":"IF(提出様式!C309=\"\",\"\",提出様式!C309)","v":""},null,{"$f":"IF(提出様式!I309=\"\",\"\",提出様式!I309)","v":""},{"$f":"IF(提出様式!K309=\"\",\"\",(ROUNDUP(提出様式!K309/5,0)))","v":""},{"$f":"IF(提出様式!H309=\"\",\"\",提出様式!H309)","v":""},{"$f":"IF(提出様式!L309=\"\",\"\",提出様式!L309)","v":""},{"$f":"IF(提出様式!M309=\"\",\"\",提出様式!M309)","v":""},{"$f":"IF(提出様式!N309=\"\",\"\",提出様式!N309)","v":""}]
[null,286,null,{"$f":"IF(提出様式!C310=\"\",\"\",提出様式!C310)","v":""},null,{"$f":"IF(提出様式!I310=\"\",\"\",提出様式!I310)","v":""},{"$f":"IF(提出様式!K310=\"\",\"\",(ROUNDUP(提出様式!K310/5,0)))","v":""},{"$f":"IF(提出様式!H310=\"\",\"\",提出様式!H310)","v":""},{"$f":"IF(提出様式!L310=\"\",\"\",提出様式!L310)","v":""},{"$f":"IF(提出様式!M310=\"\",\"\",提出様式!M310)","v":""},{"$f":"IF(提出様式!N310=\"\",\"\",提出様式!N310)","v":""}]
[null,287,null,{"$f":"IF(提出様式!C311=\"\",\"\",提出様式!C311)","v":""},null,{"$f":"IF(提出様式!I311=\"\",\"\",提出様式!I311)","v":""},{"$f":"IF(提出様式!K311=\"\",\"\",(ROUNDUP(提出様式!K311/5,0)))","v":""},{"$f":"IF(提出様式!H311=\"\",\"\",提出様式!H311)","v":""},{"$f":"IF(提出様式!L311=\"\",\"\",提出様式!L311)","v":""},{"$f":"IF(提出様式!M311=\"\",\"\",提出様式!M311)","v":""},{"$f":"IF(提出様式!N311=\"\",\"\",提出様式!N311)","v":""}]
[null,288,null,{"$f":"IF(提出様式!C312=\"\",\"\",提出様式!C312)","v":""},null,{"$f":"IF(提出様式!I312=\"\",\"\",提出様式!I312)","v":""},{"$f":"IF(提出様式!K312=\"\",\"\",(ROUNDUP(提出様式!K312/5,0)))","v":""},{"$f":"IF(提出様式!H312=\"\",\"\",提出様式!H312)","v":""},{"$f":"IF(提出様式!L312=\"\",\"\",提出様式!L312)","v":""},{"$f":"IF(提出様式!M312=\"\",\"\",提出様式!M312)","v":""},{"$f":"IF(提出様式!N312=\"\",\"\",提出様式!N312)","v":""}]
[null,289,null,{"$f":"IF(提出様式!C313=\"\",\"\",提出様式!C313)","v":""},null,{"$f":"IF(提出様式!I313=\"\",\"\",提出様式!I313)","v":""},{"$f":"IF(提出様式!K313=\"\",\"\",(ROUNDUP(提出様式!K313/5,0)))","v":""},{"$f":"IF(提出様式!H313=\"\",\"\",提出様式!H313)","v":""},{"$f":"IF(提出様式!L313=\"\",\"\",提出様式!L313)","v":""},{"$f":"IF(提出様式!M313=\"\",\"\",提出様式!M313)","v":""},{"$f":"IF(提出様式!N313=\"\",\"\",提出様式!N313)","v":""}]
[null,290,null,{"$f":"IF(提出様式!C314=\"\",\"\",提出様式!C314)","v":""},null,{"$f":"IF(提出様式!I314=\"\",\"\",提出様式!I314)","v":""},{"$f":"IF(提出様式!K314=\"\",\"\",(ROUNDUP(提出様式!K314/5,0)))","v":""},{"$f":"IF(提出様式!H314=\"\",\"\",提出様式!H314)","v":""},{"$f":"IF(提出様式!L314=\"\",\"\",提出様式!L314)","v":""},{"$f":"IF(提出様式!M314=\"\",\"\",提出様式!M314)","v":""},{"$f":"IF(提出様式!N314=\"\",\"\",提出様式!N314)","v":""}]
[null,291,null,{"$f":"IF(提出様式!C315=\"\",\"\",提出様式!C315)","v":""},null,{"$f":"IF(提出様式!I315=\"\",\"\",提出様式!I315)","v":""},{"$f":"IF(提出様式!K315=\"\",\"\",(ROUNDUP(提出様式!K315/5,0)))","v":""},{"$f":"IF(提出様式!H315=\"\",\"\",提出様式!H315)","v":""},{"$f":"IF(提出様式!L315=\"\",\"\",提出様式!L315)","v":""},{"$f":"IF(提出様式!M315=\"\",\"\",提出様式!M315)","v":""},{"$f":"IF(提出様式!N315=\"\",\"\",提出様式!N315)","v":""}]
[null,292,null,{"$f":"IF(提出様式!C316=\"\",\"\",提出様式!C316)","v":""},null,{"$f":"IF(提出様式!I316=\"\",\"\",提出様式!I316)","v":""},{"$f":"IF(提出様式!K316=\"\",\"\",(ROUNDUP(提出様式!K316/5,0)))","v":""},{"$f":"IF(提出様式!H316=\"\",\"\",提出様式!H316)","v":""},{"$f":"IF(提出様式!L316=\"\",\"\",提出様式!L316)","v":""},{"$f":"IF(提出様式!M316=\"\",\"\",提出様式!M316)","v":""},{"$f":"IF(提出様式!N316=\"\",\"\",提出様式!N316)","v":""}]
[null,293,null,{"$f":"IF(提出様式!C317=\"\",\"\",提出様式!C317)","v":""},null,{"$f":"IF(提出様式!I317=\"\",\"\",提出様式!I317)","v":""},{"$f":"IF(提出様式!K317=\"\",\"\",(ROUNDUP(提出様式!K317/5,0)))","v":""},{"$f":"IF(提出様式!H317=\"\",\"\",提出様式!H317)","v":""},{"$f":"IF(提出様式!L317=\"\",\"\",提出様式!L317)","v":""},{"$f":"IF(提出様式!M317=\"\",\"\",提出様式!M317)","v":""},{"$f":"IF(提出様式!N317=\"\",\"\",提出様式!N317)","v":""}]
[null,294,null,{"$f":"IF(提出様式!C318=\"\",\"\",提出様式!C318)","v":""},null,{"$f":"IF(提出様式!I318=\"\",\"\",提出様式!I318)","v":""},{"$f":"IF(提出様式!K318=\"\",\"\",(ROUNDUP(提出様式!K318/5,0)))","v":""},{"$f":"IF(提出様式!H318=\"\",\"\",提出様式!H318)","v":""},{"$f":"IF(提出様式!L318=\"\",\"\",提出様式!L318)","v":""},{"$f":"IF(提出様式!M318=\"\",\"\",提出様式!M318)","v":""},{"$f":"IF(提出様式!N318=\"\",\"\",提出様式!N318)","v":""}]
[null,295,null,{"$f":"IF(提出様式!C319=\"\",\"\",提出様式!C319)","v":""},null,{"$f":"IF(提出様式!I319=\"\",\"\",提出様式!I319)","v":""},{"$f":"IF(提出様式!K319=\"\",\"\",(ROUNDUP(提出様式!K319/5,0)))","v":""},{"$f":"IF(提出様式!H319=\"\",\"\",提出様式!H319)","v":""},{"$f":"IF(提出様式!L319=\"\",\"\",提出様式!L319)","v":""},{"$f":"IF(提出様式!M319=\"\",\"\",提出様式!M319)","v":""},{"$f":"IF(提出様式!N319=\"\",\"\",提出様式!N319)","v":""}]
[null,296,null,{"$f":"IF(提出様式!C320=\"\",\"\",提出様式!C320)","v":""},null,{"$f":"IF(提出様式!I320=\"\",\"\",提出様式!I320)","v":""},{"$f":"IF(提出様式!K320=\"\",\"\",(ROUNDUP(提出様式!K320/5,0)))","v":""},{"$f":"IF(提出様式!H320=\"\",\"\",提出様式!H320)","v":""},{"$f":"IF(提出様式!L320=\"\",\"\",提出様式!L320)","v":""},{"$f":"IF(提出様式!M320=\"\",\"\",提出様式!M320)","v":""},{"$f":"IF(提出様式!N320=\"\",\"\",提出様式!N320)","v":""}]
[null,297,null,{"$f":"IF(提出様式!C321=\"\",\"\",提出様式!C321)","v":""},null,{"$f":"IF(提出様式!I321=\"\",\"\",提出様式!I321)","v":""},{"$f":"IF(提出様式!K321=\"\",\"\",(ROUNDUP(提出様式!K321/5,0)))","v":""},{"$f":"IF(提出様式!H321=\"\",\"\",提出様式!H321)","v":""},{"$f":"IF(提出様式!L321=\"\",\"\",提出様式!L321)","v":""},{"$f":"IF(提出様式!M321=\"\",\"\",提出様式!M321)","v":""},{"$f":"IF(提出様式!N321=\"\",\"\",提出様式!N321)","v":""}]
[null,298,null,{"$f":"IF(提出様式!C322=\"\",\"\",提出様式!C322)","v":""},null,{"$f":"IF(提出様式!I322=\"\",\"\",提出様式!I322)","v":""},{"$f":"IF(提出様式!K322=\"\",\"\",(ROUNDUP(提出様式!K322/5,0)))","v":""},{"$f":"IF(提出様式!H322=\"\",\"\",提出様式!H322)","v":""},{"$f":"IF(提出様式!L322=\"\",\"\",提出様式!L322)","v":""},{"$f":"IF(提出様式!M322=\"\",\"\",提出様式!M322)","v":""},{"$f":"IF(提出様式!N322=\"\",\"\",提出様式!N322)","v":""}]
[null,299,null,{"$f":"IF(提出様式!C323=\"\",\"\",提出様式!C323)","v":""},null,{"$f":"IF(提出様式!I323=\"\",\"\",提出様式!I323)","v":""},{"$f":"IF(提出様式!K323=\"\",\"\",(ROUNDUP(提出様式!K323/5,0)))","v":""},{"$f":"IF(提出様式!H323=\"\",\"\",提出様式!H323)","v":""},{"$f":"IF(提出様式!L323=\"\",\"\",提出様式!L323)","v":""},{"$f":"IF(提出様式!M323=\"\",\"\",提出様式!M323)","v":""},{"$f":"IF(提出様式!N323=\"\",\"\",提出様式!N323)","v":""}]
[null,300,null,{"$f":"IF(提出様式!C324=\"\",\"\",提出様式!C324)","v":""},null,{"$f":"IF(提出様式!I324=\"\",\"\",提出様式!I324)","v":""},{"$f":"IF(提出様式!K324=\"\",\"\",(ROUNDUP(提出様式!K324/5,0)))","v":""},{"$f":"IF(提出様式!H324=\"\",\"\",提出様式!H324)","v":""},{"$f":"IF(提出様式!L324=\"\",\"\",提出様式!L324)","v":""},{"$f":"IF(提出様式!M324=\"\",\"\",提出様式!M324)","v":""},{"$f":"IF(提出様式!N324=\"\",\"\",提出様式!N324)","v":""}]

{"sheet":"合計計算表","index":3,"n_rows":22,"n_cols":11,"rows_kept":22,"cut":false,"hidden":true,"merged":[[2,2,4,5],[2,7,2,8],[2,9,2,10],[3,7,3,8],[3,9,3,10],[4,7,4,8],[4,9,4,10],[10,1,11,1],[5,7,6,8],[5,9,6,10],[7,7,7,8],[10,7,11,7],[10,8,11,8],[10,9,11,9],[10,10,11,10],[10,2,11,2],[10,3,11,3],[10,4,11,4],[10,5,11,5],[10,6,11,6],[6,2,6,6]]}
[]
[]
[null,null,"民間企業の活動による二酸化炭素吸収・固定量の「見える化」実証事業",null,null,null,null,"御　　社　　名",null,"○○株式会社"]
[null,null,null,null,null,null,null,"プロジェクト名称"]
[null,null,null,null,null,null,null,"担　当　者　名"]
[null,null,null,null,null,null,null,"連　　絡　　先"]
[null,null,"森林による二酸化炭素吸収量詳細計算書"]
[null,null,null,null,null,null,null,"作成年月日"]
[null,null,"合計表"]
[]
[null,"森林整備の種類等の区分","樹種名","林分数","総面積　ha","総材積量　m3","ha当り材積量　m3/ha","年間総成長量 m3/年","ha当り年間成長量　m3/ha・年","年間推定CO2吸収量　t－CO2/年","ha年間推定CO2吸収量　　t-CO2/ha年"]
[]
[null,"その他登録外","スギ"]
[null,null,"ヒノキ"]
[null,null,"カラマツ"]
[null,null,"その他樹種"]
[null,null,"　計"]
[null,"　合　計","スギ"]
[null,null,"ヒノキ"]
[null,null,"カラマツ"]
[null,null,"その他樹種"]
[null,null,"　計"]

{"sheet":"計算明細表","index":4,"n_rows":8,"n_cols":15,"rows_kept":8,"cut":false,"hidden":true,"merged":[[6,1,7,1],[6,3,7,3],[6,4,7,4],[6,5,7,5],[6,6,7,6],[6,2,7,2],[6,14,7,14],[4,5,4,10],[0,4,1,11],[2,11,2,12],[2,13,2,14],[6,7,7,7],[6,8,6,10],[6,11,7,11],[6,12,7,12],[6,13,7,13]]}
[null,null,null,null,"民間企業の活動による二酸化炭素吸収・固定量の「見える化」実証事業"]
[]
[null,null,null,null,null,null,null,null,null,null,null,"作成年月日"]
[]
[null,null,null,null,null,"森林による二酸化炭素吸収量計算書　明細表"]
[]
[null,"番号","森林整備の種類等の区分","森林の所在県","林班等所在地区分","樹種名","齢級","面積　　　ha","森林調査結果",null,null,"材積量　m3","収量比数","年成長量　m3/年","年間CO２吸収量　t-CO2/年"]
[null,null,null,null,null,null,null,null,"ha当り立木本数","樹高　m","平均直径　cm"]

{"sheet":"密度管理","index":5,"n_rows":177,"n_cols":11,"rows_kept":177,"cut":false,"hidden":true,"merged":[]}
["番号","変数","ｋ１","ｋ２","ｋ３","ｋ４","H:実測上層樹高","N:ha本数","計算結果","D:平均実測直径","補正材積"]
[1,"V:ha材積",5.7326000000000002E-2,-1.36938,6475.4,-2.9022049999999999,24.411428744866246,606.25,{"$f":"(C2*G2^D2+E2*G2^F2/H2)^-1","v":579.71162650106714},37.590467507845055,{"$f":"I2*(J2/I6)^2","v":816.56302590101666}]
[null,"HF:林分形状高",0.72389400000000004,0.41041100000000003,0.15518999999999999,null,{"$f":"G2","v":24.411428744866246},{"$f":"H2","v":606.25},{"$f":"C3+D3*G3+E3*SQRT(H3)*G3/100","v":11.675400575370528}]
[null,"G:ha当たり断面積",null,null,null,null,null,null,{"$f":"I2/I3","v":49.652397171192526}]
[null,"dg^：断面積平均直径",null,null,null,null,null,{"$f":"H2","v":606.25},{"$f":"200*SQRT(I4/(PI()*H5))","v":32.292323448766126}]
[null,"d^：平均胸高直径",-0.11365599999999999,0.99504499999999996,-5.7512000000000001E-2,null,{"$f":"G2","v":24.411428744866246},{"$f":"H2","v":606.25},{"$f":"C6+D6*I5+E6*SQRT(H6)*G6/100","v":31.672976366152987}]
[null,"Rｙ：収量比数",null,null,null,null,{"$f":"G2","v":24.411428744866246},{"$f":"H2","v":606.25},{"$f":"I2/I8","v":0.62133716654117632},null,{"$f":"K2/I8","v":0.87519541375748633}]
[null,"Vrf：最多密度材積",{"$f":"C2","v":5.7326000000000002E-2},{"$f":"D2","v":-1.36938},{"$f":"E2","v":6475.4},{"$f":"F2","v":-2.9022049999999999},{"$f":"G2","v":24.411428744866246},null,{"$f":"(C8*G8^D8+E8*G8^F8/I9)^-1","v":933.00651839028433}]
[null,"Nrf:最多密度本数",5.3388799999999996,-1.512831,null,null,{"$f":"G2","v":24.411428744866246},null,{"$f":"10^(C9+D9*LOG(G9))","v":1736.5448086636484}]
[2,"V:ha材積",6.0047000000000003E-2,-1.3523369999999999,3743.3,-2.8248280000000001,22,900,{"$f":"(C10*G10^D10+E10*G10^F10/H10)^-1","v":629.01717012183701},28,{"$f":"I10*(J10/I14)^2","v":611.32317732024808}]
[null,"HF:林分形状高",0.66719600000000001,0.38748500000000002,0.18997900000000001,null,{"$f":"G10","v":22},{"$f":"H10","v":900},{"$f":"C11+D11*G11+E11*SQRT(H11)*G11/100","v":10.445727400000001}]
[null,"G:ha当たり断面積",null,null,null,null,null,null,{"$f":"I10/I11","v":60.217651297490008}]
[null,"dg^：断面積平均直径",null,null,null,null,null,{"$f":"H10","v":900},{"$f":"200*SQRT(I12/(PI()*H13))","v":29.187420220787843}]
[null,"d^：平均胸高直径",-0.38222400000000001,0.98619699999999999,null,null,{"$f":"G10","v":22},{"$f":"H10","v":900},{"$f":"C14+D14*I13+E14*SQRT(H14)*G14/100","v":28.402322259480307}]
[null,"Rｙ：収量比数",null,null,null,null,{"$f":"G10","v":22},{"$f":"H10","v":900},{"$f":"I10/I16","v":0.76089153909949592},null,{"$f":"K10/I16","v":0.73948797484860496}]
[null,"Vrf：最多密度材積",{"$f":"C10","v":6.0047000000000003E-2},{"$f":"D10","v":-1.3523369999999999},{"$f":"E10","v":3743.3},{"$f":"F10","v":-2.8248280000000001},{"$f":"G10","v":22},null,{"$f":"(C16*G16^D16+E16*G16^F16/I17)^-1","v":826.68440611952349}]
[null,"Nrf:最多密度本数",5.2937399999999997,-1.4724900000000001,null,null,{"$f":"G10","v":22},null,{"$f":"10^(C17+D17*LOG(G17))","v":2075.08564817259}]
[3,"V:ha材積",7.1559999999999999E-2,-1.3738589999999999,5062,-2.8697849999999998,17,1600,{"$f":"(C18*G18^D18+E18*G18^F18/H18)^-1","v":418.27256573530167},24,{"$f":"I18*(J18/I22)^2","v":674.610014918876}]
[null,"HF:林分形状高",0.650787,0.417356,0.138768,null,{"$f":"G18","v":17},{"$f":"H18","v":1600},{"$f":"C19+D19*G19+E19*SQRT(H19)*G19/100","v":8.6894614000000008}]
[null,"G:ha当たり断面積",null,null,null,null,null,null,{"$f":"I18/I19","v":48.135614680940023}]
[null,"dg^：断面積平均直径",null,null,null,null,null,{"$f":"H18","v":1600},{"$f":"200*SQRT(I20/(PI()*H21))","v":19.571690033359932}]
[null,"d^：平均胸高直径",0.193943,0.98716400000000004,-9.0657000000000001E-2,null,{"$f":"G18","v":17},{"$f":"H18","v":1600},{"$f":"C22+D22*I21+E22*SQRT(H22)*G22/100","v":18.897943220091726}]
[null,"Rｙ：収量比数",null,null,null,null,{"$f":"G18","v":17},{"$f":"H18","v":1600},{"$f":"I18/I24","v":0.79428376970368653},null,{"$f":"K18/I24","v":1.2810588827112299}]
[null,"Vrf：最多密度材積",{"$f":"C18","v":7.1559999999999999E-2},{"$f":"D18","v":-1.3738589999999999},{"$f":"E18","v":5062},{"$f":"F18","v":-2.8697849999999998},{"$f":"G18","v":17},null,{"$f":"(C24*G24^D24+E24*G24^F24/I25)^-1","v":526.60344034392313}]
[null,"Nrf:最多密度本数",5.3709470000000001,-1.4959260000000001,null,null,{"$f":"G18","v":17},null,{"$f":"10^(C25+D25*LOG(G25))","v":3390.677363106262}]
[4,"V:ha材積",8.2249000000000003E-2,-1.3729210000000001,3681.6,-2.867826,24.411428744866246,606.25,{"$f":"(C26*G26^D26+E26*G26^F26/H26)^-1","v":602.30879488649271},37.590467507845055,{"$f":"I26*(J26/I30)^2","v":810.43514406387453}]
[null,"HF:林分形状高",0.80854499999999996,0.40234500000000001,0.14088200000000001,null,{"$f":"G26","v":24.411428744866246},{"$f":"H26","v":606.25},{"$f":"C27+D27*G27+E27*SQRT(H27)*G27/100","v":11.477149079341594}]
[null,"G:ha当たり断面積",null,null,null,null,null,null,{"$f":"I26/I27","v":52.478955420264107}]
[null,"dg^：断面積平均直径",null,null,null,null,null,{"$f":"H26","v":606.25},{"$f":"200*SQRT(I28/(PI()*H29))","v":33.19875325133264}]
[null,"d^：平均胸高直径",-3.79E-4,0.981298,-2.8497000000000001E-2,null,{"$f":"G26","v":24.411428744866246},{"$f":"H26","v":606.25},{"$f":"C30+D30*I29+E30*SQRT(H30)*G30/100","v":32.406206607934607}]
[null,"Rｙ：収量比数",null,null,null,null,{"$f":"G26","v":24.411428744866246},{"$f":"H26","v":606.25},{"$f":"I26/I32","v":0.72851543773424365},null,{"$f":"K26/I32","v":0.98025218749159082}]
[null,"Vrf：最多密度材積",{"$f":"C26","v":8.2249000000000003E-2},{"$f":"D26","v":-1.3729210000000001},{"$f":"E26","v":3681.6},{"$f":"F26","v":-2.867826},{"$f":"G26","v":24.411428744866246},null,{"$f":"(C32*G32^D32+E32*G32^F32/I33)^-1","v":826.76188271278602}]
[null,"Nrf:最多密度本数",5.3913070000000003,-1.4949049999999999,null,null,{"$f":"G26","v":24.411428744866246},null,{"$f":"10^(C33+D33*LOG(G33))","v":2074.8513596097091}]
[5,"V:ha材積",6.1976999999999997E-2,-1.351766,4725.2,-2.823636,24.45,800,{"$f":"(C34*G34^D34+E34*G34^F34/H34)^-1","v":652.09838223725114},24.618749999999999,{"$f":"I34*(J34/I38)^2","v":455.13435467189947}]
[null,"HF:林分形状高",1.2324900000000001,0.35958000000000001,0.14729999999999999,null,{"$f":"G34","v":24.45},{"$f":"H34","v":800},{"$f":"C35+D35*G35+E35*SQRT(H35)*G35/100","v":11.042874786336654}]
[null,"G:ha当たり断面積",null,null,null,null,null,null,{"$f":"I34/I35","v":59.051505595634602}]
[null,"dg^：断面積平均直径",null,null,null,null,null,{"$f":"H34","v":800},{"$f":"200*SQRT(I36/(PI()*H37))","v":30.656710542006888}]
[null,"d^：平均胸高直径",-0.32086999999999999,0.98240000000000005,-4.7449999999999999E-2,null,{"$f":"G34","v":24.45},{"$f":"H34","v":800},{"$f":"C38+D38*I37+E38*SQRT(H38)*G38/100","v":29.468141756483359}]
[null,"Rｙ：収量比数",null,null,null,null,{"$f":"G34","v":24.45},{"$f":"H34","v":800},{"$f":"I34/I40","v":0.73090652041382365},null,{"$f":"K34/I40","v":0.51013877131962904}]
[null,"Vrf：最多密度材積",{"$f":"C34","v":6.1976999999999997E-2},{"$f":"D34","v":-1.351766},{"$f":"E34","v":4725.2},{"$f":"F34","v":-2.823636},{"$f":"G34","v":24.45},null,{"$f":"(C40*G40^D40+E40*G40^F40/I41)^-1","v":892.17754121012217}]
[null,"Nrf:最多密度本数",5.3243499999999999,-1.47187,null,null,{"$f":"G34","v":24.45},null,{"$f":"10^(C41+D41*LOG(G41))","v":1909.7828509501239}]
[6,"V:ha材積",7.4343000000000006E-2,-1.3884810000000001,5065,-2.900328,20.399999999999999,1225,{"$f":"(C42*G42^D42+E42*G42^F42/H42)^-1","v":559.54155413027217},24.736734693877548,{"$f":"I42*(J42/I46)^2","v":610.92582234884298}]
[null,"HF:林分形状高",1.273477,0.36758000000000002,0.140427,null,{"$f":"G42","v":20.399999999999999},{"$f":"H42","v":1225},{"$f":"C43+D43*G43+E43*SQRT(H43)*G43/100","v":9.7747577799999998}]
[null,"G:ha当たり断面積",null,null,null,null,null,null,{"$f":"I42/I43","v":57.243521192427153}]
[null,"dg^：断面積平均直径",null,null,null,null,null,{"$f":"H42","v":1225},{"$f":"200*SQRT(I44/(PI()*H45))","v":24.39215579198104}]
[null,"d^：平均胸高直径",-0.15212999999999999,0.985016,-2.8142E-2,null,{"$f":"G42","v":20.399999999999999},{"$f":"H42","v":1225},{"$f":"C46+D46*I45+E46*SQRT(H46)*G46/100","v":23.673599849593995}]
[null,"Rｙ：収量比数",null,null,null,null,{"$f":"G42","v":20.399999999999999},{"$f":"H42","v":1225},{"$f":"I42/I48","v":0.81051022133586936},null,{"$f":"K42/I48","v":0.88494164523923002}]
[null,"Vrf：最多密度材積",{"$f":"C42","v":7.4343000000000006E-2},{"$f":"D42","v":-1.3884810000000001},{"$f":"E42","v":5065},{"$f":"F42","v":-2.900328},{"$f":"G42","v":20.399999999999999},null,{"$f":"(C48*G48^D48+E48*G48^F48/I49)^-1","v":690.35718415499457}]
[null,"Nrf:最多密度本数",5.3822099999999997,-1.5118499999999999,null,null,{"$f":"G42","v":20.399999999999999},null,{"$f":"10^(C49+D49*LOG(G49))","v":2524.9084244649721}]
[7,"V:ha材積",6.8509E-2,-1.347464,2658.2,-2.814651,24.411428744866246,606.25,{"$f":"(C50*G50^D50+E50*G50^F50/H50)^-1","v":680.42602608914729},37.590467507845055,{"$f":"I50*(J50/I54)^2","v":759.9184427859027}]
[null,"HF:林分形状高",0.79121300000000006,0.35389500000000002,0.24401200000000001,null,{"$f":"G50","v":24.411428744866246},{"$f":"H50","v":606.25},{"$f":"C51+D51*G51+E51*SQRT(H51)*G51/100","v":10.896958314797455}]
[null,"G:ha当たり断面積",null,null,null,null,null,null,{"$f":"I50/I51","v":62.44183068638219}]
[null,"dg^：断面積平均直径",null,null,null,null,null,{"$f":"H50","v":606.25},{"$f":"200*SQRT(I52/(PI()*H53))","v":36.21320783726425}]
[null,"d^：平均胸高直径",-4.8939999999999997E-2,0.98936999999999997,-3.4813999999999998E-2,null,{"$f":"G50","v":24.411428744866246},{"$f":"H50","v":606.25},{"$f":"C54+D54*I53+E54*SQRT(H54)*G54/100","v":35.570067808623705}]
[null,"Rｙ：収量比数",null,null,null,null,{"$f":"G50","v":24.411428744866246},{"$f":"H50","v":606.25},{"$f":"I50/I56","v":0.74925946194835535},null,{"$f":"K50/I56","v":0.83679351132256619}]
[null,"Vrf：最多密度材積",{"$f":"C50","v":6.8509E-2},{"$f":"D50","v":-1.347464},{"$f":"E50","v":2658.2},{"$f":"F50","v":-2.814651},{"$f":"G50","v":24.411428744866246},null,{"$f":"(C56*G56^D56+E56*G56^F56/I57)^-1","v":908.13137590519659}]
[null,"Nrf:最多密度本数",5.3083,-1.4672000000000001,null,null,{"$f":"G50","v":24.411428744866246},null,{"$f":"10^(C57+D57*LOG(G57))","v":1872.5061781185693}]
[8,"V:ha材積",3.5146999999999998E-2,-1.080773,4711.2,-2.9228939999999999,4,2000,{"$f":"(C58*G58^D58+E58*G58^F58/H58)^-1","v":20.485743462478663},0,{"$f":"I58*(J58/I62)^2","v":0}]
[null,"HF:林分形状高",-5.2817000000000003E-2,0.47257700000000002,0.123506,null,{"$f":"G58","v":4},{"$f":"H58","v":2000},{"$f":"C59+D59*G59+E59*SQRT(H59)*G59/100","v":2.0584252493032711}]
[null,"G:ha当たり断面積",null,null,null,null,null,null,{"$f":"I58/I59","v":9.9521434987316688}]
[null,"dg^：断面積平均直径",null,null,null,null,null,{"$f":"H58","v":2000},{"$f":"200*SQRT(I60/(PI()*H61))","v":7.9597307295737467}]
[null,"d^：平均胸高直径",-0.115479,0.98442300000000005,null,null,{"$f":"G58","v":4},{"$f":"H58","v":2000},{"$f":"C62+D62*I61+E62*SQRT(H62)*G62/100","v":7.7202630039991771}]
[null,"Rｙ：収量比数",null,null,null,null,{"$f":"G58","v":4},{"$f":"H58","v":2000},{"$f":"I58/I64","v":0.20033445775649575},null,{"$f":"K58/I64","v":0}]
[null,"Vrf：最多密度材積",{"$f":"C58","v":3.5146999999999998E-2},{"$f":"D58","v":-1.080773},{"$f":"E58","v":4711.2},{"$f":"F58","v":-2.9228939999999999},{"$f":"G58","v":4},null,{"$f":"(C64*G64^D64+E64*G64^F64/I65)^-1","v":102.25771288621176}]
[null,"Nrf:最多密度本数",5.7384000000000004,-1.8421209999999999,null,null,{"$f":"G58","v":4},null,{"$f":"10^(C65+D65*LOG(G65))","v":42592.452399364243}]
[9,"V:ha材積",3.9081900000000003E-2,-1.147348,8524.5,-3.1029420000000001,17.225000000000001,2066.666666666667,{"$f":"(C66*G66^D66+E66*G66^F66/H66)^-1","v":477.60904375448837},18.667741935483875,{"$f":"I66*(J66/I70)^2","v":553.92349479798031}]
[null,"HF:林分形状高",-8.9118000000000003E-2,0.46331800000000001,0.17877299999999999,null,{"$f":"G66","v":17.225000000000001},{"$f":"H66","v":2066.666666666667},{"$f":"C67+D67*G67+E67*SQRT(H67)*G67/100","v":9.2914324952825087}]
[null,"G:ha当たり断面積",null,null,null,null,null,null,{"$f":"I66/I67","v":51.403165657930828}]
[null,"dg^：断面積平均直径",null,null,null,null,null,{"$f":"H66","v":2066.666666666667},{"$f":"200*SQRT(I68/(PI()*H69))","v":17.795687667229853}]
[null,"d^：平均胸高直径",-2.9000999999999999E-2,0.99177999999999999,-3.6553000000000002E-2,null,{"$f":"G66","v":17.225000000000001},{"$f":"H66","v":2066.666666666667},{"$f":"C70+D70*I69+E70*SQRT(H70)*G70/100","v":17.334174583032159}]
[null,"Rｙ：収量比数",null,null,null,null,{"$f":"G66","v":17.225000000000001},{"$f":"H66","v":2066.666666666667},{"$f":"I66/I72","v":0.9306313959084459},null,{"$f":"K66/I72","v":1.0793317294370952}]
[null,"Vrf：最多密度材積",{"$f":"C66","v":3.9081900000000003E-2},{"$f":"D66","v":-1.147348},{"$f":"E66","v":8524.5},{"$f":"F66","v":-3.1029420000000001},{"$f":"G66","v":17.225000000000001},null,{"$f":"(C72*G72^D72+E72*G72^F72/I73)^-1","v":513.20968307571991}]
[null,"Nrf:最多密度本数",5.8525830000000001,-1.9555940000000001,null,null,{"$f":"G66","v":17.225000000000001},null,{"$f":"10^(C73+D73*LOG(G73))","v":2723.6884278577036}]
[10,"V:ha材積",5.3886999999999997E-2,-1.18794,7663.1,-3.2015099999999999,12.747058823529409,2366.666666666667,{"$f":"(C74*G74^D74+E74*G74^F74/H74)^-1","v":281.20259137678181},14.874647887323942,{"$f":"I74*(J74/I78)^2","v":295.35181633973104}]
[null,"HF:林分形状高",0.32073800000000002,0.437334,0.153257,null,{"$f":"G74","v":12.747058823529409},{"$f":"H74","v":2366.666666666667},{"$f":"C75+D75*G75+E75*SQRT(H75)*G75/100","v":6.8458436561506613}]
[null,"G:ha当たり断面積",null,null,null,null,null,null,{"$f":"I74/I75","v":41.076396935260831}]
[null,"dg^：断面積平均直径",null,null,null,null,null,{"$f":"H74","v":2366.666666666667},{"$f":"200*SQRT(I76/(PI()*H77))","v":14.865608234058328}]
[null,"d^：平均胸高直径",-0.24166699999999999,0.99260300000000001,null,null,{"$f":"G74","v":12.747058823529409},{"$f":"H74","v":2366.666666666667},{"$f":"C78+D78*I77+E78*SQRT(H78)*G78/100","v":14.513980329951}]
[null,"Rｙ：収量比数",null,null,null,null,{"$f":"G74","v":12.747058823529409},{"$f":"H74","v":2366.666666666667},{"$f":"I74/I80","v":0.84449510512569492},null,{"$f":"K74/I80","v":0.88698742770362804}]
[null,"Vrf：最多密度材積",{"$f":"C74","v":5.3886999999999997E-2},{"$f":"D74","v":-1.18794},{"$f":"E74","v":7663.1},{"$f":"F74","v":-3.2015099999999999},{"$f":"G74","v":12.747058823529409},null,{"$f":"(C80*G80^D80+E80*G80^F80/I81)^-1","v":332.98309211031784}]
[null,"Nrf:最多密度本数",5.9926019999999998,-2.0177160000000001,null,null,{"$f":"G74","v":12.747058823529409},null,{"$f":"10^(C81+D81*LOG(G81))","v":5783.6043638417987}]
[11,"V:ha材積",4.9332630000000002E-2,-1.2062269999999999,8676.2999999999993,-3.2621799999999999,10.9,733.33333333333337,{"$f":"(C82*G82^D82+E82*G82^F82/H82)^-1","v":130.73150804915664},17.886363636363637,{"$f":"I82*(J82/I86)^2","v":104.44764365276919}]
[null,"HF:林分形状高",0.40625600000000001,0.42473899999999998,0.157447,null,{"$f":"G82","v":10.9},{"$f":"H82","v":733.33333333333337},{"$f":"C83+D83*G83+E83*SQRT(H83)*G83/100","v":5.5006527558057474}]
[null,"G:ha当たり断面積",null,null,null,null,null,null,{"$f":"I82/I83","v":23.766544418055492}]
[null,"dg^：断面積平均直径",null,null,null,null,null,{"$f":"H82","v":733.33333333333337},{"$f":"200*SQRT(I84/(PI()*H85))","v":20.313622006418054}]
[null,"d^：平均胸高直径",-4.6067999999999998E-2,0.99159699999999995,-2.9180000000000001E-2,null,{"$f":"G82","v":10.9},{"$f":"H82","v":733.33333333333337},{"$f":"C86+D86*I85+E86*SQRT(H86)*G86/100","v":20.010727043929613}]
[null,"Rｙ：収量比数",null,null,null,null,{"$f":"G82","v":10.9},{"$f":"H82","v":733.33333333333337},{"$f":"I82/I88","v":0.43153586719689868},null,{"$f":"K82/I88","v":0.34477460830194384}]
[null,"Vrf：最多密度材積",{"$f":"C82","v":4.9332630000000002E-2},{"$f":"D82","v":-1.2062269999999999},{"$f":"E82","v":8676.2999999999993},{"$f":"F82","v":-3.2621799999999999},{"$f":"G82","v":10.9},null,{"$f":"(C88*G88^D88+E88*G88^F88/I89)^-1","v":302.94470978354906}]
[null,"Nrf:最多密度本数",5.9581999999999997,-2.0559530000000001,null,null,{"$f":"G82","v":10.9},null,{"$f":"10^(C89+D89*LOG(G89))","v":6688.0556677750455}]
[12,"V:ha材積",6.5136799999999995E-2,-1.2301839999999999,9492.9,-2.9485589999999999,18.942857142857147,566.66666666666674,{"$f":"(C90*G90^D90+E90*G90^F90/H90)^-1","v":216.71777675107026},25.188235294117646,{"$f":"I90*(J90/I94)^2","v":265.6163499357321}]
[null,"HF:林分形状高",0.95486199999999999,0.42397000000000001,2.5832999999999998E-2,null,{"$f":"G90","v":18.942857142857147},{"$f":"H90","v":566.66666666666674},{"$f":"C91+D91*G91+E91*SQRT(H91)*G91/100","v":9.1025539401468443}]
[null,"G:ha当たり断面積",null,null,null,null,null,null,{"$f":"I90/I91","v":23.808458392675465}]
[null,"dg^：断面積平均直径",null,null,null,null,null,{"$f":"H90","v":566.66666666666674},{"$f":"200*SQRT(I92/(PI()*H93))","v":23.129000407460012}]
[null,"d^：平均胸高直径",-0.17698700000000001,0.99846999999999997,-3.6531000000000001E-2,null,{"$f":"G90","v":18.942857142857147},{"$f":"H90","v":566.66666666666674},{"$f":"C94+D94*I93+E94*SQRT(H94)*G94/100","v":22.751896727279441}]
[null,"Rｙ：収量比数",null,null,null,null,{"$f":"G90","v":18.942857142857147},{"$f":"H90","v":566.66666666666674},{"$f":"I90/I96","v":0.58070597926101875},null,{"$f":"K90/I96","v":0.7117321195775187}]
[null,"Vrf：最多密度材積",{"$f":"C90","v":6.5136799999999995E-2},{"$f":"D90","v":-1.2301839999999999},{"$f":"E90","v":9492.9},{"$f":"F90","v":-2.9485589999999999},{"$f":"G90","v":18.942857142857147},null,{"$f":"(C96*G96^D96+E96*G96^F96/I97)^-1","v":373.19708163993062}]
[null,"Nrf:最多密度本数",5.4363099999999998,-1.718375,null,null,{"$f":"G90","v":18.942857142857147},null,{"$f":"10^(C97+D97*LOG(G97))","v":1742.5274021797884}]
[13,"V:ha材積",9.5669000000000004E-2,-1.2744340000000001,8833.4,-3.0546180000000001,0.6,2900,{"$f":"(C98*G98^D98+E98*G98^F98/H98)^-1","v":6.8100031070038675E-2},0,{"$f":"I98*(J98/I102)^2","v":0}]
[null,"HF:林分形状高",0.57809600000000005,0.46065099999999998,4.2258999999999998E-2,null,{"$f":"G98","v":0.6},{"$f":"H98","v":2900},{"$f":"C99+D99*G99+E99*SQRT(H99)*G99/100","v":0.86814090077508177}]
[null,"G:ha当たり断面積",null,null,null,null,null,null,{"$f":"I98/I99","v":7.8443523406440743E-2}]
[null,"dg^：断面積平均直径",null,null,null,null,null,{"$f":"H98","v":2900},{"$f":"200*SQRT(I100/(PI()*H101))","v":0.58686013145775728}]
[null,"d^：平均胸高直径",-0.15559799999999999,0.98260599999999998,null,null,{"$f":"G98","v":0.6},{"$f":"H98","v":2900},{"$f":"C102+D102*I101+E102*SQRT(H102)*G102/100","v":0.42105428633118103}]
[null,"Rｙ：収量比数",null,null,null,null,{"$f":"G98","v":0.6},{"$f":"H98","v":2900},{"$f":"I98/I104","v":1.5898625467275881E-2},null,{"$f":"K98/I104","v":0}]
[null,"Vrf：最多密度材積",{"$f":"C98","v":9.5669000000000004E-2},{"$f":"D98","v":-1.2744340000000001},{"$f":"E98","v":8833.4},{"$f":"F98","v":-3.0546180000000001},{"$f":"G98","v":0.6},null,{"$f":"(C104*G104^D104+E104*G104^F104/I105)^-1","v":4.2833911151758919}]
[null,"Nrf:最多密度本数",5.5297489999999998,-1.780184,null,null,{"$f":"G98","v":0.6},null,{"$f":"10^(C105+D105*LOG(G105))","v":840776.55804260704}]
[14,"V:ha材積",7.1962100000000001E-2,-1.2285820000000001,14292.3,-3.4150589999999998,20,1000,{"$f":"(C106*G106^D106+E106*G106^F106/H106)^-1","v":429.29067826096122},24,{"$f":"I106*(J106/I110)^2","v":464.62706715512553}]
[null,"HF:林分形状高",1.047526,0.40640599999999999,9.2622999999999997E-2,null,{"$f":"G106","v":20},{"$f":"H106","v":1000},{"$f":"C107+D107*G107+E107*SQRT(H107)*G107/100","v":9.7614452874355493}]
[null,"G:ha当たり断面積",null,null,null,null,null,null,{"$f":"I106/I107","v":43.978188231359859}]
[null,"dg^：断面積平均直径",null,null,null,null,null,{"$f":"H106","v":1000},{"$f":"200*SQRT(I108/(PI()*H109))","v":23.663213721296167}]
[null,"d^：平均胸高直径",-0.28801300000000002,0.99596399999999996,-3.3264000000000002E-2,null,{"$f":"G106","v":20},{"$f":"H106","v":1000},{"$f":"C110+D110*I109+E110*SQRT(H110)*G110/100","v":23.069315982541333}]
[null,"Rｙ：収量比数",null,null,null,null,{"$f":"G106","v":20},{"$f":"H106","v":1000},{"$f":"I106/I112","v":0.89071142339559362},null,{"$f":"K106/I112","v":0.96402893724677563}]
[null,"Vrf：最多密度材積",{"$f":"C106","v":7.1962100000000001E-2},{"$f":"D106","v":-1.2285820000000001},{"$f":"E106","v":14292.3},{"$f":"F106","v":-3.4150589999999998},{"$f":"G106","v":20},null,{"$f":"(C112*G112^D112+E112*G112^F112/I113)^-1","v":481.96381789335084}]
[null,"Nrf:最多密度本数",6.1406080000000003,-2.186477,null,null,{"$f":"G106","v":20},null,{"$f":"10^(C113+D113*LOG(G113))","v":1976.6775880031607}]
[15,"V:ha材積",7.7976199999999996E-2,-1.201192,9775.2999999999993,-3.3389250000000001,20,1000,{"$f":"(C114*G114^D114+E114*G114^F114/H114)^-1","v":388.11071099740951},24,{"$f":"I114*(J114/I118)^2","v":449.92679288730528}]
[null,"HF:林分形状高",0.88686799999999999,0.37801400000000002,0.15512000000000001,null,{"$f":"G114","v":20},{"$f":"H114","v":1000},{"$f":"C115+D115*G115+E115*SQRT(H115)*G115/100","v":9.4282130212906381}]
[null,"G:ha当たり断面積",null,null,null,null,null,null,{"$f":"I114/I115","v":41.164822020990002}]
[null,"dg^：断面積平均直径",null,null,null,null,null,{"$f":"H114","v":1000},{"$f":"200*SQRT(I116/(PI()*H117))","v":22.8938155948521}]
[null,"d^：平均胸高直径",-0.34293899999999999,0.98862300000000003,null,null,{"$f":"G114","v":20},{"$f":"H114","v":1000},{"$f":"C118+D118*I117+E118*SQRT(H118)*G118/100","v":22.290413654829468}]
[null,"Rｙ：収量比数",null,null,null,null,{"$f":"G114","v":20},{"$f":"H114","v":1000},{"$f":"I114/I120","v":0.89956304652970609}]
[null,"Vrf：最多密度材積",{"$f":"C114","v":7.7976199999999996E-2},{"$f":"D114","v":-1.201192},{"$f":"E114","v":9775.2999999999993},{"$f":"F114","v":-3.3389250000000001},{"$f":"G114","v":20},null,{"$f":"(C120*G120^D120+E120*G120^F120/I121)^-1","v":431.44359085741189}]
[null,"Nrf:最多密度本数",6.1627749999999999,-2.1377329999999999,null,null,{"$f":"G114","v":20},null,{"$f":"10^(C121+D121*LOG(G121))","v":2407.2447281634013}]
[16,"V:ha材積",8.7581199999999998E-2,-1.2972410000000001,13053,-3.6059109999999999,20,1000,{"$f":"(C122*G122^D122+E122*G122^F122/H122)^-1","v":484.70267801551006},24,{"$f":"I122*(J122/I126)^2","v":477.96631943456509}]
[null,"HF:林分形状高",1.1692260000000001,0.42135299999999998,5.0590999999999997E-2,null,{"$f":"G122","v":20},{"$f":"H122","v":1000},{"$f":"C123+D123*G123+E123*SQRT(H123)*G123/100","v":9.9162515782111562}]
[null,"G:ha当たり断面積",null,null,null,null,null,null,{"$f":"I122/I123","v":48.879626963129958}]
[null,"dg^：断面積平均直径",null,null,null,null,null,{"$f":"H122","v":1000},{"$f":"200*SQRT(I124/(PI()*H125))","v":24.947038698282444}]
[null,"d^：平均胸高直径",-0.394096,0.98459099999999999,null,null,{"$f":"G122","v":20},{"$f":"H122","v":1000},{"$f":"C126+D126*I125+E126*SQRT(H126)*G126/100","v":24.16853377898061}]
[null,"Rｙ：収量比数",null,null,null,null,{"$f":"G122","v":20},{"$f":"H122","v":1000},{"$f":"I122/I128","v":0.94412866059641143},null,{"$f":"K122/I128","v":0.93100723690144849}]
[null,"Vrf：最多密度材積",{"$f":"C122","v":8.7581199999999998E-2},{"$f":"D122","v":-1.2972410000000001},{"$f":"E122","v":13053},{"$f":"F122","v":-3.6059109999999999},{"$f":"G122","v":20},null,{"$f":"(C128*G128^D128+E128*G128^F128/I129)^-1","v":513.38625575599053}]
[null,"Nrf:最多密度本数",6.2507650000000003,-2.3086700000000002,null,null,{"$f":"G122","v":20},null,{"$f":"10^(C129+D129*LOG(G129))","v":1766.5099172009411}]
[17,"V:ha材積",9.7241400000000006E-2,-1.3038240000000001,17965.599999999999,-3.6242079999999999,20,1000,{"$f":"(C130*G130^D130+E130*G130^F130/H130)^-1","v":434.23752412697417},24,{"$f":"I130*(J130/I134)^2","v":459.73959583614612}]
[null,"HF:林分形状高",1.3472740000000001,0.34684100000000001,0.16569900000000001,null,{"$f":"G130","v":20},{"$f":"H130","v":1000},{"$f":"C131+D131*G131+E131*SQRT(H131)*G131/100","v":9.3320664920244809}]
[null,"G:ha当たり断面積",null,null,null,null,null,null,{"$f":"I130/I131","v":46.531764909528789}]
[null,"dg^：断面積平均直径",null,null,null,null,null,{"$f":"H130","v":1000},{"$f":"200*SQRT(I132/(PI()*H133))","v":24.340518311887294}]
[null,"d^：平均胸高直径",-0.28678599999999999,0.970055,null,null,{"$f":"G130","v":20},{"$f":"H130","v":1000},{"$f":"C134+D134*I133+E134*SQRT(H134)*G134/100","v":23.32485549103783}]
[null,"Rｙ：収量比数",null,null,null,null,{"$f":"G130","v":20},{"$f":"H130","v":1000},{"$f":"I130/I136","v":0.92286965758909578},null,{"$f":"K130/I136","v":0.97706830896859809}]
[null,"Vrf：最多密度材積",{"$f":"C130","v":9.7241400000000006E-2},{"$f":"D130","v":-1.3038240000000001},{"$f":"E130","v":17965.599999999999},{"$f":"F130","v":-3.6242079999999999},{"$f":"G130","v":20},null,{"$f":"(C136*G136^D136+E136*G136^F136/I137)^-1","v":470.52963607165941}]
[null,"Nrf:最多密度本数",6.3315099999999997,-2.3203839999999998,null,null,{"$f":"G130","v":20},null,{"$f":"10^(C137+D137*LOG(G137))","v":2054.0963673464653}]
[18,"V:ha材積",7.2302099999999994E-2,-1.090327,18255.400000000001,-3.2709809999999999,20,1000,{"$f":"(C138*G138^D138+E138*G138^F138/H138)^-1","v":265.15528922459953},24,{"$f":"I138*(J138/I142)^2","v":467.85780379537442}]
[null,"HF:林分形状高",0.59646900000000003,0.36790499999999998,9.7194000000000003E-2,null,{"$f":"G138","v":20},{"$f":"H138","v":1000},{"$f":"C139+D139*G139+E139*SQRT(H139)*G139/100","v":8.5692778298048111}]
[null,"G:ha当たり断面積",null,null,null,null,null,null,{"$f":"I138/I139","v":30.942547842522124}]
[null,"dg^：断面積平均直径",null,null,null,null,null,{"$f":"H138","v":1000},{"$f":"200*SQRT(I140/(PI()*H141))","v":19.848746944822203}]
[null,"d^：平均胸高直径",0.47848800000000002,0.91190199999999999,-8.0769999999999995E-2,null,{"$f":"G138","v":20},{"$f":"H138","v":1000},{"$f":"C142+D142*I141+E142*SQRT(H142)*G142/100","v":18.067765703253656}]
[null,"Rｙ：収量比数",null,null,null,null,{"$f":"G138","v":20},{"$f":"H138","v":1000},{"$f":"I138/I144","v":0.8006391687822253},null,{"$f":"K138/I144","v":1.4127015313721081}]
[null,"Vrf：最多密度材積",{"$f":"C138","v":7.2302099999999994E-2},{"$f":"D138","v":-1.090327},{"$f":"E138","v":18255.400000000001},{"$f":"F138","v":-3.2709809999999999},{"$f":"G138","v":20},null,{"$f":"(C144*G144^D144+E144*G144^F144/I145)^-1","v":331.1795120240015}]
[null,"Nrf:最多密度本数",6.4254439999999997,-2.1806540000000001,null,null,{"$f":"G138","v":20},null,{"$f":"10^(C145+D145*LOG(G145))","v":3875.6784293829583}]
[19,"V:ha材積",7.0041599999999996E-2,-1.0713490000000001,20847.2,-3.214048,20,1000,{"$f":"(C146*G146^D146+E146*G146^F146/H146)^-1","v":238.06642377902989},24,{"$f":"I146*(J146/I150)^2","v":462.97027636379266}]
[null,"HF:林分形状高",0.43238300000000002,0.37652999999999998,0.10322099999999999,null,{"$f":"G146","v":20},{"$f":"H146","v":1000},{"$f":"C147+D147*G147+E147*SQRT(H147)*G147/100","v":8.6158099247204802}]
[null,"G:ha当たり断面積",null,null,null,null,null,null,{"$f":"I146/I147","v":27.631345846659144}]
[null,"dg^：断面積平均直径",null,null,null,null,null,{"$f":"H146","v":1000},{"$f":"200*SQRT(I148/(PI()*H149))","v":18.756684730042277}]
[null,"d^：平均胸高直径",0.43566100000000002,0.91906399999999999,-7.3386999999999994E-2,null,{"$f":"G146","v":20},{"$f":"H146","v":1000},{"$f":"C150+D150*I149+E150*SQRT(H150)*G150/100","v":17.210114553438022}]
[null,"Rｙ：収量比数",null,null,null,null,{"$f":"G146","v":20},{"$f":"H146","v":1000},{"$f":"I146/I152","v":0.79587277576135829},null,{"$f":"K146/I152","v":1.5477421515209535}]
[null,"Vrf：最多密度材積",{"$f":"C146","v":7.0041599999999996E-2},{"$f":"D146","v":-1.0713490000000001},{"$f":"E146","v":20847.2},{"$f":"F146","v":-3.214048},{"$f":"G146","v":20},null,{"$f":"(C152*G152^D152+E152*G152^F152/I153)^-1","v":299.12623101259828}]
[null,"Nrf:最多密度本数",6.2134309999999999,-2.1426989999999999,null,null,{"$f":"G146","v":20},null,{"$f":"10^(C153+D153*LOG(G153))","v":2665.1111688901242}]
[20,"V:ha材積",6.4107899999999995E-2,-1.0812379999999999,18249.900000000001,-3.2437140000000002,20,1000,{"$f":"(C154*G154^D154+E154*G154^F154/H154)^-1","v":276.83855270435504},24,{"$f":"I154*(J154/I158)^2","v":482.90666006306242}]
[null,"HF:林分形状高",0.28415800000000002,0.36923099999999998,0.15934799999999999,null,{"$f":"G154","v":20},{"$f":"H154","v":1000},{"$f":"C155+D155*G155+E155*SQRT(H155)*G155/100","v":8.6765832411850212}]
[null,"G:ha当たり断面積",null,null,null,null,null,null,{"$f":"I154/I155","v":31.906401979789603}]
[null,"dg^：断面積平均直径",null,null,null,null,null,{"$f":"H154","v":1000},{"$f":"200*SQRT(I156/(PI()*H157))","v":20.155518532373314}]
[null,"d^：平均胸高直径",0.50469799999999998,0.910057,-0.10685,null,{"$f":"G154","v":20},{"$f":"H154","v":1000},{"$f":"C158+D158*I157+E158*SQRT(H158)*G158/100","v":18.171589993038079}]
[null,"Rｙ：収量比数",null,null,null,null,{"$f":"G154","v":20},{"$f":"H154","v":1000},{"$f":"I154/I160","v":0.7847741502828296},null,{"$f":"K154/I160","v":1.3689302306880153}]
[null,"Vrf：最多密度材積",{"$f":"C154","v":6.4107899999999995E-2},{"$f":"D154","v":-1.0812379999999999},{"$f":"E154","v":18249.900000000001},{"$f":"F154","v":-3.2437140000000002},{"$f":"G154","v":20},null,{"$f":"(C160*G160^D160+E160*G160^F160/I161)^-1","v":352.76206868509047}]
[null,"Nrf:最多密度本数",6.3469579999999999,-2.1624759999999998,null,null,{"$f":"G154","v":20},null,{"$f":"10^(C161+D161*LOG(G161))","v":3415.9527835712265}]
[21,"V:ha材積",3.34495E-2,-0.98241699999999998,15954.1,-2.9472510000000001,20,1000,{"$f":"(C162*G162^D162+E162*G162^F162/H162)^-1","v":243.98597311777002},24,{"$f":"I162*(J162/I166)^2","v":450.06124246365289}]
[null,"HF:林分形状高",0.94186499999999995,0.34920600000000002,9.5343999999999998E-2,null,{"$f":"G162","v":20},{"$f":"H162","v":1000},{"$f":"C163+D163*G163+E163*SQRT(H163)*G163/100","v":8.5289934024621878}]
[null,"G:ha当たり断面積",null,null,null,null,null,null,{"$f":"I162/I163","v":28.606655159017365}]
[null,"dg^：断面積平均直径",null,null,null,null,null,{"$f":"H162","v":1000},{"$f":"200*SQRT(I164/(PI()*H165))","v":19.084843355674437}]
[null,"d^：平均胸高直径",5.3199999999999997E-2,0.94556399999999996,-6.7715999999999998E-2,null,{"$f":"G162","v":20},{"$f":"H162","v":1000},{"$f":"C166+D166*I165+E166*SQRT(H166)*G166/100","v":17.67086723469302}]
[null,"Rｙ：収量比数",null,null,null,null,{"$f":"G162","v":20},{"$f":"H162","v":1000},{"$f":"I162/I168","v":0.76454070746239955},null,{"$f":"K162/I168","v":1.4102865681892223}]
[null,"Vrf：最多密度材積",{"$f":"C162","v":3.34495E-2},{"$f":"D162","v":-0.98241699999999998},{"$f":"E162","v":15954.1},{"$f":"F162","v":-2.9472510000000001},{"$f":"G162","v":20},null,{"$f":"(C168*G168^D168+E168*G168^F168/I169)^-1","v":319.12751111394465}]
[null,"Nrf:最多密度本数",5.7878040000000004,-1.964834,null,null,{"$f":"G162","v":20},null,{"$f":"10^(C169+D169*LOG(G169))","v":1704.1037396205068}]
[22,"V:ha材積",5.7242399999999999E-2,-1.005549,13421.6,-3.016648,20,1000,{"$f":"(C170*G170^D170+E170*G170^F170/H170)^-1","v":226.70515491567116},24,{"$f":"I170*(J170/I174)^2","v":477.40812473310621}]
[null,"HF:林分形状高",0.96920600000000001,0.41345300000000001,null,null,{"$f":"G170","v":20},{"$f":"H170","v":1000},{"$f":"C171+D171*G171+E171*SQRT(H171)*G171/100","v":9.2382659999999994}]
[null,"G:ha当たり断面積",null,null,null,null,null,null,{"$f":"I170/I171","v":24.539795121256649}]
[null,"dg^：断面積平均直径",null,null,null,null,null,{"$f":"H170","v":1000},{"$f":"200*SQRT(I172/(PI()*H173))","v":17.676265886233715}]
[null,"d^：平均胸高直径",0.30114800000000003,0.94267599999999996,-6.7294000000000007E-2,null,{"$f":"G170","v":20},{"$f":"H170","v":1000},{"$f":"C174+D174*I173+E174*SQRT(H174)*G174/100","v":16.538534994844511}]
[null,"Rｙ：収量比数",null,null,null,null,{"$f":"G170","v":20},{"$f":"H170","v":1000},{"$f":"I170/I176","v":0.88473662012921561},null,{"$f":"K170/I176","v":1.8631268038687108}]
[null,"Vrf：最多密度材積",{"$f":"C170","v":5.7242399999999999E-2},{"$f":"D170","v":-1.005549},{"$f":"E170","v":13421.6},{"$f":"F170","v":-3.016648},{"$f":"G170","v":20},null,{"$f":"(C176*G176^D176+E176*G176^F176/I177)^-1","v":256.2402750804651}]
[null,"Nrf:最多密度本数",5.7830649999999997,-2.0110990000000002,null,null,{"$f":"G170","v":20},null,{"$f":"10^(C177+D177*LOG(G177))","v":1467.4552852242562}]

{"sheet":"都道府県","index":6,"n_rows":48,"n_cols":7,"rows_kept":48,"cut":false,"hidden":true,"merged":[]}
[1,"北海道",2,null,12]
[2,"青森県",2,null,13,14,18]
[3,"岩手県",1,null,13,14,18]
[4,"宮城県",1,8,13,14,18]
[5,"秋田県",2,null,13,16,18]
[6,"山形県",2,null,13,16,18]
[7,"福島県",1,8,13,14,18]
[8,"茨城県",4,8,null,15,19]
[9,"栃木県",3,8,13,15,19]
[10,"群馬県",3,8,13,15,19]
[11,"埼玉県",3,8,13,15,19]
[12,"千葉県",4,8,null,15,19]
[13,"東京都",4,8,null,15,19]
[14,"神奈川県",4,8,null,15,19]
[15,"新潟県",2,8,13,16,18]
[16,"富山県",2,8,13,16,20]
[17,"石川県",2,8,null,16,20]
[18,"福井県",2,8,null,16,20]
[19,"山梨県",3,8,13,15,19]
[20,"長野県",3,8,13,15,19]
[21,"岐阜県",3,8,13,15,19]
[22,"静岡県",4,8,13,15,19]
[23,"愛知県",4,8,null,15,19]
[24,"三重県",4,10,null,17,21]
[25,"滋賀県",5,9,null,17,21]
[26,"京都府",5,9,null,17,21]
[27,"大阪府",5,9,null,17,21]
[28,"兵庫県",5,9,null,17,21]
[29,"奈良県",6,10,null,17,21]
[30,"和歌山県",6,10,null,17,21]
[31,"鳥取県",5,9,null,17,20]
[32,"島根県",5,9,null,17,20]
[33,"岡山県",5,9,null,17,21]
[34,"広島県",5,9,null,17,21]
[35,"山口県",5,9,null,17,21]
[36,"徳島県",6,10,null,17,22]
[37,"香川県",6,10,null,17,22]
[38,"愛媛県",6,10,null,17,22]
[39,"高知県",6,10,null,17,22]
[40,"福岡県",7,11,null,17,22]
[41,"佐賀県",7,11,null,17,22]
[42,"長崎県",7,11,null,17,22]
[43,"熊本県",7,11,null,17,22]
[44,"大分県",7,11,null,17,22]
[45,"宮崎県",7,11,null,17,22]
[46,"鹿児島県",7,11,null,17,22]
[47,"沖縄県"]
[null,null,"スギ","ヒノキ","カラマツ","アカマツ","広葉樹"]

{"sheet":"成長量","index":7,"n_rows":44,"n_cols":20,"rows_kept":44,"cut":false,"hidden":true,"merged":[]}
["詳細版",null,"２０年生以下","２１年生以上",null,null,"詳細版近似式",null,"ゴンペルツ","y=Kb^a^x",null,"森林資源現況調査平成２３年版による近似材積量近似式",null,null,null,null,null,null,0,1]
[null,"スギ",1.15234075,0.90278924999999999,null,null,null,null,null,null,null,"x：齢級",null,null,null,null,null,null,null,2]
[null,"ヒノキ",1.4864087699999999,1.1891270159999998,null,null,"スギ",1,"K(指定)",600,null,null,null,null,null,null,null,null,null,3]
[null,"カラマツ",1.4618538000000003,1.1207545799999998,null,null,null,null,"a",0.81188647504793099,null,null,null,null,null,null,null,null,null,4]
[null,"その他樹種",1.5509880084666001,1.2722303359963252,null,null,null,null,"b",1.5448961868242963E-2,null,null,null,null,null,null,null,null,null,5]
[null,null,null,null,null,null,null,2,"K(指定)",600,null,null,null,null,null,null,null,null,null,6]
[null,null,null,null,null,null,null,null,"a",0.792264857533443,null,null,null,null,null,null,null,null,null,7]
[null,null,null,null,null,null,null,null,"b",5.6684138418045156E-3,null,null,null,null,null,null,null,null,null,8]
[null,null,null,null,null,null,null,3,"K(指定)",600,null,null,null,null,null,null,null,null,null,9]
[null,null,null,null,null,null,null,null,"a",0.8011452486835432,null,null,null,null,null,null,null,null,null,10]
[null,null,null,null,null,null,null,null,"b",1.2041509564411256E-2]
[null,null,null,null,null,null,null,4,"K(指定)",500]
[null,null,null,null,null,null,null,null,"a",0.7787544294878691]
[null,null,null,null,null,null,null,null,"b",8.3391304078271472E-3]
[null,null,null,null,null,null,null,5,"K(指定)",600]
[null,null,null,null,null,null,null,null,"a",0.81633841218730818]
[null,null,null,null,null,null,null,null,"b",4.7560100243101533E-2]
[null,null,null,null,null,null,null,6,"K(指定)",700]
[null,null,null,null,null,null,null,null,"a",0.80980821878007558]
[null,null,null,null,null,null,null,null,"b",1.9279884031001004E-2]
[null,null,null,null,null,null,null,7,"K(指定)",700]
[null,null,null,null,null,null,null,null,"a",0.77874031133438171]
[null,null,null,null,null,null,null,null,"b",3.5318814612152662E-3]
[null,null,null,null,null,null,"ヒノキ",8,"K(指定)",400]
[null,null,null,null,null,null,null,null,"a",0.81690200623727516]
[null,null,null,null,null,null,null,null,"b",1.8756767665419026E-2]
[null,null,null,null,null,null,null,9,"K(指定)",400]
[null,null,null,null,null,null,null,null,"a",0.81030321950266571]
[null,null,null,null,null,null,null,null,"b",3.3726680533498428E-2]
[null,null,null,null,null,null,null,10,"K(指定)",400]
[null,null,null,null,null,null,null,null,"a",0.76744688064152666]
[null,null,null,null,null,null,null,null,"b",7.9557255251857945E-3]
[null,null,null,null,null,null,null,11,"K(指定)",500]
[null,null,null,null,null,null,null,null,"a",0.81245968684553205]
[null,null,null,null,null,null,null,null,"b",2.6033140931802645E-2]
[null,null,null,null,null,null,"カラマツ",12,"K(指定)",400]
[null,null,null,null,null,null,null,null,"a",0.89117997715056385]
[null,null,null,null,null,null,null,null,"b",0.10898753344140666]
[null,null,null,null,null,null,null,13,"K(指定)",300]
[null,null,null,null,null,null,null,null,"a",0.84998508044284149]
[null,null,null,null,null,null,null,null,"b",0.16785657722254627]
[null,null,null,null,null,null,"その他",14,"K(指定)",200,null,null,null,null,null,{"$f":"J42*J44^(J43^11)","v":125.94056460443541}]
[null,null,null,null,null,null,null,null,"a",0.85745769137479089]
[null,null,null,null,null,null,null,null,"b",8.1218861191906688E-2]