Workbook

Sheet 森林率・人工林率
B1: ○ 都道府県別 森林率・人工林率
F2: （単位：ｈａ）
B3: 都道府県 | D3: 森林面積 | E3: 人工林面積 | F3: 国土面積 | H3: 森林率 | J3: 人工林率
B4: 1 | C4: 北海道 | D4: =+森林率Ｂ集計!D5 -> 5536143.5 | E4: =+人工林率Ｂ集計!D5 -> 1456447.5 | F4: 7842135 | H4: =+D4/F4 -> 0.70594851 | J4: =+E4/D4 -> 0.26307979
B5: 2 | C5: 青森県 | D5: =+森林率Ｂ集計!D6 -> 633209.25 | E5: =+人工林率Ｂ集計!D6 -> 263476.96 | F5: 964562 | H5: =+D5/F5 -> 0.65647335 | J5: =+E5/D5 -> 0.41609778
B6: 3 | C6: 岩手県 | D6: =+森林率Ｂ集計!D7 -> 1169302 | E6: =+人工林率Ｂ集計!D7 -> 481800.32 | F6: 1527501 | H6: =+D6/F6 -> 0.76550001 | J6: =+E6/D6 -> 0.41204095
B7: 4 | C7: 宮城県 | D7: =+森林率Ｂ集計!D8 -> 414435.89 | E7: =+人工林率Ｂ集計!D8 -> 194411.05 | F7: 728229 | H7: =+D7/F7 -> 0.56910106 | J7: =+E7/D7 -> 0.46909801
B8: 5 | C8: 秋田県 | D8: =+森林率Ｂ集計!D9 -> 839290.18 | E8: =+人工林率Ｂ集計!D9 -> 406590.67 | F8: 1163752 | H8: =+D8/F8 -> 0.72119333 | J8: =+E8/D8 -> 0.48444588
B9: 6 | C9: 山形県 | D9: =+森林率Ｂ集計!D10 -> 669218.32 | E9: =+人工林率Ｂ集計!D10 -> 184646.65 | F9: 932313 | H9: =+D9/F9 -> 0.71780434 | J9: =+E9/D9 -> 0.27591392
B10: 7 | C10: 福島県 | D10: =+森林率Ｂ集計!D11 -> 972061.97 | E10: =+人工林率Ｂ集計!D11 -> 336053.21 | F10: 1378414 | H10: =+D10/F10 -> 0.70520321 | J10: =+E10/D10 -> 0.34571171
B11: 8 | C11: 茨城県 | D11: =+森林率Ｂ集計!D12 -> 189270.9 | E11: =+人工林率Ｂ集計!D12 -> 111593.84 | F11: 609724 | H11: =+D11/F11 -> 0.31042062 | J11: =+E11/D11 -> 0.5895985
B12: 9 | C12: 栃木県 | D12: =+森林率Ｂ集計!D13 -> 347462.7 | E12: =+人工林率Ｂ集計!D13 -> 154047.61 | F12: 640809 | H12: =+D12/F12 -> 0.54222506 | J12: =+E12/D12 -> 0.44335006
B13: 10 | C13: 群馬県 | D13: =+森林率Ｂ集計!D14 -> 424860.49 | E13: =+人工林率Ｂ集計!D14 -> 176008.84 | F13: 636228 | H13: =+D13/F13 -> 0.66778025 | J13: =+E13/D13 -> 0.41427443
B14: 11 | C14: 埼玉県 | D14: =+森林率Ｂ集計!D15 -> 119222.55 | E14: =+人工林率Ｂ集計!D15 -> 59305.38 | F14: 379775 | H14: =+D14/F14 -> 0.31392942 | J14: =+E14/D14 -> 0.49743427
B15: 12 | C15: 千葉県 | D15: =+森林率Ｂ集計!D16 -> 148400.13 | E15: =+人工林率Ｂ集計!D16 -> 49511.19 | F15: 515731 | H15: =+D15/F15 -> 0.28774716 | J15: =+E15/D15 -> 0.33363306
... B50: 47 | C50: 沖縄県 | D50: =+森林率Ｂ集計!D51 -> 103148.79 | E50: =+人工林率Ｂ集計!D51 -> 12206.68 | F50: 228215 | H50: =+D50/F50 -> 0.45198079 | J50: =+E50/D50 -> 0.1183405
B52: 全 国 | D52: =+SUM(D4:D50) -> 25024810 | E52: =+SUM(E4:E50) -> 10093422 | F52: 37297154 | H52: =+D52/F52 -> 0.67095763 | J52: =+E52/D52 -> 0.40333661
B53: ※１ 国土面積は、全国市町村要覧令和４年版による。
B54: ※２ 全国及び北海道の森林率は北方領土を除いて算出した。

Sheet 森林率Ｂ集計
B1: ○都道府県別森林率
B3: 都道府県 | D3: 令和４年度 森林資源現況調査 | E3: 令和４年版 全国市町村要覧 | G3: 森林率 （％） | I3: 都道府県 | K3: 平成29年度 森林資源現況調査 | L3: 平成29年版 全国市町村要覧 | N3: 森林率 （％） | P3: 増減率 （％）
D4: 森林面積（ha） | E4: 面積（km2） | K4: 森林面積（ha） | L4: 面積（km2）
B5: 1 | C5: 北海道 | D5: 5536143.5 | E5: 78421.35 | G5: =+D5/E5/100 -> 0.70594851 | I5: 1 | J5: 北海道 | K5: 5538447 | L5: 78420.76 | N5: =+K5/L5/100 -> 0.70624755 | P5: =+G5/N5 -> 0.99957657
B6: 2 | C6: 青森県 | D6: 633209.25 | E6: 9645.62 | G6: =+D6/E6/100 -> 0.65647335 | I6: 2 | J6: 青森県 | K6: 632805.34 | L6: 9645.56 | N6: =+K6/L6/100 -> 0.65605868 | P6: =+G6/N6 -> 1.0006321
B7: 3 | C7: 岩手県 | D7: 1169302 | E7: 15275.01 | G7: =+D7/E7/100 -> 0.76550001 | I7: 3 | J7: 岩手県 | K7: 1171445.6 | L7: 15275.01 | N7: =+K7/L7/100 -> 0.76690334 | P7: =+G7/N7 -> 0.99817014
B8: 4 | C8: 宮城県 | D8: 414435.89 | E8: 7282.29 | G8: =+D8/E8/100 -> 0.56910106 | I8: 4 | J8: 宮城県 | K8: 417086.04 | L8: 7282.22 | N8: =+K8/L8/100 -> 0.57274573 | P8: =+G8/N8 -> 0.99363649
B9: 5 | C9: 秋田県 | D9: 839290.18 | E9: 11637.52 | G9: =+D9/E9/100 -> 0.72119333 | I9: 5 | J9: 秋田県 | K9: 839247.49 | L9: 11637.52 | N9: =+K9/L9/100 -> 0.72115665 | P9: =+G9/N9 -> 1.0000509
B10: 6 | C10: 山形県 | D10: 669218.32 | E10: 9323.13 | G10: =+D10/E10/100 -> 0.71780434 | I10: 6 | J10: 山形県 | K10: 669271.71 | L10: 9323.15 | N10: =+K10/L10/100 -> 0.71786007 | P10: =+G10/N10 -> 0.99992238
B11: 7 | C11: 福島県 | D11: 972061.97 | E11: 13784.14 | G11: =+D11/E11/100 -> 0.70520321 | I11: 7 | J11: 福島県 | K11: 973833.96 | L11: 13783.74 | N11: =+K11/L11/100 -> 0.70650924 | P11: =+G11/N11 -> 0.99815143
B12: 8 | C12: 茨城県 | D12: 189270.9 | E12: 6097.24 | G12: =+D12/E12/100 -> 0.31042062 | I12: 8 | J12: 茨城県 | K12: 186781.28 | L12: 6097.12 | N12: =+K12/L12/100 -> 0.30634345 | P12: =+G12/N12 -> 1.0133091
B13: 9 | C13: 栃木県 | D13: 347462.7 | E13: 6408.09 | G13: =+D13/E13/100 -> 0.54222506 | I13: 9 | J13: 栃木県 | K13: 349006.4 | L13: 6408.09 | N13: =+K13/L13/100 -> 0.54463405 | P13: =+G13/N13 -> 0.99557687
B14: 10 | C14: 群馬県 | D14: 424860.49 | E14: 6362.28 | G14: =+D14/E14/100 -> 0.66778025 | I14: 10 | J14: 群馬県 | K14: 423141.3 | L14: 6362.28 | N14: =+K14/L14/100 -> 0.66507808 | P14: =+G14/N14 -> 1.0040629
B15: 11 | C15: 埼玉県 | D15: 119222.55 | E15: 3797.75 | G15: =+D15/E15/100 -> 0.31392942 | I15: 11 | J15: 埼玉県 | K15: 119778.97 | L15: 3797.75 | N15: =+K15/L15/100 -> 0.31539456 | P15: =+G15/N15 -> 0.99535457
B16: 12 | C16: 千葉県 | D16: 148400.13 | E16: 5157.31 | G16: =+D16/E16/100 -> 0.28774716 | I16: 12 | J16: 千葉県 | K16: 157276.49 | L16: 5157.64 | N16: =+K16/L16/100 -> 0.30493887 | P16: =+G16/N16 -> 0.94362245
... B51: 47 | C51: 沖縄県 | D51: 103148.79 | E51: 2282.15 | G51: =+D51/E51/100 -> 0.45198079 | I51: 47 | J51: 沖縄県 | K51: 106729.93 | L51: 2281.14 | N51: =+K51/L51/100 -> 0.4678798 | P51: =+G51/N51 -> 0.96601903
B53: 全 国 計 | D53: =+SUM(D5:D51) -> 25024810 | E53: 372971.54 | G53: =+D53/E53/100 -> 0.67095763 | I53: 全 国 計 | K53: =+SUM(K5:K51) -> 25048199 | L53: =+SUM(L5:L52) -> 372968.47 | N53: =+K53/L53/100 -> 0.67159026 | P53: =+G53/N53 -> 0.99905801
D54: 北方領土を含む | E54: 377974.6 | K54: 北方領土を含む | L54: =+L53+L64 -> 377971.53
C56: （北方領土面積） | J56: （北方領土面積）
C57: 色丹村 | E57: 250.57 | J57: 色丹村 | L57: 250.57
C58: 泊村 | E58: 535.35 | J58: 泊村 | L58: 1489.91
C59: 留夜別村 | E59: 954.55 | J59: 留夜別村
C60: 留別村 | E60: 1442.82 | J60: 留別村 | L60: 3167.74
C61: 紗那村 | E61: 968.32 | J61: 紗那村
C62: 蘂取村 | E62: 756.61 | J62: 蘂取村
C63: 根室市のうち歯舞諸島 | E63: 94.84 | J63: 根室市のうち歯舞諸島 | L63: 94.84
C64: total | E64: =+SUM(E57:E63) -> 5003.06 | J64: total | L64: =+SUM(L57:L63) -> 5003.06

Sheet 人工林率Ｂ集計
B1: ○都道府県別人工林率
B3: 都道府県 | D3: 令和４年度 森林資源現況調査 | G3: 人工林率 （％） | I3: 都道府県 | K3: 平成29年度 森林資源現況調査 | N3: 人工林率 （％） | P3: 増減率 （％）
D4: 人工林面積（ha） | E4: 森林面積（ha） | K4: 人工林面積（ha） | L4: 森林面積（ha）
B5: 1 | C5: 北海道 | D5: 1456447.5 | E5: 5536143.5 | G5: =+D5/E5 -> 0.26307979 | I5: 1 | J5: 北海道 | K5: 1475341.8 | L5: 5538447 | N5: =+K5/L5 -> 0.26638185 | P5: =+G5/N5 -> 0.98760403
B6: 2 | C6: 青森県 | D6: 263476.96 | E6: 633209.25 | G6: =+D6/E6 -> 0.41609778 | I6: 2 | J6: 青森県 | K6: 269437.81 | L6: 632805.34 | N6: =+K6/L6 -> 0.42578309 | P6: =+G6/N6 -> 0.97725295
B7: 3 | C7: 岩手県 | D7: 481800.32 | E7: 1169302 | G7: =+D7/E7 -> 0.41204095 | I7: 3 | J7: 岩手県 | K7: 488680.06 | L7: 1171445.6 | N7: =+K7/L7 -> 0.41715983 | P7: =+G7/N7 -> 0.9877292
B8: 4 | C8: 宮城県 | D8: 194411.05 | E8: 414435.89 | G8: =+D8/E8 -> 0.46909801 | I8: 4 | J8: 宮城県 | K8: 198235.05 | L8: 417086.04 | N8: =+K8/L8 -> 0.47528575 | P8: =+G8/N8 -> 0.98698103
B9: 5 | C9: 秋田県 | D9: 406590.67 | E9: 839290.18 | G9: =+D9/E9 -> 0.48444588 | I9: 5 | J9: 秋田県 | K9: 409506.1 | L9: 839247.49 | N9: =+K9/L9 -> 0.48794439 | P9: =+G9/N9 -> 0.99283011
B10: 6 | C10: 山形県 | D10: 184646.65 | E10: 669218.32 | G10: =+D10/E10 -> 0.27591392 | I10: 6 | J10: 山形県 | K10: 185636.31 | L10: 669271.71 | N10: =+K10/L10 -> 0.27737063 | P10: =+G10/N10 -> 0.99474817
B11: 7 | C11: 福島県 | D11: 336053.21 | E11: 972061.97 | G11: =+D11/E11 -> 0.34571171 | I11: 7 | J11: 福島県 | K11: 341026.25 | L11: 973833.96 | N11: =+K11/L11 -> 0.35018932 | P11: =+G11/N11 -> 0.98721376
B12: 8 | C12: 茨城県 | D12: 111593.84 | E12: 189270.9 | G12: =+D12/E12 -> 0.5895985 | I12: 8 | J12: 茨城県 | K12: 111105.62 | L12: 186781.28 | N12: =+K12/L12 -> 0.59484344 | P12: =+G12/N12 -> 0.99118264
B13: 9 | C13: 栃木県 | D13: 154047.61 | E13: 347462.7 | G13: =+D13/E13 -> 0.44335006 | I13: 9 | J13: 栃木県 | K13: 155946.24 | L13: 349006.4 | N13: =+K13/L13 -> 0.44682917 | P13: =+G13/N13 -> 0.99221379
B14: 10 | C14: 群馬県 | D14: 176008.84 | E14: 424860.49 | G14: =+D14/E14 -> 0.41427443 | I14: 10 | J14: 群馬県 | K14: 176947.41 | L14: 423141.3 | N14: =+K14/L14 -> 0.4181757 | P14: =+G14/N14 -> 0.99067074
B15: 11 | C15: 埼玉県 | D15: 59305.38 | E15: 119222.55 | G15: =+D15/E15 -> 0.49743427 | I15: 11 | J15: 埼玉県 | K15: 59234.7 | L15: 119778.97 | N15: =+K15/L15 -> 0.49453339 | P15: =+G15/N15 -> 1.0058659
B16: 12 | C16: 千葉県 | D16: 49511.19 | E16: 148400.13 | G16: =+D16/E16 -> 0.33363306 | I16: 12 | J16: 千葉県 | K16: 61415.59 | L16: 157276.49 | N16: =+K16/L16 -> 0.39049441 | P16: =+G16/N16 -> 0.85438626
... B51: 47 | C51: 沖縄県 | D51: 12206.68 | E51: 103148.79 | G51: =+D51/E51 -> 0.1183405 | I51: 47 | J51: 沖縄県 | K51: 12088.966 | L51: 106729.93 | N51: =+K51/L51 -> 0.11326688 | P51: =+G51/N51 -> 1.0447936
B53: 全 国 計 | D53: =+SUM(D5:D51) -> 10093422 | E53: =+SUM(E5:E52) -> 25024810 | G53: =+D53/E53 -> 0.40333661 | I53: 全 国 計 | K53: =+SUM(K5:K51) -> 10203842 | L53: =+SUM(L5:L52) -> 25048199 | N53: =+K53/L53 -> 0.40736828 | P53: =+G53/N53 -> 0.99010313
