Workbook

Sheet 提出書類一覧
A2: 提出書類一覧
A4: 様式番号 | B4: 提出書類 | C4: 確認
A5: 別紙様式１ | B5: コンテナ苗の安定需給協定申請書
A6: 別紙様式１-１ | B6: （西南部）生産・販売希望数量
B7: （中部）生産・販売希望数量
B8: （東部）生産・販売希望数量
A9: 別紙様式１-２ | B9: コンテナ苗の生産・販売実績等（１）コンテナ苗生産実績
B10: コンテナ苗の生産・販売実績等（２）コンテナ苗販売実績
B11: コンテナ苗の生産・販売実績等（３）コンテナ苗生産見通し
A12: 別紙様式２ | B12: コンテナ苗の安定需給協定に係る企画提案書
A13: 別紙様式２-１ | B13: 企画提案する取組内容（カラマツ）
B14: 企画提案する取組内容（クリーンラーチ）
B15: 企画提案する取組内容（トドマツ）
A16: 別紙様式２-２ | B16: 共同で申請する理由
A17: 別紙様式２-３ | B17: 販売希望単価
A18: 別紙様式３ | B18: コンテナ苗の安定需給協定に係る結果報告書 | C18: 申請時 不要
A19: 別紙様式３-１ | B19: 協定数量及び販売実績数量等（１）協定数量及び販売数量 | C19: 申請時 不要
B20: 協定数量及び販売実績数量等（２）販売数量が協定数量に満たなかった場合の事由 | C20: 申請時 不要
A21: 別紙様式３-２ | B21: 企画提案した取組内容の実施状況（カラマツ） | C21: 申請時 不要
B22: 企画提案した取組内容の実施状況（クリーンラーチ） | C22: 申請時 不要
B23: 企画提案した取組内容の実施状況（トドマツ） | C23: 申請時 不要
A24: 別紙様式３-３ | B24: その他 | C24: 申請時 不要

Sheet 【別紙様式１】
A2: 【別紙様式１】
G4: コンテナ苗の安定需給協定申請書
M6: 令和 | P6: 年 | R6: 月 | T6: 日
A8: 北海道森林管理局長あて
J10: 住所
I11: （代表者） | J11: 商号又は名称
J12: 代表者氏名
J14: 住所
J15: 商号又は名称
J16: 代表者氏名
A18: 注）共同で生産・販売を希望する者については、それぞれ住所、商号又は名称及び代表者氏名を記載し、そのうち代表者については、商号の前に（代表者）と明記する。
A21: 令和○年○○月○○日付けの公募公告によるコンテナ苗の安定需給協定によるコンテナ苗の生産・販売を希望するので、下記のとおり必要書類を添付の上、申請します。
J25: 記
A27: １ 生産・販売希望数量【別紙様式１－１】
A28: ２ コンテナ苗の生産・販売実績等【別紙様式１－２】
A29: ３ 添付書類
B30: （１）コンテナ苗の安定需給協定に係る企画提案書【別紙様式２】
B31: （２）林業種苗法第12条第１項により北海道知事から交付された登録証の写し
B32: （３）その他必要な書類（販売先との取引内容がわかる書類等）
B33: 注）共同で生産・販売を希望する者については、コンテナ苗の安定需給協定に係る企画提案書【別紙様式２】は一つにまとめ、それ以外はそれぞれの書類を添付して提出すること。
T36: 以上

Sheet 【別紙様式１-１】(西南部)生産・販売希望数量
A1: 【別紙様式１－１】
A3: １ 生産・販売希望数量 | K3: 別表１「使用物件一覧表」 | AB3: 【西南部１ｰ２ｰ３】
A4: 申請者名： | B4: =IF(【別紙様式１】!M11="","",【別紙様式１】!M11&【別紙様式１】!M15)
A5: 物件番号 | B5: 育種区 | C5: 樹種 | D5: 出荷時期 | F5: 希望数量 （千本） | G5: 公募数量 （千本） | K5: 物件 | L5: 育種区 | M5: 対象森林 | N5: 樹種 | O5: 育成容器 | P5: 苗木 | Q5: 使用予定時期 | S5: 使用予定数量 | V5: 物件 | W5: 育種区 | X5: 対象森林 | Y5: 樹種 | Z5: 育成容器 | AA5: 苗木 | AB5: 使用予定時期 | AD5: 使用予定数量
D6: 年度 | E6: 時期 | K6: 番号 | M6: 管理（支）署 | O6: の容量 | P6: 規格 | Q6: 年度 | R6: 時期 | S6: （千本） | V6: 番号 | X6: 管理（支）署 | Z6: の容量 | AA6: 規格 | AB6: 年度 | AC6: 時期 | AD6: （千本）
A7: 第１号 | B7: =VLOOKUP('【別紙様式１-１】(西南部)生産・販売希望数量'!$A7,リスト一覧!$A$2:$C$12,2,FALSE) -> 西南部育種区 | C7: =VLOOKUP('【別紙様式１-１】(西南部)生産・販売希望数量'!$A7,リスト一覧!$A$2:$C$12,3,FALSE) -> カラマツ | D7: 令和 | E7: 春 | G7: 0 | K7: 第１号 | L7: 西南部 | M7: 石狩署 | N7: カラマツ | O7: 150cc | P7: １号 | Q7: 令和 | R7: 春 | S7: 0 | V7: 第３号 | W7: 西南部 | X7: 石狩署 | Y7: トドマツ | Z7: 300cc | AA7: １号 | AB7: 令和 | AC7: 春 | AD7: 0
D8: 8 | E8: 秋 | G8: 0 | L8: 育種区 | M8: 空知署 | Q8: ８年度 | R8: 秋 | S8: 0 | W8: 育種区 | X8: 空知署 | AB8: ８年度 | AC8: 秋 | AD8: 0
D9: 年度 | E9: 計 | F9: =IF(COUNTIF(F7:F8,"<>")=0,"",SUBTOTAL(9,F7:F8)) | G9: 0 | M9: 胆振東部署 | R9: 計 | S9: =SUM(S7:S8) -> 0 | X9: 胆振東部署 | AC9: 計 | AD9: =SUM(AD7:AD8) -> 0
D10: 令和 | E10: 春 | G10: 0 | M10: 日高北部署 | Q10: 令和 | R10: 春 | S10: 0 | X10: 日高北部署 | AB10: 令和 | AC10: 春 | AD10: 0
D11: 9 | E11: 秋 | G11: 0 | M11: 日高南部署 | Q11: ９年度 | R11: 秋 | S11: 0 | X11: 日高南部署 | AB11: ９年度 | AC11: 秋 | AD11: 65
D12: 年度 | E12: 計 | F12: =IF(COUNTIF(F10:F11,"<>")=0,"",SUBTOTAL(9,F10:F11)) | G12: 0 | M12: 後志署 | R12: 計 | S12: =SUM(S10:S11) -> 0 | X12: 後志署 | AC12: 計 | AD12: =SUM(AD10:AD11) -> 65
D13: 令和 | E13: 春 | G13: 14 | M13: 檜山署 | Q13: 令和 | R13: 春 | S13: 14 | X13: 檜山署 | AB13: 令和 | AC13: 春 | AD13: 0
D14: 10 | E14: 秋 | G14: 15 | M14: 渡島署 | Q14: １０年度 | R14: 秋 | S14: 15 | X14: 渡島署 | AB14: １０年度 | AC14: 秋 | AD14: 63
D15: 年度 | E15: 計 | F15: =IF(COUNTIF(F13:F14,"<>")=0,"",SUBTOTAL(9,F13:F14)) | G15: 29 | R15: 計 | S15: =SUM(S13:S14) -> 29 | AC15: 計 | AD15: =SUM(AD13:AD14) -> 63
A16: 第２号 | B16: =VLOOKUP('【別紙様式１-１】(西南部)生産・販売希望数量'!$A16,リスト一覧!$A$2:$C$12,2,FALSE) -> 西南部育種区 | C16: =VLOOKUP('【別紙様式１-１】(西南部)生産・販売希望数量'!$A16,リスト一覧!$A$2:$C$12,3,FALSE) -> クリーンラーチ | D16: 令和 | E16: 春 | G16: 0 | AB16: 令和 | AC16: 春 | AD16: 56
D17: 8 | E17: 秋 | G17: 0 | K17: 物件 | L17: 育種区 | M17: 対象森林 | N17: 樹種 | O17: 育成容器 | P17: 苗木 | Q17: 使用予定時期 | S17: 使用予定数量 | AB17: １１年度 | AC17: 秋 | AD17: 225
D18: 年度 | E18: 計 | F18: =IF(COUNTIF(F16:F17,"<>")=0,"",SUBTOTAL(9,F16:F17)) | G18: 0 | K18: 番号 | M18: 管理（支）署 | O18: の容量 | P18: 規格 | Q18: 年度 | R18: 時期 | S18: （千本） | AC18: 計 | AD18: =SUM(AD16:AD17) -> 281
D19: 令和 | E19: 春 | G19: 0 | K19: 第２号 | L19: 西南部 | M19: 石狩署 | N19: クリーンラーチ | O19: 150cc | P19: １号 | Q19: 令和 | R19: 春 | S19: 0 | AB19: 令和 | AC19: 春 | AD19: 56
D20: 9 | E20: 秋 | G20: 25 | L20: 育種区 | M20: 空知署 | Q20: ８年度 | R20: 秋 | S20: 0 | AB20: １２年度 | AC20: 秋 | AD20: 225
D21: 年度 | E21: 計 | F21: =IF(COUNTIF(F19:F20,"<>")=0,"",SUBTOTAL(9,F19:F20)) | G21: 25 | M21: 胆振東部署 | R21: 計 | S21: =SUM(S19:S20) -> 0 | AC21: 計 | AD21: =SUM(AD19:AD20) -> 281
D22: 令和 | E22: 春 | G22: 15 | M22: 日高北部署 | Q22: 令和 | R22: 春 | S22: 0
D23: 10 | E23: 秋 | G23: 103 | M23: 日高南部署 | Q23: ９年度 | R23: 秋 | S23: 25
D24: 年度 | E24: 計 | F24: =IF(COUNTIF(F22:F23,"<>")=0,"",SUBTOTAL(9,F22:F23)) | G24: 118 | M24: 後志署 | R24: 計 | S24: =SUM(S22:S23) -> 25
A25: 第３号 | B25: =VLOOKUP('【別紙様式１-１】(西南部)生産・販売希望数量'!$A25,リスト一覧!$A$2:$C$12,2,FALSE) -> 西南部育種区 | C25: =VLOOKUP('【別紙様式１-１】(西南部)生産・販売希望数量'!$A25,リスト一覧!$A$2:$C$12,3,FALSE) -> トドマツ | D25: 令和 | E25: 春 | G25: 0 | M25: 檜山署 | Q25: 令和 | R25: 春 | S25: 15
D26: 8 | E26: 秋 | G26: 0 | M26: 渡島署 | Q26: １０年度 | R26: 秋 | S26: 103
D27: 年度 | E27: 計 | F27: =IF(COUNTIF(F25:F26,"<>")=0,"",SUBTOTAL(9,F25:F26)) | G27: 0 | R27: 計 | S27: =SUM(S25:S26) -> 118
D28: 令和 | E28: 春 | G28: 0
D29: 9 | E29: 秋 | G29: 65
D30: 年度 | E30: 計 | F30: =IF(COUNTIF(F28:F29,"<>")=0,"",SUBTOTAL(9,F28:F29)) | G30: 65
D31: 令和 | E31: 春 | G31: 0
D32: 10 | E32: 秋 | G32: 63
D33: 年度 | E33: 計 | F33: =IF(COUNTIF(F31:F32,"<>")=0,"",SUBTOTAL(9,F31:F32)) | G33: 63
D34: 令和 | E34: 春 | G34: 56
D35: 11 | E35: 秋 | G35: 225
D36: 年度 | E36: 計 | F36: =IF(COUNTIF(F34:F35,"<>")=0,"",SUBTOTAL(9,F34:F35)) | G36: 281
D37: 令和 | E37: 春 | G37: 56
D38: 12 | E38: 秋 | G38: 225
D39: 年度 | E39: 計 | F39: =IF(COUNTIF(F37:F38,"<>")=0,"",SUBTOTAL(9,F37:F38)) | G39: 281
A41: 注）
A42: １ 公募公告の別表「使用物件一覧表」を参照のうえ、協定締結を希望する物件番号、樹種、出荷時期、希望数量を記載すること。
...

Sheet 【別紙様式１-１】(中部)生産・販売希望数量
A1: 【別紙様式１－１】
A3: １ 生産・販売希望数量 | K3: 別表１「使用物件一覧表」 | AB3: 【中部４-５-６】
A4: 申請者名： | B4: =IF(【別紙様式１】!M11="","",【別紙様式１】!M11&【別紙様式１】!M15)
A5: 物件番号 | B5: 育種区 | C5: 樹種 | D5: 出荷時期 | F5: 希望数量 （千本） | G5: 公募数量 （千本） | K5: 物件 | L5: 育種区 | M5: 対象森林 | N5: 樹種 | O5: 育成容器 | P5: 苗木 | Q5: 使用予定時期 | S5: 使用予定数量 | V5: 物件 | W5: 育種区 | X5: 対象森林 | Y5: 樹種 | Z5: 育成容器 | AA5: 苗木 | AB5: 使用予定時期 | AD5: 使用予定数量
D6: 年度 | E6: 時期 | K6: 番号 | M6: 管理（支）署 | O6: の容量 | P6: 規格 | Q6: 年度 | R6: 時期 | S6: （千本） | V6: 番号 | X6: 管理（支）署 | Z6: の容量 | AA6: 規格 | AB6: 年度 | AC6: 時期 | AD6: （千本）
A7: 第４号 | B7: =VLOOKUP('【別紙様式１-１】(中部)生産・販売希望数量'!$A7,リスト一覧!$A$2:$C$12,2,FALSE) -> 中部育種区 | C7: =VLOOKUP('【別紙様式１-１】(中部)生産・販売希望数量'!$A7,リスト一覧!$A$2:$C$12,3,FALSE) -> カラマツ | D7: 令和 | E7: 春 | G7: 0 | K7: 第４号 | L7: 中部 | M7: 北空知支署 | N7: カラマツ | O7: 150cc | P7: １号 | Q7: 令和 | R7: 春 | S7: 0 | V7: 第６号 | W7: 中部 | X7: 北空知支署 | Y7: トドマツ | Z7: 300cc | AA7: １号 | AB7: 令和 | AC7: 春 | AD7: 0
D8: 8 | E8: 秋 | G8: 0 | L8: 育種区 | M8: 留萌北部署 | Q8: ８年度 | R8: 秋 | S8: 0 | W8: 育種区 | X8: 留萌北部署 | AB8: ８年度 | AC8: 秋 | AD8: 0
D9: 年度 | E9: 計 | F9: =IF(COUNTIF(F7:F8,"<>")=0,"",SUBTOTAL(9,F7:F8)) | G9: 0 | M9: 留萌南部署 | R9: 計 | S9: =SUM(S7:S8) -> 0 | X9: 留萌南部署 | AC9: 計 | AD9: =SUM(AD7:AD8) -> 0
D10: 令和 | E10: 春 | G10: 0 | M10: 上川北部署 | Q10: 令和 | R10: 春 | S10: 0 | X10: 上川北部署 | AB10: 令和 | AC10: 春 | AD10: 0
D11: 9 | E11: 秋 | G11: 0 | M11: 宗谷署 | Q11: ９年度 | R11: 秋 | S11: 0 | X11: 宗谷署 | AB11: ９年度 | AC11: 秋 | AD11: 0
D12: 年度 | E12: 計 | F12: =IF(COUNTIF(F10:F11,"<>")=0,"",SUBTOTAL(9,F10:F11)) | G12: 0 | M12: 上川中部署 | R12: 計 | S12: =SUM(S10:S11) -> 0 | X12: 上川中部署 | AC12: 計 | AD12: =SUM(AD10:AD11) -> 0
D13: 令和 | E13: 春 | G13: 0 | M13: 上川南部署 | Q13: 令和 | R13: 春 | S13: 0 | X13: 上川南部署 | AB13: 令和 | AC13: 春 | AD13: 0
D14: 10 | E14: 秋 | G14: 23 | Q14: １０年度 | R14: 秋 | S14: 23 | AB14: １０年度 | AC14: 秋 | AD14: 0
D15: 年度 | E15: 計 | F15: =IF(COUNTIF(F13:F14,"<>")=0,"",SUBTOTAL(9,F13:F14)) | G15: 23 | R15: 計 | S15: =SUM(S13:S14) -> 23 | AC15: 計 | AD15: =SUM(AD13:AD14) -> 0
A16: 第５号 | B16: =VLOOKUP('【別紙様式１-１】(中部)生産・販売希望数量'!$A16,リスト一覧!$A$2:$C$12,2,FALSE) -> 中部育種区 | C16: =VLOOKUP('【別紙様式１-１】(中部)生産・販売希望数量'!$A16,リスト一覧!$A$2:$C$12,3,FALSE) -> クリーンラーチ | D16: 令和 | E16: 春 | G16: 0 | AB16: 令和 | AC16: 春 | AD16: 0
D17: 8 | E17: 秋 | G17: 0 | K17: 物件 | L17: 育種区 | M17: 対象森林 | N17: 樹種 | O17: 育成容器 | P17: 苗木 | Q17: 使用予定時期 | S17: 使用予定数量 | AB17: １１年度 | AC17: 秋 | AD17: 47
D18: 年度 | E18: 計 | F18: =IF(COUNTIF(F16:F17,"<>")=0,"",SUBTOTAL(9,F16:F17)) | G18: 0 | K18: 番号 | M18: 管理（支）署 | O18: の容量 | P18: 規格 | Q18: 年度 | R18: 時期 | S18: （千本） | AC18: 計 | AD18: =SUM(AD16:AD17) -> 47
D19: 令和 | E19: 春 | G19: 0 | K19: 第５号 | L19: 中部 | M19: 北空知支署 | N19: クリーンラーチ | O19: 150cc | P19: １号 | Q19: 令和 | R19: 春 | S19: 0 | AB19: 令和 | AC19: 春 | AD19: 0
D20: 9 | E20: 秋 | G20: 10 | L20: 育種区 | M20: 留萌北部署 | Q20: ８年度 | R20: 秋 | S20: 0 | AB20: １２年度 | AC20: 秋 | AD20: 47
D21: 年度 | E21: 計 | F21: =IF(COUNTIF(F19:F20,"<>")=0,"",SUBTOTAL(9,F19:F20)) | G21: 10 | M21: 留萌南部署 | R21: 計 | S21: =SUM(S19:S20) -> 0 | AC21: 計 | AD21: =SUM(AD19:AD20) -> 47
D22: 令和 | E22: 春 | G22: 0 | M22: 上川北部署 | Q22: 令和 | R22: 春 | S22: 0
D23: 10 | E23: 秋 | G23: 42 | M23: 宗谷署 | Q23: ９年度 | R23: 秋 | S23: 10
D24: 年度 | E24: 計 | F24: =IF(COUNTIF(F22:F23,"<>")=0,"",SUBTOTAL(9,F22:F23)) | G24: 42 | M24: 上川中部署 | R24: 計 | S24: =SUM(S22:S23) -> 10
A25: 第６号 | B25: =VLOOKUP('【別紙様式１-１】(中部)生産・販売希望数量'!$A25,リスト一覧!$A$2:$C$12,2,FALSE) -> 中部育種区 | C25: =VLOOKUP('【別紙様式１-１】(中部)生産・販売希望数量'!$A25,リスト一覧!$A$2:$C$12,3,FALSE) -> トドマツ | D25: 令和 | E25: 春 | G25: 0 | M25: 上川南部署 | Q25: 令和 | R25: 春 | S25: 0
D26: 8 | E26: 秋 | G26: 0 | Q26: １０年度 | R26: 秋 | S26: 42
D27: 年度 | E27: 計 | F27: =IF(COUNTIF(F25:F26,"<>")=0,"",SUBTOTAL(9,F25:F26)) | G27: 0 | R27: 計 | S27: =SUM(S25:S26) -> 42
D28: 令和 | E28: 春 | G28: 0
D29: 9 | E29: 秋 | G29: 0
D30: 年度 | E30: 計 | F30: =IF(COUNTIF(F28:F29,"<>")=0,"",SUBTOTAL(9,F28:F29)) | G30: 0
D31: 令和 | E31: 春 | G31: 0
D32: 10 | E32: 秋 | G32: 0
D33: 年度 | E33: 計 | F33: =IF(COUNTIF(F31:F32,"<>")=0,"",SUBTOTAL(9,F31:F32)) | G33: 0
D34: 令和 | E34: 春 | G34: 0
D35: 11 | E35: 秋 | G35: 47
D36: 年度 | E36: 計 | F36: =IF(COUNTIF(F34:F35,"<>")=0,"",SUBTOTAL(9,F34:F35)) | G36: 47
D37: 令和 | E37: 春 | G37: 0
D38: 12 | E38: 秋 | G38: 47
D39: 年度 | E39: 計 | F39: =IF(COUNTIF(F37:F38,"<>")=0,"",SUBTOTAL(9,F37:F38)) | G39: 47
A41: 注）
A42: １ 公募公告の別表「使用物件一覧表」を参照のうえ、協定締結を希望する物件番号、樹種、出荷時期、希望数量を記載すること。
...

Sheet 【別紙様式１-１】(東部)生産・販売希望数量
A1: 【別紙様式１－１】
A3: １ 生産・販売希望数量 | K3: 別表１「使用物件一覧表」 | AB3: 【東部７ｰ８ｰ９】
A4: 申請者名： | B4: =IF(【別紙様式１】!M11="","",【別紙様式１】!M11&【別紙様式１】!M15)
A5: 物件番号 | B5: 育種区 | C5: 樹種 | D5: 出荷時期 | F5: 希望数量 （千本） | G5: 公募数量 （千本） | K5: 物件 | L5: 育種区 | M5: 対象森林 | N5: 樹種 | O5: 育成容器 | P5: 苗木 | Q5: 使用予定時期 | S5: 使用予定数量 | V5: 物件 | W5: 育種区 | X5: 対象森林 | Y5: 樹種 | Z5: 育成容器 | AA5: 苗木 | AB5: 使用予定時期 | AD5: 使用予定数量
D6: 年度 | E6: 時期 | K6: 番号 | M6: 管理（支）署 | O6: の容量 | P6: 規格 | Q6: 年度 | R6: 時期 | S6: （千本） | V6: 番号 | X6: 管理（支）署 | Z6: の容量 | AA6: 規格 | AB6: 年度 | AC6: 時期 | AD6: （千本）
A7: 第７号 | B7: =VLOOKUP('【別紙様式１-１】(東部)生産・販売希望数量'!$A7,リスト一覧!$A$2:$C$12,2,FALSE) -> 東部育種区 | C7: =VLOOKUP('【別紙様式１-１】(東部)生産・販売希望数量'!$A7,リスト一覧!$A$2:$C$12,3,FALSE) -> カラマツ | D7: 令和 | E7: 春 | G7: 0 | K7: 第７号 | L7: 東部 | M7: 網走西部署 | N7: カラマツ | O7: 150cc | P7: １号 | Q7: 令和 | R7: 春 | S7: 0 | V7: 第９号 | W7: 東部 | X7: 網走西部署 | Y7: トドマツ | Z7: 300cc | AA7: １号 | AB7: 令和 | AC7: 春 | AD7: 0
D8: 8 | E8: 秋 | G8: 0 | L8: 育種区 | M8: 西紋別支署 | Q8: ８年度 | R8: 秋 | S8: 0 | W8: 育種区 | X8: 西紋別支署 | AB8: ８年度 | AC8: 秋 | AD8: 0
D9: 年度 | E9: 計 | F9: =IF(COUNTIF(F7:F8,"<>")=0,"",SUBTOTAL(9,F7:F8)) | G9: 0 | M9: 網走中部署 | R9: 計 | S9: =SUM(S7:S8) -> 0 | X9: 網走中部署 | AC9: 計 | AD9: =SUM(AD7:AD8) -> 0
D10: 令和 | E10: 春 | G10: 0 | M10: 網走南部署 | Q10: 令和 | R10: 春 | S10: 0 | X10: 網走南部署 | AB10: 令和 | AC10: 春 | AD10: 0
D11: 9 | E11: 秋 | G11: 182 | M11: 根釧西部署 | Q11: ９年度 | R11: 秋 | S11: 182 | X11: 根釧西部署 | AB11: ９年度 | AC11: 秋 | AD11: 53
D12: 年度 | E12: 計 | F12: =IF(COUNTIF(F10:F11,"<>")=0,"",SUBTOTAL(9,F10:F11)) | G12: 182 | M12: 根釧東部署 | R12: 計 | S12: =SUM(S10:S11) -> 182 | X12: 根釧東部署 | AC12: 計 | AD12: =SUM(AD10:AD11) -> 53
D13: 令和 | E13: 春 | G13: 111 | M13: 十勝東部署 | Q13: 令和 | R13: 春 | S13: 111 | X13: 十勝東部署 | AB13: 令和 | AC13: 春 | AD13: 0
D14: 10 | E14: 秋 | G14: 241 | M14: 十勝西部署 | Q14: １０年度 | R14: 秋 | S14: 241 | X14: 十勝西部署 | AB14: １０年度 | AC14: 秋 | AD14: 52
D15: 年度 | E15: 計 | F15: =IF(COUNTIF(F13:F14,"<>")=0,"",SUBTOTAL(9,F13:F14)) | G15: 352 | M15: 東大雪支署 | R15: 計 | S15: =SUM(S13:S14) -> 352 | X15: 東大雪支署 | AC15: 計 | AD15: =SUM(AD13:AD14) -> 52
A16: 第８号 | B16: =VLOOKUP('【別紙様式１-１】(東部)生産・販売希望数量'!$A16,リスト一覧!$A$2:$C$12,2,FALSE) -> 東部育種区 | C16: =VLOOKUP('【別紙様式１-１】(東部)生産・販売希望数量'!$A16,リスト一覧!$A$2:$C$12,3,FALSE) -> クリーンラーチ | D16: 令和 | E16: 春 | G16: 0 | AB16: 令和 | AC16: 春 | AD16: 73
D17: 8 | E17: 秋 | G17: 0 | K17: 物件 | L17: 育種区 | M17: 対象森林 | N17: 樹種 | O17: 育成容器 | P17: 苗木 | Q17: 使用予定時期 | S17: 使用予定数量 | AB17: １１年度 | AC17: 秋 | AD17: 167
D18: 年度 | E18: 計 | F18: =IF(COUNTIF(F16:F17,"<>")=0,"",SUBTOTAL(9,F16:F17)) | G18: 0 | K18: 番号 | M18: 管理（支）署 | O18: の容量 | P18: 規格 | Q18: 年度 | R18: 時期 | S18: （千本） | AC18: 計 | AD18: =SUM(AD16:AD17) -> 240
D19: 令和 | E19: 春 | G19: 0 | K19: 第８号 | L19: 東部 | M19: 網走西部署 | N19: クリーンラーチ | O19: 150cc | P19: １号 | Q19: 令和 | R19: 春 | S19: 0 | AB19: 令和 | AC19: 春 | AD19: 73
D20: 9 | E20: 秋 | G20: 20 | L20: 育種区 | M20: 西紋別支署 | Q20: ８年度 | R20: 秋 | S20: 0 | AB20: １２年度 | AC20: 秋 | AD20: 167
D21: 年度 | E21: 計 | F21: =IF(COUNTIF(F19:F20,"<>")=0,"",SUBTOTAL(9,F19:F20)) | G21: 20 | M21: 網走中部署 | R21: 計 | S21: =SUM(S19:S20) -> 0 | AC21: 計 | AD21: =SUM(AD19:AD20) -> 240
D22: 令和 | E22: 春 | G22: 61 | M22: 網走南部署 | Q22: 令和 | R22: 春 | S22: 0
D23: 10 | E23: 秋 | G23: 56 | M23: 根釧西部署 | Q23: ９年度 | R23: 秋 | S23: 20
D24: 年度 | E24: 計 | F24: =IF(COUNTIF(F22:F23,"<>")=0,"",SUBTOTAL(9,F22:F23)) | G24: 117 | M24: 根釧東部署 | R24: 計 | S24: =SUM(S22:S23) -> 20
A25: 第９号 | B25: =VLOOKUP('【別紙様式１-１】(東部)生産・販売希望数量'!$A25,リスト一覧!$A$2:$C$12,2,FALSE) -> 東部育種区 | C25: =VLOOKUP('【別紙様式１-１】(東部)生産・販売希望数量'!$A25,リスト一覧!$A$2:$C$12,3,FALSE) -> トドマツ | D25: 令和 | E25: 春 | G25: 0 | M25: 十勝東部署 | Q25: 令和 | R25: 春 | S25: 61
D26: 8 | E26: 秋 | G26: 0 | M26: 十勝西部署 | Q26: １０年度 | R26: 秋 | S26: 56
D27: 年度 | E27: 計 | F27: =IF(COUNTIF(F25:F26,"<>")=0,"",SUBTOTAL(9,F25:F26)) | G27: 0 | M27: 東大雪支署 | R27: 計 | S27: =SUM(S25:S26) -> 117
D28: 令和 | E28: 春 | G28: 0
D29: 9 | E29: 秋 | G29: 53
D30: 年度 | E30: 計 | F30: =IF(COUNTIF(F28:F29,"<>")=0,"",SUBTOTAL(9,F28:F29)) | G30: 53
D31: 令和 | E31: 春 | G31: 0
D32: 10 | E32: 秋 | G32: 52
D33: 年度 | E33: 計 | F33: =IF(COUNTIF(F31:F32,"<>")=0,"",SUBTOTAL(9,F31:F32)) | G33: 52
D34: 令和 | E34: 春 | G34: 73
D35: 11 | E35: 秋 | G35: 167
D36: 年度 | E36: 計 | F36: =IF(COUNTIF(F34:F35,"<>")=0,"",SUBTOTAL(9,F34:F35)) | G36: 240
D37: 令和 | E37: 春 | G37: 73
D38: 12 | E38: 秋 | G38: 167
D39: 年度 | E39: 計 | F39: =IF(COUNTIF(F37:F38,"<>")=0,"",SUBTOTAL(9,F37:F38)) | G39: 240
A41: 注）
A42: １ 公募公告の別表「使用物件一覧表」を参照のうえ、協定締結を希望する物件番号、樹種、出荷時期、希望数量を記載すること。
...

Sheet 【別紙様式１-２】生産実績
A2: 【別紙様式１－２】
A4: ２ コンテナ苗の生産・販売実績等
A6: （１）コンテナ苗生産実績
A8: 樹種 | B8: 生産実績量（本）
B9: 令和５年度 | C9: 令和６年度 | D9: 令和７年度
A10: カラマツ
A11: クリーンラーチ
A12: トドマツ
A13: ●●●●
A14: △△△△
A15: □□□□
A18: 計 | B18: =IF(SUM(B10:B17)=0,"",SUM(B10:B17)) | C18: =IF(SUM(C10:C17)=0,"",SUM(C10:C17)) | D18: =IF(SUM(D10:D17)=0,"",SUM(D10:D17))
A20: 注）
A21: １ 共同で生産・販売を希望する者については、それぞれの実績の合計を記載すること。
A22: ２ 記載する樹種が多い場合は、適宜行を追加して記載すること。

Sheet 【別紙様式１-２】販売実績
A2: 【別紙様式１－２】
A4: ２ コンテナ苗の生産・販売実績等
A6: （２）コンテナ苗販売実績
A8: 年度 | B8: 樹種 | C8: 販売量（本） | D8: 販売先
A9: 令和 | B9: ●●●●
A10: ５
A11: 年度 | B11: 小計 | C11: =IF(COUNTIF(C9:C10,"<>")=0,"",SUBTOTAL(9,C9:C10))
B12: △△△△
B14: 小計 | C14: =IF(COUNTIF(C12:C13,"<>")=0,"",SUBTOTAL(9,C12:C13))
B15: □□□□
B17: 小計 | C17: =IF(COUNTIF(C15:C16,"<>")=0,"",SUBTOTAL(9,C15:C16))
A18: 計 | C18: =IF(SUBTOTAL(9,C9:C16)=0,"",SUBTOTAL(9,C9:C16))
A19: 令和 | B19: ●●●●
A20: ６
A21: 年度 | B21: 小計 | C21: =IF(COUNTIF(C19:C20,"<>")=0,"",SUBTOTAL(9,C19:C20))
B22: △△△△
B24: 小計 | C24: =IF(COUNTIF(C22:C23,"<>")=0,"",SUBTOTAL(9,C22:C23))
B25: □□□□
B27: 小計 | C27: =IF(COUNTIF(C25:C26,"<>")=0,"",SUBTOTAL(9,C25:C26))
A28: 計 | C28: =IF(SUBTOTAL(9,C19:C26)=0,"",SUBTOTAL(9,C19:C26))
A29: 令和 | B29: ●●●●
A30: ７
A31: 年度 | B31: 小計 | C31: =IF(COUNTIF(C29:C30,"<>")=0,"",SUBTOTAL(9,C29:C30))
B32: △△△△
B34: 小計 | C34: =IF(COUNTIF(C32:C33,"<>")=0,"",SUBTOTAL(9,C32:C33))
B35: □□□□
B37: 小計 | C37: =IF(COUNTIF(C35:C36,"<>")=0,"",SUBTOTAL(9,C35:C36))
A38: 計 | C38: =IF(SUBTOTAL(9,C29:C36)=0,"",SUBTOTAL(9,C29:C36))
A40: 注）
A41: １ 共同で生産・販売を希望する者については、それぞれの実績の合計を記載すること。
A42: ２ （１）で示した樹種の過去３年間の販売先及び販売量を記載すること。ただし、公募年度の前年
A43: 度において協定締結実績がある場合は、公募年度以外の実績について記載を省略できることとする。
A44: ３ 各年度の実績のうち樹種ごとに、販売先と取引した内容がわかる書類を添付すること。
A45: ４ 記載する樹種が多い場合は、適宜行を追加して記載すること。

Sheet 【別紙様式１-２】生産見通し
A2: 【別紙様式１－２】
A4: ２ コンテナ苗の生産・販売実績等
A6: （３）コンテナ苗生産見通し
A8: 樹種 | B8: 生産予定量（千本）
B9: 令和８年度 | C9: 令和９年度 | D9: 令和１０年度 | E9: 令和１１年度 | F9: 令和１２年度
A10: カラマツ
A11: クリーンラーチ
A12: トドマツ
A13: ●●●●
A14: △△△△
A15: □□□□
A22: 計 | B22: =IF(SUM(B10:B21)=0,"",SUM(B10:B21)) | C22: =IF(SUM(C10:C21)=0,"",SUM(C10:C21)) | D22: =IF(SUM(D10:D21)=0,"",SUM(D10:D21)) | E22: =IF(SUM(E10:E21)=0,"",SUM(E10:E21)) | F22: =IF(SUM(F10:F21)=0,"",SUM(F10:F21))
A24: 注）
A25: １ 共同で生産・販売を希望する者については、それぞれの予定量の合計を記載すること。
A26: ２ 公募年度の翌年から、トドマツは５年間、カラマツ類は３年間の生産予定量を記載すること。
A27: ３ 記載する樹種が多い場合は、適宜行を追加して記載すること。

Sheet 【別紙様式２】
A2: 【別紙様式２】
A4: コンテナ苗の安定需給協定に係る企画提案書
M6: 令和 | P6: 年 | R6: 月 | T6: 日
A8: 北海道森林管理局長あて
J10: 住所 | M10: =IF(【別紙様式１】!M10="","",【別紙様式１】!M10)
I11: （代表者） | J11: 商号又は名称 | M11: =IF(【別紙様式１】!M11="","",【別紙様式１】!M11)
J12: 代表者氏名 | M12: =IF(【別紙様式１】!M12="","",【別紙様式１】!M12)
J14: 住所 | M14: =IF(【別紙様式１】!M14="","",【別紙様式１】!M14)
J15: 商号又は名称 | M15: =IF(【別紙様式１】!M15="","",【別紙様式１】!M15)
J16: 代表者氏名 | M16: =IF(【別紙様式１】!M16="","",【別紙様式１】!M16)
A18: 注）共同で生産・販売を希望する者については、代表者が企画提案をとりまとめの上、一つの企画提案書として作成すること（申請者ごとに企画提案書を作成することのないよう留意すること）。
A21: コンテナ苗の生産及び出荷方法等に係る取組についての企画提案書を下記のとおり提出します。 本企画提案書の提出に当たっては、虚偽の事実がないこと、協定の締結後は本企画提案書の内容に基づく取組を行うことを確約します。 また、企画提案の審査結果について異議申立てをしないこと、本企画提案書の内容を公表することについて了承します。 なお、本企画提案書の内容に関する質問等への対応は以下の作成担当者が行います。
J27: 記
A29: １ 企画提案する取組内容【別紙様式２－１】
A30: ２ 共同で申請する理由（該当ある場合のみ記載）【別紙様式２－２】
A31: ３ コンテナ苗の販売希望単価【別紙様式２－３】
A32: ４ その他必要な書類（取組内容等を証する資料等）
T35: 以上
E39: 作成担当者 | H39: 会社名 | O39: 連絡先
H40: 役職名 | O40: 氏名

Sheet 【別紙様式２ｰ１】企画提案_カラマツ
A1: 【別紙様式２－１】
A3: １ 企画提案する取組内容
A4: 申請者名： | B4: =IF(【別紙様式１】!M11="","",【別紙様式１】!M11)
A5: 申請樹種： | B5: カラマツ
A6: 申請物件番号： | B6: 第１号
B7: 第４号
B8: 第７号
A9: 項目 | C9: 取組内容
A10: コンテナ苗の生産や出荷方法等にかかるコストの縮減や効率化を図るもの | B10: ①コンテナ苗の生産にかかるコストの縮減を図るもの
B11: ②コンテナ苗の出荷方法の効率化を図るもの
B12: ③資材等の有効利用を図るもの
A13: コンテナ苗の利用価値の向上や普及拡大を図るもの | B13: ④コンテナ苗の付加価値の向上を図るもの
B14: ⑤造林の省力化に資するもの
B15: ⑥新たな技術の開発や販路拡大を図るもの
A16: 地域の振興等への貢献を図るもの | B16: ⑦地域の林業等への貢献を図るもの
B17: ⑧その他地域への貢献を図るもの
A18: 企業の実績 | B18: ⑨表彰実績 （過去10年）
A19: ⑨上記以外に独自で行っている取組等
A20: 注）
A21: １．協定期間における取組内容を可能な限り数値を示しつつ、かつ具体的に記載すること。なお、年度ごとに取り組み内容が異なる場合については、漏れなく記載すること。
A22: ２．「地域の振興等への貢献を図るもの」について、イベントへの協力等の実績は、公募公告日より前の２年以内のものに限る。 また、過去の表彰実績を記載する場合は、公募公告日より前の10年以内のものに限ることとする。。
A23: ３．複数樹種に対して申請する場合は、適宜表を追加して記載すること。

Sheet 【別紙様式２ｰ１】企画提案_CL
A1: 【別紙様式２－１】
A3: １ 企画提案する取組内容
A4: 申請者名： | B4: =IF(【別紙様式１】!M11="","",【別紙様式１】!M11)
A5: 申請樹種： | B5: クリーンラーチ
A6: 申請物件番号： | B6: 第２号
B7: 第５号
B8: 第８号
A9: 項目 | C9: 取組内容
A10: コンテナ苗の生産や出荷方法等にかかるコストの縮減や効率化を図るもの | B10: ①コンテナ苗の生産にかかるコストの縮減を図るもの
B11: ②コンテナ苗の出荷方法の効率化を図るもの
B12: ③資材等の有効利用を図るもの
A13: コンテナ苗の利用価値の向上や普及拡大を図るもの | B13: ④コンテナ苗の付加価値の向上を図るもの
B14: ⑤造林の省力化に資するもの
B15: ⑥新たな技術の開発や販路拡大を図るもの
A16: 地域の振興等への貢献を図るもの | B16: ⑦地域の林業等への貢献を図るもの
B17: ⑧その他地域への貢献を図るもの
A18: 企業の実績 | B18: ⑨表彰実績 （過去10年）
A19: ⑨上記以外に独自で行っている取組等
A20: 注）
A21: １．協定期間における取組内容を可能な限り数値を示しつつ、かつ具体的に記載すること。なお、年度ごとに取り組み内容が異なる場合については、漏れなく記載すること。
A22: ２．「地域の振興等への貢献を図るもの」について、イベントへの協力等の実績は、公募公告日より前の２年以内のものに限る。 また、過去の表彰実績を記載する場合は、公募公告日より前の10年以内のものに限ることとする。。
A23: ３．複数樹種に対して申請する場合は、適宜表を追加して記載すること。

Sheet 【別紙様式２ｰ１】企画提案_トドマツ
A1: 【別紙様式２－１】
A3: １ 企画提案する取組内容
A4: 申請者名： | B4: =IF(【別紙様式１】!M11="","",【別紙様式１】!M11)
A5: 申請樹種： | B5: トドマツ
A6: 申請物件番号： | B6: 第３号
B7: 第６号
B8: 第９号
A9: 項目 | C9: 取組内容
A10: コンテナ苗の生産や出荷方法等にかかるコストの縮減や効率化を図るもの | B10: ①コンテナ苗の生産にかかるコストの縮減を図るもの
B11: ②コンテナ苗の出荷方法の効率化を図るもの
B12: ③資材等の有効利用を図るもの
A13: コンテナ苗の利用価値の向上や普及拡大を図るもの | B13: ④コンテナ苗の付加価値の向上を図るもの
B14: ⑤造林の省力化に資するもの
B15: ⑥新たな技術の開発や販路拡大を図るもの
A16: 地域の振興等への貢献を図るもの | B16: ⑦地域の林業等への貢献を図るもの
B17: ⑧その他地域への貢献を図るもの
A18: 企業の実績 | B18: ⑨表彰実績 （過去10年）
A19: ⑨上記以外に独自で行っている取組等
A20: 注）
A21: １．協定期間における取組内容を可能な限り数値を示しつつ、かつ具体的に記載すること。なお、年度ごとに取り組み内容が異なる場合については、漏れなく記載すること。
A22: ２．「地域の振興等への貢献を図るもの」について、イベントへの協力等の実績は、公募公告日より前の２年以内のものに限る。 また、過去の表彰実績を記載する場合は、公募公告日より前の10年以内のものに限ることとする。。
A23: ３．複数樹種に対して申請する場合は、適宜表を追加して記載すること。

Sheet 【別紙様式２ｰ２】共同で申請する理由
A1: 【別紙様式２－２】
A3: ２ 共同で申請する理由
A19: 注）
A20: 共同で生産・販売を希望する場合、その理由を具体的に記載すること。

Sheet 【別紙様式２-３】販売希望単価
A1: 【別紙様式２－３】
A3: ３ コンテナ苗の販売希望単価
A5: 物件番号 | B5: 樹種 | C5: 一本当たり販売希望単価（円）
A6: 第１号 | B6: =IFERROR(VLOOKUP($A6,リスト一覧!$A$2:$C$12,3,FALSE),"") -> カラマツ
A7: 第２号 | B7: =IFERROR(VLOOKUP($A7,リスト一覧!$A$2:$C$12,3,FALSE),"") -> クリーンラーチ
A8: 第３号 | B8: =IFERROR(VLOOKUP($A8,リスト一覧!$A$2:$C$12,3,FALSE),"") -> トドマツ
A9: 第４号 | B9: =IFERROR(VLOOKUP($A9,リスト一覧!$A$2:$C$12,3,FALSE),"") -> カラマツ
A10: 第５号 | B10: =IFERROR(VLOOKUP($A10,リスト一覧!$A$2:$C$12,3,FALSE),"") -> クリーンラーチ
A11: 第６号 | B11: =IFERROR(VLOOKUP($A11,リスト一覧!$A$2:$C$12,3,FALSE),"") -> トドマツ
A12: 第７号 | B12: =IFERROR(VLOOKUP($A12,リスト一覧!$A$2:$C$12,3,FALSE),"") -> カラマツ
A13: 第８号 | B13: =IFERROR(VLOOKUP($A13,リスト一覧!$A$2:$C$12,3,FALSE),"") -> クリーンラーチ
A14: 第９号 | B14: =IFERROR(VLOOKUP($A14,リスト一覧!$A$2:$C$12,3,FALSE),"") -> トドマツ
A15: 注）
A16: １本当たり販売希望単価は公募公告日現在のものとし、消費税抜き金額を記載すること。

Sheet 【別紙様式３】
A2: 【別紙様式３】
F4: コンテナ苗の安定需給協定に係る結果報告書
N6: 令和 | P6: 年 | R6: 月 | T6: 日
A8: 北海道森林管理局長あて
J10: 住所
I11: （代表者） | J11: 商号又は名称
J12: 代表者氏名
J14: 住所
J15: 商号又は名称
J16: 代表者氏名
A18: 注）共同で生産・販売を希望する者については、代表者が他の申請者にかかる企画提案をとりまとめの上、一つの報告書として作成すること。
A20: コンテナ苗の安定需給協定書第４条の規定により、令和〇年〇月〇日に締結した本協定に基づく企画提案内容についての取組状況を下記のとおり報告します。 本報告書の提出に当たっては、虚偽の事実がないことを確約するとともに、本報告書の内容を公表することがあることについて了承します。 なお、本報告書の内容に関する質問等への対応は以下の作成担当者が行います。
J26: 記
A28: １ 協定数量及び販売実績数量【別紙様式３－１】
A29: ２ 企画提案した取組内容の実施状況【別紙様式３－２】
A30: ３ その他【別紙様式３－３】
T34: 以上
E40: 作成担当者 | H40: 会社名 | O40: 連絡先
H41: 役職名 | O41: 氏名

Sheet 【別紙様式３-１】協定・販売数量
A2: 【別紙様式３－１】
A4: １ 協定数量及び販売実績数量等
A6: （１）協定数量及び販売実績数量
A7: 物件番号 | D7: 第○号
A8: 育種区 | D8: ○○
A9: 樹種 | D9: ●●●
A10: 育成容器の容量 | D10: ○○○cc
A11: 苗木規格 | D11: ○号
A12: 協定及び販売数量
B13: 出荷時期 | D13: 協定数量 （本） | E13: 販売数量 （本） | F13: 販売単価 （円/本） | G13: 販売先
B14: 年度 | C14: 時期
B15: 令和 | C15: 春
B16: ○○
B17: 年度 | C17: 小計 | D17: =IF(COUNTIF(D15:D16,"<>")=0,"",SUBTOTAL(9,D15:D16)) | E17: =IF(COUNTIF(E15:E16,"<>")=0,"",SUBTOTAL(9,E15:E16))
C18: 秋
C20: 小計 | D20: =IF(SUBTOTAL(9,D18:D19)=0,"",SUBTOTAL(9,D18:D19)) | E20: =IF(SUBTOTAL(9,E18:E19)=0,"",SUBTOTAL(9,E18:E19))
B21: 合計 | D21: =IF(SUBTOTAL(9,D15:D20)=0,"",SUBTOTAL(9,D15:D20)) | E21: =IF(SUBTOTAL(9,E15:E20)=0,"",SUBTOTAL(9,E15:E20))
B22: 令和 | C22: 春
B23: ○○
B24: 年度 | C24: 小計 | D24: =IF(COUNTIF(D22:D23,"<>")=0,"",SUBTOTAL(9,D22:D23)) | E24: =IF(COUNTIF(E22:E23,"<>")=0,"",SUBTOTAL(9,E22:E23))
C25: 秋
C27: 小計 | D27: =IF(COUNTIF(D25:D26,"<>")=0,"",SUBTOTAL(9,D25:D26)) | E27: =IF(COUNTIF(E25:E26,"<>")=0,"",SUBTOTAL(9,E25:E26))
B28: 合計 | D28: =IF(SUBTOTAL(9,D22:D27)=0,"",SUBTOTAL(9,D22:D27)) | E28: =IF(SUBTOTAL(9,E22:E27)=0,"",SUBTOTAL(9,E22:E27))
A30: 注）
A31: １ 販売単価は消費税抜き金額を記載すること。
A32: ２ 販売先ごとに取引した内容がわかる書類を添付すること。
A33: ３ 記載する販売先が多い場合は、適宜行を追加して記載すること。
A34: ４ 複数物件に対し報告する場合は、適宜表を追加して記載すること。

Sheet 【別紙様式３-１】変更の事由
A2: 【別紙様式３－１】
A4: １ 協定数量及び販売実績数量等
A6: （２）協定と販売実績の内容が異なる場合の事由
A7: 対象物件番号： | E7: 第○号
A20: 注）
A21: １ 「（１）協定数量及び販売数量」において、協定と実績の内容が異なる場合にのみ記載し提出すること。
A22: ２ 複数物件に対し報告する場合は、適宜行を追加して記載すること。

Sheet 【別紙様式３-２】実施状況_カラマツ
A2: 【別紙様式３－２】
A4: １ 企画提案する取組内容
A6: 協定樹種： | B6: カラマツ
A7: 協定物件番号：
A10: 項目 | B10: 取組内容 | C10: 実施状況
A11: ①コンテナ苗の生産にかかるコストの縮減を図るもの | B11: =IF(【別紙様式２ｰ１】企画提案_カラマツ!C10="","",【別紙様式２ｰ１】企画提案_カラマツ!C10)
A12: ②コンテナ苗の出荷方法の効率化を図るもの | B12: =IF(【別紙様式２ｰ１】企画提案_カラマツ!C11="","",【別紙様式２ｰ１】企画提案_カラマツ!C11)
A13: ③資材等の有効利用を図るもの | B13: =IF(【別紙様式２ｰ１】企画提案_カラマツ!C12="","",【別紙様式２ｰ１】企画提案_カラマツ!C12)
A14: ④コンテナ苗の付加価値の向上を図るもの | B14: =IF(【別紙様式２ｰ１】企画提案_カラマツ!C13="","",【別紙様式２ｰ１】企画提案_カラマツ!C13)
A15: ⑤造林の省力化に資するもの | B15: =IF(【別紙様式２ｰ１】企画提案_カラマツ!C14="","",【別紙様式２ｰ１】企画提案_カラマツ!C14)
A16: ⑥新たな技術の開発や販路拡大を図るもの | B16: =IF(【別紙様式２ｰ１】企画提案_カラマツ!C15="","",【別紙様式２ｰ１】企画提案_カラマツ!C15)
A17: ⑦地域の林業等への貢献を図るもの | B17: =IF(【別紙様式２ｰ１】企画提案_カラマツ!C16="","",【別紙様式２ｰ１】企画提案_カラマツ!C16)
A18: ⑧その他地域への貢献を図るもの | B18: =IF(【別紙様式２ｰ１】企画提案_カラマツ!C17="","",【別紙様式２ｰ１】企画提案_カラマツ!C17)
A19: ⑨上記以外に独自で行っている取組等 | B19: =IF(【別紙様式２ｰ１】企画提案_カラマツ!C19="","",【別紙様式２ｰ１】企画提案_カラマツ!C19)
A21: 注）
A22: １ 協定期間終了後に提出すること。
A23: ２ 「取組内容」に企画提案書の内容を転記して、「実施状況」に可能な限り数値を示しつつ、かつ、具体的に取組状況を記載すること。当初の企画提案の内容から追加で実施した取組等についても「実施状況」に記載すること。
A24: ３ 枠の幅を適宜変更して記載すること。
A25: ４ 必要に応じ、別途資料を添付すること。
A26: ５ 複数樹種に対して報告する場合は、適宜表を追加して記載すること。

Sheet 【別紙様式３-２】実施状況_CL
A2: 【別紙様式３－２】
A4: １ 企画提案する取組内容
A6: 協定樹種： | B6: クリーンラーチ
A7: 協定物件番号：
A10: 項目 | B10: 取組内容 | C10: 実施状況
A11: ①コンテナ苗の生産にかかるコストの縮減を図るもの | B11: =IF(【別紙様式２ｰ１】企画提案_CL!C10="","",【別紙様式２ｰ１】企画提案_CL!C10)
A12: ②コンテナ苗の出荷方法の効率化を図るもの | B12: =IF(【別紙様式２ｰ１】企画提案_CL!C11="","",【別紙様式２ｰ１】企画提案_CL!C11)
A13: ③資材等の有効利用を図るもの | B13: =IF(【別紙様式２ｰ１】企画提案_CL!C12="","",【別紙様式２ｰ１】企画提案_CL!C12)
A14: ④コンテナ苗の付加価値の向上を図るもの | B14: =IF(【別紙様式２ｰ１】企画提案_CL!C13="","",【別紙様式２ｰ１】企画提案_CL!C13)
A15: ⑤造林の省力化に資するもの | B15: =IF(【別紙様式２ｰ１】企画提案_CL!C14="","",【別紙様式２ｰ１】企画提案_CL!C14)
A16: ⑥新たな技術の開発や販路拡大を図るもの | B16: =IF(【別紙様式２ｰ１】企画提案_CL!C15="","",【別紙様式２ｰ１】企画提案_CL!C15)
A17: ⑦地域の林業等への貢献を図るもの | B17: =IF(【別紙様式２ｰ１】企画提案_CL!C16="","",【別紙様式２ｰ１】企画提案_CL!C16)
A18: ⑧その他地域への貢献を図るもの | B18: =IF(【別紙様式２ｰ１】企画提案_CL!C17="","",【別紙様式２ｰ１】企画提案_CL!C17)
A19: ⑨上記以外に独自で行っている取組等 | B19: =IF(【別紙様式２ｰ１】企画提案_CL!C19="","",【別紙様式２ｰ１】企画提案_CL!C19)
A21: 注）
A22: １ 協定期間終了後に提出すること。
A23: ２ 「取組内容」に企画提案書の内容を転記して、「実施状況」に可能な限り数値を示しつつ、かつ、具体的に取組状況を記載すること。当初の企画提案の内容から追加で実施した取組等についても「実施状況」に記載すること。
A24: ３ 枠の幅を適宜変更して記載すること。
A25: ４ 必要に応じ、別途資料を添付すること。
A26: ５ 複数樹種に対して報告する場合は、適宜表を追加して記載すること。

Sheet 【別紙様式３-２】実施状況_トドマツ
A2: 【別紙様式３－２】
A4: １ 企画提案する取組内容
A6: 協定樹種： | B6: トドマツ
A7: 協定物件番号：
A10: 項目 | B10: 取組内容 | C10: 実施状況
A11: ①コンテナ苗の生産にかかるコストの縮減を図るもの | B11: =IF(【別紙様式２ｰ１】企画提案_トドマツ!C10="","",【別紙様式２ｰ１】企画提案_トドマツ!C10)
A12: ②コンテナ苗の出荷方法の効率化を図るもの | B12: =IF(【別紙様式２ｰ１】企画提案_トドマツ!C11="","",【別紙様式２ｰ１】企画提案_トドマツ!C11)
A13: ③資材等の有効利用を図るもの | B13: =IF(【別紙様式２ｰ１】企画提案_トドマツ!C12="","",【別紙様式２ｰ１】企画提案_トドマツ!C12)
A14: ④コンテナ苗の付加価値の向上を図るもの | B14: =IF(【別紙様式２ｰ１】企画提案_トドマツ!C13="","",【別紙様式２ｰ１】企画提案_トドマツ!C13)
A15: ⑤造林の省力化に資するもの | B15: =IF(【別紙様式２ｰ１】企画提案_トドマツ!C14="","",【別紙様式２ｰ１】企画提案_トドマツ!C14)
A16: ⑥新たな技術の開発や販路拡大を図るもの | B16: =IF(【別紙様式２ｰ１】企画提案_トドマツ!C15="","",【別紙様式２ｰ１】企画提案_トドマツ!C15)
A17: ⑦地域の林業等への貢献を図るもの | B17: =IF(【別紙様式２ｰ１】企画提案_トドマツ!C16="","",【別紙様式２ｰ１】企画提案_トドマツ!C16)
A18: ⑧その他地域への貢献を図るもの | B18: =IF(【別紙様式２ｰ１】企画提案_トドマツ!C17="","",【別紙様式２ｰ１】企画提案_トドマツ!C17)
A19: ⑨上記以外に独自で行っている取組等 | B19: =IF(【別紙様式２ｰ１】企画提案_トドマツ!C18="","",【別紙様式２ｰ１】企画提案_トドマツ!C18)
A21: 注）
A22: １ 協定期間終了後に提出すること。
A23: ２ 「取組内容」に企画提案書の内容を転記して、「実施状況」に可能な限り数値を示しつつ、かつ、具体的に取組状況を記載すること。当初の企画提案の内容から追加で実施した取組等についても「実施状況」に記載すること。
A24: ３ 枠の幅を適宜変更して記載すること。
A25: ４ 必要に応じ、別途資料を添付すること。
A26: ５ 複数樹種に対して報告する場合は、適宜表を追加して記載すること。

Sheet 【別紙様式３-３】その他
A2: 【別紙様式３－３】
A4: ３ その他
A20: 注）
A21: その他特特記すべき事項があれば記載すること。

Sheet リスト一覧
A1: 令和７年度公募物件一覧
A2: 物件番号 | B2: 育種区 | C2: 樹種 | D2: 育成容器の容量 | E2: 苗木規格
A3: 第○号 | B3: ○○ | C3: ●●● | D3: ○○○cc | E3: ○号
A4: 第１号 | B4: 西南部育種区 | C4: カラマツ | D4: 150cc | E4: １号
A5: 第２号 | B5: 西南部育種区 | C5: クリーンラーチ | D5: 150cc | E5: １号
A6: 第３号 | B6: 西南部育種区 | C6: トドマツ | D6: 300cc | E6: １号
A7: 第４号 | B7: 中部育種区 | C7: カラマツ | D7: 150cc | E7: １号
A8: 第５号 | B8: 中部育種区 | C8: クリーンラーチ | D8: 150cc | E8: １号
A9: 第６号 | B9: 中部育種区 | C9: トドマツ | D9: 300cc | E9: １号
A10: 第７号 | B10: 東部育種区 | C10: カラマツ | D10: 150cc | E10: １号
A11: 第８号 | B11: 東部育種区 | C11: クリーンラーチ | D11: 150cc | E11: １号
A12: 第９号 | B12: 東部育種区 | C12: トドマツ | D12: 300cc | E12: １号
