Workbook

Sheet 基本情報
A1: 契約基本情報
I2: 0500000000001339080000
A3: 物件名： | B3: 令和８年度富山森林管理署庁舎等電力供給業務（単価） | I3: 0500000000001339070000
A5: 番号 | B5: 施設名 | D5: 供給地点特定番号 | F5: 契約内容 | G5: 契約数量
A6: 1 | B6: 富山森林管理署 | D6: 05-0000-0000-0013-3908-0000 | F6: 低圧電力 | G6: 20 | H6: kW
A7: 2 | D7: 05-0000-0000-0013-3907-0000 | F7: 従量電灯 | G7: 35 | H7: kVA
A9: 月別予定仕様電力量 | D9: （単位：kwh）
B10: 年月 | C10: 低圧電力 | D10: 従量電灯
B11: 46113 | C11: 900 | D11: 2710
B12: 46143 | C12: 320 | D12: 2370
B13: 46174 | C13: 900 | D13: 2120
B14: 46204 | C14: 1910 | D14: 2260
B15: 46235 | C15: 2220 | D15: 2310
B16: 46266 | C16: 1120 | D16: 2280
B17: 46296 | C17: 460 | D17: 2500
B18: 46327 | C18: 1890 | D18: 2800
B19: 46357 | C19: 3020 | D19: 3170
B20: 46388 | C20: 3810 | D20: 3290
B21: 46419 | C21: 2460 | D21: 2990
B22: 46447 | C22: 1930 | D22: 2900
B23: 合計 | C23: =SUM(C11:C22) -> 20940 | D23: =SUM(D11:D22) -> 31700

Sheet 見積書
A1: 別紙様式第１号
A2: 見 積 書
I4: 令和 年 月 日
I5: （提出年月日を記載）
B6: 分任支出負担行為担当官
B7: 富山森林管理署長 青野 洋徳 殿
G8: （見積人）
G9: 住 所
G10: 商号又は名称
G11: 代表者氏名
C13: ￥
C15: ただし、令和８年度富山森林管理署庁舎等電力供給業務（単価）の代金
B17: 上記のとおり、中部森林管理局オープンカウンタ―方式実施要領、見積依頼公告及び仕様書等を承知
B18: のうえ、次の添付資料を添え見積します。
B20: ［添付資料］ | H20: （押印を省略する場合は記載すること）
B21: □内訳書 １部 | H21: 部署名：
B22: □競争参加資格審査結果通知書(全省庁統一資格)の写し | H22: 責任者（氏名）：
B23: １部 | H23: 担当者（氏名）：
B24: □電気事業法第２条の２の規定に基づき小売電気事業の | H24: 連絡先１：
B25: 登録を受けていることを証する書類の写し １部 | H25: 連絡先２：
B30: （注意事項）
B31: １ 金額は円単位とし、アラビア数字をもって明記すること。
B32: ２ 記載する金額は、税抜き金額とする。
B33: ３ 本件責任者氏名、担当者氏名及び連絡先２件を記入し、押印を省略することができる。
B34: 責任者と担当者は、別の者を記入することを原則とするが、個人事業者等で担当者及び連絡先が複数ない場
B35: 合は、責任者と担当者に同一の者を記載し、又、連絡先の記載が１件でも構わないものとする。
B36: ４ 押印を省略しない場合は、社印、代表者印を押印すること。
B37: ５ なお、任意の見積書を使用する場合は、中部森林管理局オープンカウンター方式実施要領、見積依頼公告及
B38: び仕様書等発注者が示す条件等を承知のうえ、見積書を提出したものとする。

Sheet 内訳書
A1: 別紙
A2: 内訳書
A4: 契約名： | B4: =+基本情報!B3 -> 令和８年度富山森林管理署庁舎等電力供給業務（単価）
A5: 施設名： | B5: =+基本情報!B6 -> 富山森林管理署
A6: 供給地点特定番号： | C6: （低圧電力） | E6: =+基本情報!D6 -> 05-0000-0000-0013-3908-0000
C7: （従量電灯） | E7: =+基本情報!D7 -> 05-0000-0000-0013-3907-0000
A8: １ 低圧電力
A9: 区 分 ・ 単 位 | G9: 単 価
A10: 基本料金 | C10: 契約電力 | D10: =+基本情報!G6 -> 20 | E10: =+基本情報!H6 -> kW | H10: 円／kw・月
A11: 電力量料金 | C11: 夏季（７月１日～９月３０日） | H11: 円／kw・時
C12: その他季（上記以外の月日） | H12: 円／kw・時 | I12: ※単価は税込みを表示
B14: ①基本料金 （円） | G14: ②電力量料金 （円） | N14: 月額電気
B15: 基本料金 | G15: 夏季月 | J15: その他季月 | M15: ②
A16: 月別 | B16: 契約電力(ａ) | C16: 予定力率 | D16: 単価（ｂ） | E16: 力率調整 | F16: ①金額 | G16: 予定使用 | H16: 単価（ｅ） | I16: 金額 | J16: 予定使用 | K16: 単価（'ｅ） | L16: 金額 | M16: 合計 | N16: 料金
F17: (a)×(ｂ)×(ｃ） | G17: 電力量(ｄ) | I17: （f）=（ｄ）×（ｅ） | J17: 電力量('ｄ) | L17: （'f）=（'ｄ）×（'ｅ） | M17: （f）+（'f） | N17: (①＋②)
B18: （kW） | C18: （%） | D18: （円/kW） | E18: （ｃ） | F18: （円） | G18: （kWh） | H18: （円/kWh） | I18: （円） | J18: （kWh） | K18: （円/kWh） | L18: （円） | M18: （円） | N18: （円）
A19: =+基本情報!B11 -> 46113 | B19: =+基本情報!$G$6 -> 20 | C19: 100 | D19: =+G10 -> 0 | E19: 1 | F19: =ROUNDDOWN(B19*D19*E19,2) -> 0 | J19: =+基本情報!C11 -> 900 | K19: =$G$12 -> 0 | L19: =ROUNDDOWN(J19*K19,2) -> 0 | M19: =I19+L19 -> 0 | N19: =ROUNDDOWN(F19+M19,0) -> 0
A20: =+基本情報!B12 -> 46143 | B20: =+基本情報!$G$6 -> 20 | C20: =+$C$19 -> 100 | D20: =$G$10 -> 0 | E20: =+$E$19 -> 1 | F20: =ROUNDDOWN(B20*D20*E20,2) -> 0 | J20: =+基本情報!C12 -> 320 | K20: =$G$12 -> 0 | L20: =ROUNDDOWN(J20*K20,2) -> 0 | M20: =I20+L20 -> 0 | N20: =ROUNDDOWN(F20+M20,0) -> 0
A21: =+基本情報!B13 -> 46174 | B21: =+基本情報!$G$6 -> 20 | C21: =+$C$19 -> 100 | D21: =$G$10 -> 0 | E21: =+$E$19 -> 1 | F21: =ROUNDDOWN(B21*D21*E21,2) -> 0 | J21: =+基本情報!C13 -> 900 | K21: =$G$12 -> 0 | L21: =ROUNDDOWN(J21*K21,2) -> 0 | M21: =I21+L21 -> 0 | N21: =ROUNDDOWN(F21+M21,0) -> 0
A22: =+基本情報!B14 -> 46204 | B22: =+基本情報!$G$6 -> 20 | C22: =+$C$19 -> 100 | D22: =$G$10 -> 0 | E22: =+$E$19 -> 1 | F22: =ROUNDDOWN(B22*D22*E22,2) -> 0 | G22: =+基本情報!C14 -> 1910 | H22: =$G$11 -> 0 | I22: =ROUNDDOWN(G22*H22,2) -> 0 | M22: =I22+L22 -> 0 | N22: =ROUNDDOWN(F22+M22,0) -> 0
A23: =+基本情報!B15 -> 46235 | B23: =+基本情報!$G$6 -> 20 | C23: =+$C$19 -> 100 | D23: =$G$10 -> 0 | E23: =+$E$19 -> 1 | F23: =ROUNDDOWN(B23*D23*E23,2) -> 0 | G23: =+基本情報!C15 -> 2220 | H23: =$G$11 -> 0 | I23: =ROUNDDOWN(G23*H23,2) -> 0 | M23: =I23+L23 -> 0 | N23: =ROUNDDOWN(F23+M23,0) -> 0
A24: =+基本情報!B16 -> 46266 | B24: =+基本情報!$G$6 -> 20 | C24: =+$C$19 -> 100 | D24: =$G$10 -> 0 | E24: =+$E$19 -> 1 | F24: =ROUNDDOWN(B24*D24*E24,2) -> 0 | G24: =+基本情報!C16 -> 1120 | H24: =$G$11 -> 0 | I24: =ROUNDDOWN(G24*H24,2) -> 0 | M24: =I24+L24 -> 0 | N24: =ROUNDDOWN(F24+M24,0) -> 0
A25: =+基本情報!B17 -> 46296 | B25: =+基本情報!$G$6 -> 20 | C25: =+$C$19 -> 100 | D25: =$G$10 -> 0 | E25: =+$E$19 -> 1 | F25: =ROUNDDOWN(B25*D25*E25,2) -> 0 | J25: =+基本情報!C17 -> 460 | K25: =$G$12 -> 0 | L25: =ROUNDDOWN(J25*K25,2) -> 0 | M25: =I25+L25 -> 0 | N25: =ROUNDDOWN(F25+M25,0) -> 0
A26: =+基本情報!B18 -> 46327 | B26: =+基本情報!$G$6 -> 20 | C26: =+$C$19 -> 100 | D26: =$G$10 -> 0 | E26: =+$E$19 -> 1 | F26: =ROUNDDOWN(B26*D26*E26,2) -> 0 | J26: =+基本情報!C18 -> 1890 | K26: =$G$12 -> 0 | L26: =ROUNDDOWN(J26*K26,2) -> 0 | M26: =I26+L26 -> 0 | N26: =ROUNDDOWN(F26+M26,0) -> 0
A27: =+基本情報!B19 -> 46357 | B27: =+基本情報!$G$6 -> 20 | C27: =+$C$19 -> 100 | D27: =$G$10 -> 0 | E27: =+$E$19 -> 1 | F27: =ROUNDDOWN(B27*D27*E27,2) -> 0 | J27: =+基本情報!C19 -> 3020 | K27: =$G$12 -> 0 | L27: =ROUNDDOWN(J27*K27,2) -> 0 | M27: =I27+L27 -> 0 | N27: =ROUNDDOWN(F27+M27,0) -> 0
A28: =+基本情報!B20 -> 46388 | B28: =+基本情報!$G$6 -> 20 | C28: =+$C$19 -> 100 | D28: =$G$10 -> 0 | E28: =+$E$19 -> 1 | F28: =ROUNDDOWN(B28*D28*E28,2) -> 0 | J28: =+基本情報!C20 -> 3810 | K28: =$G$12 -> 0 | L28: =ROUNDDOWN(J28*K28,2) -> 0 | M28: =I28+L28 -> 0 | N28: =ROUNDDOWN(F28+M28,0) -> 0
A29: =+基本情報!B21 -> 46419 | B29: =+基本情報!$G$6 -> 20 | C29: =+$C$19 -> 100 | D29: =$G$10 -> 0 | E29: =+$E$19 -> 1 | F29: =ROUNDDOWN(B29*D29*E29,2) -> 0 | J29: =+基本情報!C21 -> 2460 | K29: =$G$12 -> 0 | L29: =ROUNDDOWN(J29*K29,2) -> 0 | M29: =I29+L29 -> 0 | N29: =ROUNDDOWN(F29+M29,0) -> 0
A30: =+基本情報!B22 -> 46447 | B30: =+基本情報!$G$6 -> 20 | C30: =+$C$19 -> 100 | D30: =$G$10 -> 0 | E30: =+$E$19 -> 1 | F30: =ROUNDDOWN(B30*D30*E30,2) -> 0 | J30: =+基本情報!C22 -> 1930 | K30: =$G$12 -> 0 | L30: =ROUNDDOWN(J30*K30,2) -> 0 | M30: =I30+L30 -> 0 | N30: =ROUNDDOWN(F30+M30,0) -> 0
A31: 合計 | B31: － | D31: － | E31: － | F31: =SUM(F19:F30) -> 0 | G31: =SUM(G19:G30) -> 5250 | H31: － | I31: =SUM(I19:I30) -> 0 | J31: =SUM(J19:J30) -> 15690 | K31: － | L31: =SUM(L19:L30) -> 0 | M31: =SUM(M19:M30) -> 0 | N31: =SUM(N19:N30) -> 0
L32: （B)消費税及び地方消費税額 | N32: =N31-N33 -> 0
L33: （A）税抜き金額 | N33: =ROUNDUP(N31/1.1,0) -> 0
A35: ２ 従量電灯（Ｃ）
A36: 区 分 ・ 単 位 | G36: 単 価
A37: 基本料金 | C37: 契約電力 | D37: =+基本情報!G7 -> 35 | E37: =+基本情報!H7 -> kVA | H37: 円／kVA・月
A38: 電力量料金 | C38: 最低月額料金 | H38: 円／月
C39: 最初の１２０kWhまで | H39: 円／kw・時
C40: １２０kＷhこえ３００kＷhまで | H40: 円／kw・時
C41: ３００kＷhをこえる分 | H41: 円／kw・時 | I41: ※単価は税込みを表示
B43: ①基本料金 （円） | E43: ②電力量料金 （円） | M43: 月額電気
A44: 月別 | B44: 契約電力(ａ) | C44: 基本料金 | D44: ①金額 | E44: 予定使用 | F44: 予定使用 | G44: 最低 月額料金 | H44: 最初の120kWhまで | I44: 120kＷhこえ300kＷhまで | J44: 300kＷhを こえる分 | K44: ②金額 | M44: 料金
...

Sheet 記載例
A1: 見積価格内訳書（記載例：１施設）
A3: 契約名： | B3: 令和８年度富山森林管理署庁舎等電力供給業務（単価） | J3: 所在地 | K3: 長野県長野市大字栗田○○○－○
A4: 施設名： | B4: 富山森林管理署 | J4: 会社名 | K4: 株式会社 ○○○○
A5: 供給地点特定番号： | C5: （低圧電力） | E5: =+基本情報!D6 -> 05-0000-0000-0013-3908-0000 | J5: 代表者氏名 | K5: 代表取締役 ○○ ○○
C6: （従量電灯） | E6: =+基本情報!D7 -> 05-0000-0000-0013-3907-0000
A7: １ 低圧電力
A8: 区 分 ・ 単 位 | G8: 単 価
A9: 基本料金 | C9: 契約電力 | D9: =+基本情報!G6 -> 20 | E9: kW | G9: 1200 | H9: 円／kw・月
A10: 電力量料金 | C10: 夏季（７月１日～９月３０日） | G10: 16 | H10: 円／kw・時
C11: その他季（上記以外の月日） | G11: 15 | H11: 円／kw・時
I12: ※単価は税込みを表示
B13: ①基本料金 （円） | G13: ②電力量料金 （円） | N13: 月額電気
B14: 基本料金 | G14: 夏季月 | J14: その他季月 | M14: ②
A15: 月別 | B15: 契約電力(ａ) | C15: 予定力率 | D15: 単価（ｂ） | E15: 力率調整 | F15: ①金額 | G15: 予定使用 | H15: 単価（ｅ） | I15: 金額 | J15: 予定使用 | K15: 単価（'ｅ） | L15: 金額 | M15: 合計 | N15: 料金
F16: (a)×(ｂ)×(ｃ） | G16: 電力量(ｄ) | I16: （f）=（ｄ）×（ｅ） | J16: 電力量('ｄ) | L16: （'f）=（'ｄ）×（'ｅ） | M16: （f）+（'f） | N16: (①＋②)
B17: （kW） | C17: （%） | D17: （円/kW） | E17: （ｃ） | F17: （円） | G17: （kWh） | H17: （円/kWh） | I17: （円） | J17: （kWh） | K17: （円/kWh） | L17: （円） | M17: （円） | N17: （円）
A18: =+基本情報!B11 -> 46113 | B18: 20 | C18: 80 | D18: =+G9 -> 1200 | E18: 1 | F18: =ROUNDDOWN(B18*D18*E18,2) -> 24000 | J18: =+基本情報!C11 -> 900 | K18: =+G11 -> 15 | L18: =ROUNDDOWN(J18*K18,2) -> 13500 | M18: =I18+L18 -> 13500 | N18: =ROUNDDOWN(F18+M18,0) -> 37500
A19: =+基本情報!B12 -> 46143 | B19: =$B$18 -> 20 | C19: =$C$18 -> 80 | D19: =$D$18 -> 1200 | E19: =$E$18 -> 1 | F19: =ROUNDDOWN(B19*D19*E19,2) -> 24000 | J19: =+基本情報!C12 -> 320 | K19: =$K$18 -> 15 | L19: =ROUNDDOWN(J19*K19,2) -> 4800 | M19: =I19+L19 -> 4800 | N19: =ROUNDDOWN(F19+M19,0) -> 28800
A20: =+基本情報!B13 -> 46174 | B20: =$B$18 -> 20 | C20: =$C$18 -> 80 | D20: =$D$18 -> 1200 | E20: =$E$18 -> 1 | F20: =ROUNDDOWN(B20*D20*E20,2) -> 24000 | J20: =+基本情報!C13 -> 900 | K20: =$K$18 -> 15 | L20: =ROUNDDOWN(J20*K20,2) -> 13500 | M20: =I20+L20 -> 13500 | N20: =ROUNDDOWN(F20+M20,0) -> 37500
A21: =+基本情報!B14 -> 46204 | B21: =$B$18 -> 20 | C21: =$C$18 -> 80 | D21: =$D$18 -> 1200 | E21: =$E$18 -> 1 | F21: =ROUNDDOWN(B21*D21*E21,2) -> 24000 | G21: =+基本情報!C14 -> 1910 | H21: =+G10 -> 16 | I21: =ROUNDDOWN(G21*H21,2) -> 30560 | M21: =I21+L21 -> 30560 | N21: =ROUNDDOWN(F21+M21,0) -> 54560
A22: =+基本情報!B15 -> 46235 | B22: =$B$18 -> 20 | C22: =$C$18 -> 80 | D22: =$D$18 -> 1200 | E22: =$E$18 -> 1 | F22: =ROUNDDOWN(B22*D22*E22,2) -> 24000 | G22: =+基本情報!C15 -> 2220 | H22: =$H$21 -> 16 | I22: =ROUNDDOWN(G22*H22,2) -> 35520 | M22: =I22+L22 -> 35520 | N22: =ROUNDDOWN(F22+M22,0) -> 59520
A23: =+基本情報!B16 -> 46266 | B23: =$B$18 -> 20 | C23: =$C$18 -> 80 | D23: =$D$18 -> 1200 | E23: =$E$18 -> 1 | F23: =ROUNDDOWN(B23*D23*E23,2) -> 24000 | G23: =+基本情報!C16 -> 1120 | H23: =$H$21 -> 16 | I23: =ROUNDDOWN(G23*H23,2) -> 17920 | M23: =I23+L23 -> 17920 | N23: =ROUNDDOWN(F23+M23,0) -> 41920
A24: =+基本情報!B17 -> 46296 | B24: =$B$18 -> 20 | C24: =$C$18 -> 80 | D24: =$D$18 -> 1200 | E24: =$E$18 -> 1 | F24: =ROUNDDOWN(B24*D24*E24,2) -> 24000 | J24: =+基本情報!C17 -> 460 | K24: =$K$18 -> 15 | L24: =ROUNDDOWN(J24*K24,2) -> 6900 | M24: =I24+L24 -> 6900 | N24: =ROUNDDOWN(F24+M24,0) -> 30900
A25: =+基本情報!B18 -> 46327 | B25: =$B$18 -> 20 | C25: =$C$18 -> 80 | D25: =$D$18 -> 1200 | E25: =$E$18 -> 1 | F25: =ROUNDDOWN(B25*D25*E25,2) -> 24000 | J25: =+基本情報!C18 -> 1890 | K25: =$K$18 -> 15 | L25: =ROUNDDOWN(J25*K25,2) -> 28350 | M25: =I25+L25 -> 28350 | N25: =ROUNDDOWN(F25+M25,0) -> 52350
A26: =+基本情報!B19 -> 46357 | B26: =$B$18 -> 20 | C26: =$C$18 -> 80 | D26: =$D$18 -> 1200 | E26: =$E$18 -> 1 | F26: =ROUNDDOWN(B26*D26*E26,2) -> 24000 | J26: =+基本情報!C19 -> 3020 | K26: =$K$18 -> 15 | L26: =ROUNDDOWN(J26*K26,2) -> 45300 | M26: =I26+L26 -> 45300 | N26: =ROUNDDOWN(F26+M26,0) -> 69300
A27: =+基本情報!B20 -> 46388 | B27: =$B$18 -> 20 | C27: =$C$18 -> 80 | D27: =$D$18 -> 1200 | E27: =$E$18 -> 1 | F27: =ROUNDDOWN(B27*D27*E27,2) -> 24000 | J27: =+基本情報!C20 -> 3810 | K27: =$K$18 -> 15 | L27: =ROUNDDOWN(J27*K27,2) -> 57150 | M27: =I27+L27 -> 57150 | N27: =ROUNDDOWN(F27+M27,0) -> 81150
A28: =+基本情報!B21 -> 46419 | B28: =$B$18 -> 20 | C28: =$C$18 -> 80 | D28: =$D$18 -> 1200 | E28: =$E$18 -> 1 | F28: =ROUNDDOWN(B28*D28*E28,2) -> 24000 | J28: =+基本情報!C21 -> 2460 | K28: =$K$18 -> 15 | L28: =ROUNDDOWN(J28*K28,2) -> 36900 | M28: =I28+L28 -> 36900 | N28: =ROUNDDOWN(F28+M28,0) -> 60900
A29: =+基本情報!B22 -> 46447 | B29: =$B$18 -> 20 | C29: =$C$18 -> 80 | D29: =$D$18 -> 1200 | E29: =$E$18 -> 1 | F29: =ROUNDDOWN(B29*D29*E29,2) -> 24000 | J29: =+基本情報!C22 -> 1930 | K29: =$K$18 -> 15 | L29: =ROUNDDOWN(J29*K29,2) -> 28950 | M29: =I29+L29 -> 28950 | N29: =ROUNDDOWN(F29+M29,0) -> 52950
A30: 合計 | B30: － | D30: － | E30: － | F30: =SUM(F18:F29) -> 288000 | G30: =SUM(G18:G29) -> 5250 | H30: － | I30: =SUM(I18:I29) -> 84000 | J30: =SUM(J18:J29) -> 15690 | K30: － | L30: =SUM(L18:L29) -> 235350 | M30: =SUM(M18:M29) -> 319350 | N30: =SUM(N18:N29) -> 607350
L31: （B)消費税及び地方消費税額 | N31: =N30-N32 -> 44988
L32: （A）税抜き金額 | N32: =ROUNDUP(N30/1.08,0) -> 562362
A34: ２ 従量電灯Ａ／Ｂ／Ｃ
A35: 区 分 ・ 単 位 | G35: 単 価
A36: 基本料金 | C36: 契約電力 | G36: 500 | H36: 円／月
A37: 電力量料金 | C37: 最低月額料金 | G37: 250 | H37: 円／月
C38: 最初の１２０kWhまで | G38: 20 | H38: 円／kw・時
C39: １２０kＷhこえ３００kＷhまで | G39: 25 | H39: 円／kw・時
C40: ３００kＷhをこえる分 | G40: 28 | H40: 円／kw・時 | I40: ※単価は税込みを表示
B42: ①基本料金 （円） | E42: ②電力量料金 （円） | M42: 月額電気
A43: 月別 | B43: 契約電力(ａ) | C43: 基本料金 | D43: ①金額 | E43: 予定使用 | F43: 予定使用 | G43: 最低 月額料金 | H43: 最初の120kWhまで | I43: 120kＷhこえ300kＷhまで | J43: 300kＷhを こえる分 | K43: ②金額 | M43: 料金
...
