Workbook

Sheet 基本情報
A1: 契約基本情報
I2: 0500000000001339080000
A3: 物件名： | B3: 令和８年度富山森林管理署庁舎等電力供給業務（単価） | I3: 0500000000001339070000
A5: 番号 | B5: 施設名 | D5: 供給地点特定番号 | F5: 契約内容 | G5: 契約数量
A6: 1 | B6: 富山森林管理署 | D6: 05-0000-0000-0013-3908-0000 | F6: 低圧電力 | G6: 20 | H6: kW
A7: 2 | D7: 05-0000-0000-0013-3907-0000 | F7: 従量電灯 | G7: 35 | H7: kVA
A9: 月別予定仕様電力量 | D9: （単位：kwh）
B10: 年月 | C10: 低圧電力 | D10: 従量電灯
B11: 46113 | C11: 900 | D11: 2710
B12: 46143 | C12: 320 | D12: 2370
B13: 46174 | C13: 900 | D13: 2120
B14: 46204 | C14: 1910 | D14: 2260
B15: 46235 | C15: 2220 | D15: 2310
B16: 46266 | C16: 1120 | D16: 2280
B17: 46296 | C17: 460 | D17: 2500
B18: 46327 | C18: 1890 | D18: 2800
B19: 46357 | C19: 3020 | D19: 3170
B20: 46388 | C20: 3810 | D20: 3290
B21: 46419 | C21: 2460 | D21: 2990
B22: 46447 | C22: 1930 | D22: 2900
B23: 合計 | C23: =SUM(C11:C22) -> 20940 | D23: =SUM(D11:D22) -> 31700

Sheet 見積書
A1: 別紙様式第１号
A2: 見 積 書
I4: 令和 年 月 日
I5: （提出年月日を記載）
B6: 分任支出負担行為担当官
B7: 富山森林管理署長 青野 洋徳 殿
G8: （見積人）
G9: 住 所
G10: 商号又は名称
G11: 代表者氏名
C13: ￥
C15: ただし、令和８年度富山森林管理署庁舎等電力供給業務（単価）の代金
B17: 上記のとおり、中部森林管理局オープンカウンタ―方式実施要領、見積依頼公告及び仕様書等を承知
B18: のうえ、次の添付資料を添え見積します。
B20: ［添付資料］ | H20: （押印を省略する場合は記載すること）
B21: □内訳書 １部 | H21: 部署名：
B22: □競争参加資格審査結果通知書(全省庁統一資格)の写し | H22: 責任者（氏名）：
B23: １部 | H23: 担当者（氏名）：
B24: □電気事業法第２条の２の規定に基づき小売電気事業の | H24: 連絡先１：
B25: 登録を受けていることを証する書類の写し １部 | H25: 連絡先２：
B30: （注意事項）
B31: １ 金額は円単位とし、アラビア数字をもって明記すること。
B32: ２ 記載する金額は、税抜き金額とする。
B33: ３ 本件責任者氏名、担当者氏名及び連絡先２件を記入し、押印を省略することができる。
B34: 責任者と担当者は、別の者を記入することを原則とするが、個人事業者等で担当者及び連絡先が複数ない場
B35: 合は、責任者と担当者に同一の者を記載し、又、連絡先の記載が１件でも構わないものとする。
B36: ４ 押印を省略しない場合は、社印、代表者印を押印すること。
B37: ５ なお、任意の見積書を使用する場合は、中部森林管理局オープンカウンター方式実施要領、見積依頼公告及
B38: び仕様書等発注者が示す条件等を承知のうえ、見積書を提出したものとする。

Sheet 内訳書
A1: 別紙
A2: 内訳書
A4: 契約名： | B4: =+基本情報!B3 -> 令和８年度富山森林管理署庁舎等電力供給業務（単価）
A5: 施設名： | B5: =+基本情報!B6 -> 富山森林管理署
A6: 供給地点特定番号： | C6: （低圧電力） | E6: =+基本情報!D6 -> 05-0000-0000-0013-3908-0000
C7: （従量電灯） | E7: =+基本情報!D7 -> 05-0000-0000-0013-3907-0000
A8: １ 低圧電力
A9: 区 分 ・ 単 位 | G9: 単 価
A10: 基本料金 | C10: 契約電力 | D10: =+基本情報!G6 -> 20 | E10: =+基本情報!H6 -> kW | H10: 円／kw・月
A11: 電力量料金 | C11: 夏季（７月１日～９月３０日） | H11: 円／kw・時
C12: その他季（上記以外の月日） | H12: 円／kw・時 | I12: ※単価は税込みを表示
B14: ①基本料金 （円） | G14: ②電力量料金 （円） | N14: 月額電気
B15: 基本料金 | G15: 夏季月 | J15: その他季月 | M15: ②
A16: 月別 | B16: 契約電力(ａ) | C16: 予定力率 | D16: 単価（ｂ） | E16: 力率調整 | F16: ①金額 | G16: 予定使用 | H16: 単価（ｅ） | I16: 金額 | J16: 予定使用 | K16: 単価（'ｅ） | L16: 金額 | M16: 合計 | N16: 料金
F17: (a)×(ｂ)×(ｃ） | G17: 電力量(ｄ) | I17: （f）=（ｄ）×（ｅ） | J17: 電力量('ｄ) | L17: （'f）=（'ｄ）×（'ｅ） | M17: （f）+（'f） | N17: (①＋②)
B18: （kW） | C18: （%） | D18: （円/kW） | E18: （ｃ） | F18: （円） | G18: （kWh） | H18: （円/kWh） | I18: （円） | J18: （kWh） | K18: （円/kWh） | L18: （円） | M18: （円） | N18: （円）
A19: =+基本情報!B11 -> 46113 | B19: =+基本情報!$G$6 -> 20 | C19: 100 | D19: =+G10 -> 0 | E19: 1 | F19: =ROUNDDOWN(B19*D19*E19,2) -> 0 | J19: =+基本情報!C11 -> 900 | K19: =$G$12 -> 0 | L19: =ROUNDDOWN(J19*K19,2) -> 0 | M19: =I19+L19 -> 0 | N19: =ROUNDDOWN(F19+M19,0) -> 0
A20: =+基本情報!B12 -> 46143 | B20: =+基本情報!$G$6 -> 20 | C20: =+$C$19 -> 100 | D20: =$G$10 -> 0 | E20: =+$E$19 -> 1 | F20: =ROUNDDOWN(B20*D20*E20,2) -> 0 | J20: =+基本情報!C12 -> 320 | K20: =$G$12 -> 0 | L20: =ROUNDDOWN(J20*K20,2) -> 0 | M20: =I20+L20 -> 0 | N20: =ROUNDDOWN(F20+M20,0) -> 0
A21: =+基本情報!B13 -> 46174 | B21: =+基本情報!$G$6 -> 20 | C21: =+$C$19 -> 100 | D21: =$G$10 -> 0 | E21: =+$E$19 -> 1 | F21: =ROUNDDOWN(B21*D21*E21,2) -> 0 | J21: =+基本情報!C13 -> 900 | K21: =$G$12 -> 0 | L21: =ROUNDDOWN(J21*K21,2) -> 0 | M21: =I21+L21 -> 0 | N21: =ROUNDDOWN(F21+M21,0) -> 0
A22: =+基本情報!B14 -> 46204 | B22: =+基本情報!$G$6 -> 20 | C22: =+$C$19 -> 100 | D22: =$G$10 -> 0 | E22: =+$E$19 -> 1 | F22: =ROUNDDOWN(B22*D22*E22,2) -> 0 | G22: =+基本情報!C14 -> 1910 | H22: =$G$11 -> 0 | I22: =ROUNDDOWN(G22*H22,2) -> 0 | M22: =I22+L22 -> 0 | N22: =ROUNDDOWN(F22+M22,0) -> 0
A23: =+基本情報!B15 -> 46235 | B23: =+基本情報!$G$6 -> 20 | C23: =+$C$19 -> 100 | D23: =$G$10 -> 0 | E23: =+$E$19 -> 1 | F23: =ROUNDDOWN(B23*D23*E23,2) -> 0 | G23: =+基本情報!C15 -> 2220 | H23: =$G$11 -> 0 | I23: =ROUNDDOWN(G23*H23,2) -> 0 | M23: =I23+L23 -> 0 | N23: =ROUNDDOWN(F23+M23,0) -> 0
A24: =+基本情報!B16 -> 46266 | B24: =+基本情報!$G$6 -> 20 | C24: =+$C$19 -> 100 | D24: =$G$10 -> 0 | E24: =+$E$19 -> 1 | F24: =ROUNDDOWN(B24*D24*E24,2) -> 0 | G24: =+基本情報!C16 -> 1120 | H24: =$G$11 -> 0 | I24: =ROUNDDOWN(G24*H24,2) -> 0 | M24: =I24+L24 -> 0 | N24: =ROUNDDOWN(F24+M24,0) -> 0
A25: =+基本情報!B17 -> 46296 | B25: =+基本情報!$G$6 -> 20 | C25: =+$C$19 -> 100 | D25: =$G$10 -> 0 | E25: =+$E$19 -> 1 | F25: =ROUNDDOWN(B25*D25*E25,2) -> 0 | J25: =+基本情報!C17 -> 460 | K25: =$G$12 -> 0 | L25: =ROUNDDOWN(J25*K25,2) -> 0 | M25: =I25+L25 -> 0 | N25: =ROUNDDOWN(F25+M25,0) -> 0
A26: =+基本情報!B18 -> 46327 | B26: =+基本情報!$G$6 -> 20 | C26: =+$C$19 -> 100 | D26: =$G$10 -> 0 | E26: =+$E$19 -> 1 | F26: =ROUNDDOWN(B26*D26*E26,2) -> 0 | J26: =+基本情報!C18 -> 1890 | K26: =$G$12 -> 0 | L26: =ROUNDDOWN(J26*K26,2) -> 0 | M26: =I26+L26 -> 0 | N26: =ROUNDDOWN(F26+M26,0) -> 0
A27: =+基本情報!B19 -> 46357 | B27: =+基本情報!$G$6 -> 20 | C27: =+$C$19 -> 100 | D27: =$G$10 -> 0 | E27: =+$E$19 -> 1 | F27: =ROUNDDOWN(B27*D27*E27,2) -> 0 | J27: =+基本情報!C19 -> 3020 | K27: =$G$12 -> 0 | L27: =ROUNDDOWN(J27*K27,2) -> 0 | M27: =I27+L27 -> 0 | N27: =ROUNDDOWN(F27+M27,0) -> 0
A28: =+基本情報!B20 -> 46388 | B28: =+基本情報!$G$6 -> 20 | C28: =+$C$19 -> 100 | D28: =$G$10 -> 0 | E28: =+$E$19 -> 1 | F28: =ROUNDDOWN(B28*D28*E28,2) -> 0 | J28: =+基本情報!C20 -> 3810 | K28: =$G$12 -> 0 | L28: =ROUNDDOWN(J28*K28,2) -> 0 | M28: =I28+L28 -> 0 | N28: =ROUNDDOWN(F28+M28,0) -> 0
A29: =+基本情報!B21 -> 46419 | B29: =+基本情報!$G$6 -> 20 | C29: =+$C$19 -> 100 | D29: =$G$10 -> 0 | E29: =+$E$19 -> 1 | F29: =ROUNDDOWN(B29*D29*E29,2) -> 0 | J29: =+基本情報!C21 -> 2460 | K29: =$G$12 -> 0 | L29: =ROUNDDOWN(J29*K29,2) -> 0 | M29: =I29+L29 -> 0 | N29: =ROUNDDOWN(F29+M29,0) -> 0
A30: =+基本情報!B22 -> 46447 | B30: =+基本情報!$G$6 -> 20 | C30: =+$C$19 -> 100 | D30: =$G$10 -> 0 | E30: =+$E$19 -> 1 | F30: =ROUNDDOWN(B30*D30*E30,2) -> 0 | J30: =+基本情報!C22 -> 1930 | K30: =$G$12 -> 0 | L30: =ROUNDDOWN(J30*K30,2) -> 0 | M30: =I30+L30 -> 0 | N30: =ROUNDDOWN(F30+M30,0) -> 0
A31: 合計 | B31: － | D31: － | E31: － | F31: =SUM(F19:F30) -> 0 | G31: =SUM(G19:G30) -> 5250 | H31: － | I31: =SUM(I19:I30) -> 0 | J31: =SUM(J19:J30) -> 15690 | K31: － | L31: =SUM(L19:L30) -> 0 | M31: =SUM(M19:M30) -> 0 | N31: =SUM(N19:N30) -> 0
L32: （B)消費税及び地方消費税額 | N32: =N31-N33 -> 0
L33: （A）税抜き金額 | N33: =ROUNDUP(N31/1.1,0) -> 0
A35: ２ 従量電灯（Ｃ）
A36: 区 分 ・ 単 位 | G36: 単 価
A37: 基本料金 | C37: 契約電力 | D37: =+基本情報!G7 -> 35 | E37: =+基本情報!H7 -> kVA | H37: 円／kVA・月
A38: 電力量料金 | C38: 最低月額料金 | H38: 円／月
C39: 最初の１２０kWhまで | H39: 円／kw・時
C40: １２０kＷhこえ３００kＷhまで | H40: 円／kw・時
C41: ３００kＷhをこえる分 | H41: 円／kw・時 | I41: ※単価は税込みを表示
B43: ①基本料金 （円） | E43: ②電力量料金 （円） | M43: 月額電気
A44: 月別 | B44: 契約電力(ａ) | C44: 基本料金 | D44: ①金額 | E44: 予定使用 | F44: 予定使用 | G44: 最低 月額料金 | H44: 最初の120kWhまで | I44: 120kＷhこえ300kＷhまで | J44: 300kＷhを こえる分 | K44: ②金額 | M44: 料金
D45: (A)×(B) | E45: 電力量(ｄ) | F45: 電力量(ｄ) | K45: （C）＋（Ｄ）＋(Ｅ)＋(F) | M45: (①＋②)
B46: （Ａ） | C46: (B) | D46: （円） | E46: （kWh） | F46: （kWh） | G46: (C) | H46: (D) | I46: ( E ) | J46: (F) | K46: （円） | M46: （円）
A47: =+基本情報!B11 -> 46113 | B47: =+基本情報!$G$7 -> 35 | C47: =+$G$37 -> 0 | D47: =ROUNDDOWN(B47*C47,2) -> 0 | E47: =+基本情報!D11 -> 2710 | F47: 0 | G47: =ROUNDDOWN(F47*$G$38,2) -> 0 | K47: =SUM(G47:J50) -> 0 | M47: =ROUNDDOWN(D47+K47,0) -> 0
F48: 120 | H48: =ROUNDDOWN(F48*$G$39,2) -> 0
F49: 180 | I49: =ROUNDDOWN(F49*$G$40,2) -> 0
F50: =+E47-F49-F48-F47 -> 2410 | J50: =ROUNDDOWN(F50*$G$41,2) -> 0
A51: =+基本情報!B12 -> 46143 | B51: =+基本情報!$G$7 -> 35 | C51: =+$G$37 -> 0 | D51: =ROUNDDOWN(B51*C51,2) -> 0 | E51: =+基本情報!D12 -> 2370 | F51: 0 | G51: =ROUNDDOWN(F51*$G$38,2) -> 0 | K51: =SUM(G51:J54) -> 0 | M51: =ROUNDDOWN(D51+K51,0) -> 0
F52: 120 | H52: =ROUNDDOWN(F52*$G$39,2) -> 0
F53: 180 | I53: =ROUNDDOWN(F53*$G$40,2) -> 0
F54: =+E51-F53-F52-F51 -> 2070 | J54: =ROUNDDOWN(F54*$G$41,2) -> 0
A55: =+基本情報!B13 -> 46174 | B55: =+基本情報!$G$7 -> 35 | C55: =+$G$37 -> 0 | D55: =ROUNDDOWN(B55*C55,2) -> 0 | E55: =+基本情報!D13 -> 2120 | F55: 0 | G55: =ROUNDDOWN(F55*$G$38,2) -> 0 | K55: =SUM(G55:J58) -> 0 | M55: =ROUNDDOWN(D55+K55,0) -> 0
F56: 120 | H56: =ROUNDDOWN(F56*$G$39,2) -> 0
F57: 180 | I57: =ROUNDDOWN(F57*$G$40,2) -> 0
F58: =+E55-F57-F56-F55 -> 1820 | J58: =ROUNDDOWN(F58*$G$41,2) -> 0
A59: =+基本情報!B14 -> 46204 | B59: =+基本情報!$G$7 -> 35 | C59: =+$G$37 -> 0 | D59: =ROUNDDOWN(B59*C59,2) -> 0 | E59: =+基本情報!D14 -> 2260 | F59: 0 | G59: =ROUNDDOWN(F59*$G$38,2) -> 0 | K59: =SUM(G59:J62) -> 0 | M59: =ROUNDDOWN(D59+K59,0) -> 0
F60: 120 | H60: =ROUNDDOWN(F60*$G$39,2) -> 0
F61: 180 | I61: =ROUNDDOWN(F61*$G$40,2) -> 0
F62: =+E59-F61-F60-F59 -> 1960 | J62: =ROUNDDOWN(F62*$G$41,2) -> 0
A63: =+基本情報!B15 -> 46235 | B63: =+基本情報!$G$7 -> 35 | C63: =+$G$37 -> 0 | D63: =ROUNDDOWN(B63*C63,2) -> 0 | E63: =+基本情報!D15 -> 2310 | F63: 0 | G63: =ROUNDDOWN(F63*$G$38,2) -> 0 | K63: =SUM(G63:J66) -> 0 | M63: =ROUNDDOWN(D63+K63,0) -> 0
F64: 120 | H64: =ROUNDDOWN(F64*$G$39,2) -> 0
F65: 180 | I65: =ROUNDDOWN(F65*$G$40,2) -> 0
F66: =+E63-F65-F64-F63 -> 2010 | J66: =ROUNDDOWN(F66*$G$41,2) -> 0
A67: =+基本情報!B16 -> 46266 | B67: =+基本情報!$G$7 -> 35 | C67: =+$G$37 -> 0 | D67: =ROUNDDOWN(B67*C67,2) -> 0 | E67: =+基本情報!D16 -> 2280 | F67: 0 | G67: =ROUNDDOWN(F67*$G$38,2) -> 0 | K67: =SUM(G67:J70) -> 0 | M67: =ROUNDDOWN(D67+K67,0) -> 0
F68: 120 | H68: =ROUNDDOWN(F68*$G$39,2) -> 0
F69: 180 | I69: =ROUNDDOWN(F69*$G$40,2) -> 0
F70: =+E67-F69-F68-F67 -> 1980 | J70: =ROUNDDOWN(F70*$G$41,2) -> 0
A71: =+基本情報!B17 -> 46296 | B71: =+基本情報!$G$7 -> 35 | C71: =+$G$37 -> 0 | D71: =ROUNDDOWN(B71*C71,2) -> 0 | E71: =+基本情報!D17 -> 2500 | F71: 0 | G71: =ROUNDDOWN(F71*$G$38,2) -> 0 | K71: =SUM(G71:J74) -> 0 | M71: =ROUNDDOWN(D71+K71,0) -> 0
F72: 120 | H72: =ROUNDDOWN(F72*$G$39,2) -> 0
F73: 180 | I73: =ROUNDDOWN(F73*$G$40,2) -> 0
F74: =+E71-F73-F72-F71 -> 2200 | J74: =ROUNDDOWN(F74*$G$41,2) -> 0
A75: =+基本情報!B18 -> 46327 | B75: =+基本情報!$G$7 -> 35 | C75: =+$G$37 -> 0 | D75: =ROUNDDOWN(B75*C75,2) -> 0 | E75: =+基本情報!D18 -> 2800 | F75: 0 | G75: =ROUNDDOWN(F75*$G$38,2) -> 0 | K75: =SUM(G75:J78) -> 0 | M75: =ROUNDDOWN(D75+K75,0) -> 0
F76: 120 | H76: =ROUNDDOWN(F76*$G$39,2) -> 0
F77: 180 | I77: =ROUNDDOWN(F77*$G$40,2) -> 0
F78: =+E75-F77-F76-F75 -> 2500 | J78: =ROUNDDOWN(F78*$G$41,2) -> 0
A79: =+基本情報!B19 -> 46357 | B79: =+基本情報!$G$7 -> 35 | C79: =+$G$37 -> 0 | D79: =ROUNDDOWN(B79*C79,2) -> 0 | E79: =+基本情報!D19 -> 3170 | F79: 0 | G79: =ROUNDDOWN(F79*$G$38,2) -> 0 | K79: =SUM(G79:J82) -> 0 | M79: =ROUNDDOWN(D79+K79,0) -> 0
F80: 120 | H80: =ROUNDDOWN(F80*$G$39,2) -> 0
F81: 180 | I81: =ROUNDDOWN(F81*$G$40,2) -> 0
F82: =+E79-F81-F80-F79 -> 2870 | J82: =ROUNDDOWN(F82*$G$41,2) -> 0
A83: =+基本情報!B20 -> 46388 | B83: =+基本情報!$G$7 -> 35 | C83: =+$G$37 -> 0 | D83: =ROUNDDOWN(B83*C83,2) -> 0 | E83: =+基本情報!D20 -> 3290 | F83: 0 | G83: =ROUNDDOWN(F83*$G$38,2) -> 0 | K83: =SUM(G83:J86) -> 0 | M83: =ROUNDDOWN(D83+K83,0) -> 0
F84: 120 | H84: =ROUNDDOWN(F84*$G$39,2) -> 0
F85: 180 | I85: =ROUNDDOWN(F85*$G$40,2) -> 0
F86: =+E83-F85-F84-F83 -> 2990 | J86: =ROUNDDOWN(F86*$G$41,2) -> 0
A87: =+基本情報!B21 -> 46419 | B87: =+基本情報!$G$7 -> 35 | C87: =+$G$37 -> 0 | D87: =ROUNDDOWN(B87*C87,2) -> 0 | E87: =+基本情報!D21 -> 2990 | F87: 0 | G87: =ROUNDDOWN(F87*$G$38,2) -> 0 | K87: =SUM(G87:J90) -> 0 | M87: =ROUNDDOWN(D87+K87,0) -> 0
F88: 120 | H88: =ROUNDDOWN(F88*$G$39,2) -> 0
F89: 180 | I89: =ROUNDDOWN(F89*$G$40,2) -> 0
F90: =+E87-F89-F88-F87 -> 2690 | J90: =ROUNDDOWN(F90*$G$41,2) -> 0
A91: =+基本情報!B22 -> 46447 | B91: =+基本情報!$G$7 -> 35 | C91: =+$G$37 -> 0 | D91: =ROUNDDOWN(B91*C91,2) -> 0 | E91: =+基本情報!D22 -> 2900 | F91: 0 | G91: =ROUNDDOWN(F91*$G$38,2) -> 0 | K91: =SUM(G91:J94) -> 0 | M91: =ROUNDDOWN(D91+K91,0) -> 0
F92: 120 | H92: =ROUNDDOWN(F92*$G$39,2) -> 0
F93: 180 | I93: =ROUNDDOWN(F93*$G$40,2) -> 0
F94: =+E91-F93-F92-F91 -> 2600 | J94: =ROUNDDOWN(F94*$G$41,2) -> 0
A95: 合計 | B95: － | E95: =SUM(E47:E94) -> 31700 | F95: =SUM(F47:F94) -> 31700 | M95: =SUM(M47:M94) -> 0
K96: （B)消費税及び地方消費税額 | M96: =+M95-M97 -> 0
K97: （A）税抜き金額 | M97: =ROUNDUP(M95/1.1,0) -> 0
A99: 上記の計算書の数式は以下のとおりです。
K100: 内訳書合計金額
A101: （A）見積金額＝（C)税込み金額×100÷110 | K101: 区分 | M101: 金額
A102: ※円未満を切り上げるものとする。
K103: １低圧電力 | M103: =+N33 -> 0
A104: （B）消費税及び地方消費税額＝（C）予定価格（税込金額）－（A）予定価格（税抜金額）
K105: ２従量電灯 | M105: =+M97 -> 0
...

Sheet 記載例
A1: 見積価格内訳書（記載例：１施設）
A3: 契約名： | B3: 令和８年度富山森林管理署庁舎等電力供給業務（単価） | J3: 所在地 | K3: 長野県長野市大字栗田○○○－○
A4: 施設名： | B4: 富山森林管理署 | J4: 会社名 | K4: 株式会社 ○○○○
A5: 供給地点特定番号： | C5: （低圧電力） | E5: =+基本情報!D6 -> 05-0000-0000-0013-3908-0000 | J5: 代表者氏名 | K5: 代表取締役 ○○ ○○
C6: （従量電灯） | E6: =+基本情報!D7 -> 05-0000-0000-0013-3907-0000
A7: １ 低圧電力
A8: 区 分 ・ 単 位 | G8: 単 価
A9: 基本料金 | C9: 契約電力 | D9: =+基本情報!G6 -> 20 | E9: kW | G9: 1200 | H9: 円／kw・月
A10: 電力量料金 | C10: 夏季（７月１日～９月３０日） | G10: 16 | H10: 円／kw・時
C11: その他季（上記以外の月日） | G11: 15 | H11: 円／kw・時
I12: ※単価は税込みを表示
B13: ①基本料金 （円） | G13: ②電力量料金 （円） | N13: 月額電気
B14: 基本料金 | G14: 夏季月 | J14: その他季月 | M14: ②
A15: 月別 | B15: 契約電力(ａ) | C15: 予定力率 | D15: 単価（ｂ） | E15: 力率調整 | F15: ①金額 | G15: 予定使用 | H15: 単価（ｅ） | I15: 金額 | J15: 予定使用 | K15: 単価（'ｅ） | L15: 金額 | M15: 合計 | N15: 料金
F16: (a)×(ｂ)×(ｃ） | G16: 電力量(ｄ) | I16: （f）=（ｄ）×（ｅ） | J16: 電力量('ｄ) | L16: （'f）=（'ｄ）×（'ｅ） | M16: （f）+（'f） | N16: (①＋②)
B17: （kW） | C17: （%） | D17: （円/kW） | E17: （ｃ） | F17: （円） | G17: （kWh） | H17: （円/kWh） | I17: （円） | J17: （kWh） | K17: （円/kWh） | L17: （円） | M17: （円） | N17: （円）
A18: =+基本情報!B11 -> 46113 | B18: 20 | C18: 80 | D18: =+G9 -> 1200 | E18: 1 | F18: =ROUNDDOWN(B18*D18*E18,2) -> 24000 | J18: =+基本情報!C11 -> 900 | K18: =+G11 -> 15 | L18: =ROUNDDOWN(J18*K18,2) -> 13500 | M18: =I18+L18 -> 13500 | N18: =ROUNDDOWN(F18+M18,0) -> 37500
A19: =+基本情報!B12 -> 46143 | B19: =$B$18 -> 20 | C19: =$C$18 -> 80 | D19: =$D$18 -> 1200 | E19: =$E$18 -> 1 | F19: =ROUNDDOWN(B19*D19*E19,2) -> 24000 | J19: =+基本情報!C12 -> 320 | K19: =$K$18 -> 15 | L19: =ROUNDDOWN(J19*K19,2) -> 4800 | M19: =I19+L19 -> 4800 | N19: =ROUNDDOWN(F19+M19,0) -> 28800
A20: =+基本情報!B13 -> 46174 | B20: =$B$18 -> 20 | C20: =$C$18 -> 80 | D20: =$D$18 -> 1200 | E20: =$E$18 -> 1 | F20: =ROUNDDOWN(B20*D20*E20,2) -> 24000 | J20: =+基本情報!C13 -> 900 | K20: =$K$18 -> 15 | L20: =ROUNDDOWN(J20*K20,2) -> 13500 | M20: =I20+L20 -> 13500 | N20: =ROUNDDOWN(F20+M20,0) -> 37500
A21: =+基本情報!B14 -> 46204 | B21: =$B$18 -> 20 | C21: =$C$18 -> 80 | D21: =$D$18 -> 1200 | E21: =$E$18 -> 1 | F21: =ROUNDDOWN(B21*D21*E21,2) -> 24000 | G21: =+基本情報!C14 -> 1910 | H21: =+G10 -> 16 | I21: =ROUNDDOWN(G21*H21,2) -> 30560 | M21: =I21+L21 -> 30560 | N21: =ROUNDDOWN(F21+M21,0) -> 54560
A22: =+基本情報!B15 -> 46235 | B22: =$B$18 -> 20 | C22: =$C$18 -> 80 | D22: =$D$18 -> 1200 | E22: =$E$18 -> 1 | F22: =ROUNDDOWN(B22*D22*E22,2) -> 24000 | G22: =+基本情報!C15 -> 2220 | H22: =$H$21 -> 16 | I22: =ROUNDDOWN(G22*H22,2) -> 35520 | M22: =I22+L22 -> 35520 | N22: =ROUNDDOWN(F22+M22,0) -> 59520
A23: =+基本情報!B16 -> 46266 | B23: =$B$18 -> 20 | C23: =$C$18 -> 80 | D23: =$D$18 -> 1200 | E23: =$E$18 -> 1 | F23: =ROUNDDOWN(B23*D23*E23,2) -> 24000 | G23: =+基本情報!C16 -> 1120 | H23: =$H$21 -> 16 | I23: =ROUNDDOWN(G23*H23,2) -> 17920 | M23: =I23+L23 -> 17920 | N23: =ROUNDDOWN(F23+M23,0) -> 41920
A24: =+基本情報!B17 -> 46296 | B24: =$B$18 -> 20 | C24: =$C$18 -> 80 | D24: =$D$18 -> 1200 | E24: =$E$18 -> 1 | F24: =ROUNDDOWN(B24*D24*E24,2) -> 24000 | J24: =+基本情報!C17 -> 460 | K24: =$K$18 -> 15 | L24: =ROUNDDOWN(J24*K24,2) -> 6900 | M24: =I24+L24 -> 6900 | N24: =ROUNDDOWN(F24+M24,0) -> 30900
A25: =+基本情報!B18 -> 46327 | B25: =$B$18 -> 20 | C25: =$C$18 -> 80 | D25: =$D$18 -> 1200 | E25: =$E$18 -> 1 | F25: =ROUNDDOWN(B25*D25*E25,2) -> 24000 | J25: =+基本情報!C18 -> 1890 | K25: =$K$18 -> 15 | L25: =ROUNDDOWN(J25*K25,2) -> 28350 | M25: =I25+L25 -> 28350 | N25: =ROUNDDOWN(F25+M25,0) -> 52350
A26: =+基本情報!B19 -> 46357 | B26: =$B$18 -> 20 | C26: =$C$18 -> 80 | D26: =$D$18 -> 1200 | E26: =$E$18 -> 1 | F26: =ROUNDDOWN(B26*D26*E26,2) -> 24000 | J26: =+基本情報!C19 -> 3020 | K26: =$K$18 -> 15 | L26: =ROUNDDOWN(J26*K26,2) -> 45300 | M26: =I26+L26 -> 45300 | N26: =ROUNDDOWN(F26+M26,0) -> 69300
A27: =+基本情報!B20 -> 46388 | B27: =$B$18 -> 20 | C27: =$C$18 -> 80 | D27: =$D$18 -> 1200 | E27: =$E$18 -> 1 | F27: =ROUNDDOWN(B27*D27*E27,2) -> 24000 | J27: =+基本情報!C20 -> 3810 | K27: =$K$18 -> 15 | L27: =ROUNDDOWN(J27*K27,2) -> 57150 | M27: =I27+L27 -> 57150 | N27: =ROUNDDOWN(F27+M27,0) -> 81150
A28: =+基本情報!B21 -> 46419 | B28: =$B$18 -> 20 | C28: =$C$18 -> 80 | D28: =$D$18 -> 1200 | E28: =$E$18 -> 1 | F28: =ROUNDDOWN(B28*D28*E28,2) -> 24000 | J28: =+基本情報!C21 -> 2460 | K28: =$K$18 -> 15 | L28: =ROUNDDOWN(J28*K28,2) -> 36900 | M28: =I28+L28 -> 36900 | N28: =ROUNDDOWN(F28+M28,0) -> 60900
A29: =+基本情報!B22 -> 46447 | B29: =$B$18 -> 20 | C29: =$C$18 -> 80 | D29: =$D$18 -> 1200 | E29: =$E$18 -> 1 | F29: =ROUNDDOWN(B29*D29*E29,2) -> 24000 | J29: =+基本情報!C22 -> 1930 | K29: =$K$18 -> 15 | L29: =ROUNDDOWN(J29*K29,2) -> 28950 | M29: =I29+L29 -> 28950 | N29: =ROUNDDOWN(F29+M29,0) -> 52950
A30: 合計 | B30: － | D30: － | E30: － | F30: =SUM(F18:F29) -> 288000 | G30: =SUM(G18:G29) -> 5250 | H30: － | I30: =SUM(I18:I29) -> 84000 | J30: =SUM(J18:J29) -> 15690 | K30: － | L30: =SUM(L18:L29) -> 235350 | M30: =SUM(M18:M29) -> 319350 | N30: =SUM(N18:N29) -> 607350
L31: （B)消費税及び地方消費税額 | N31: =N30-N32 -> 44988
L32: （A）税抜き金額 | N32: =ROUNDUP(N30/1.08,0) -> 562362
A34: ２ 従量電灯Ａ／Ｂ／Ｃ
A35: 区 分 ・ 単 位 | G35: 単 価
A36: 基本料金 | C36: 契約電力 | G36: 500 | H36: 円／月
A37: 電力量料金 | C37: 最低月額料金 | G37: 250 | H37: 円／月
C38: 最初の１２０kWhまで | G38: 20 | H38: 円／kw・時
C39: １２０kＷhこえ３００kＷhまで | G39: 25 | H39: 円／kw・時
C40: ３００kＷhをこえる分 | G40: 28 | H40: 円／kw・時 | I40: ※単価は税込みを表示
B42: ①基本料金 （円） | E42: ②電力量料金 （円） | M42: 月額電気
A43: 月別 | B43: 契約電力(ａ) | C43: 基本料金 | D43: ①金額 | E43: 予定使用 | F43: 予定使用 | G43: 最低 月額料金 | H43: 最初の120kWhまで | I43: 120kＷhこえ300kＷhまで | J43: 300kＷhを こえる分 | K43: ②金額 | M43: 料金
D44: (A)×(B) | E44: 電力量(ｄ) | F44: 電力量(ｄ) | K44: （C）＋（Ｄ）＋(Ｅ)＋(F) | M44: (①＋②)
B45: （Ａ） | C45: (B) | D45: （円） | E45: （kWh） | F45: （kWh） | G45: (C) | H45: (D) | I45: ( E ) | J45: (F) | K45: （円） | M45: （円）
A46: =+基本情報!B11 -> 46113 | B46: 20 | C46: =+G36 -> 500 | D46: =ROUNDDOWN(B46*C46,2) -> 10000 | E46: =+基本情報!D11 -> 2710 | F46: 0 | G46: =ROUNDDOWN(F46*$G$37,2) -> 0 | K46: =SUM(G46:J49) -> 74380 | M46: =ROUNDDOWN(D46+K46,0) -> 84380
F47: 120 | H47: =ROUNDDOWN(F47*$G$38,2) -> 2400
F48: 180 | I48: =ROUNDDOWN(F48*$G$39,2) -> 4500
F49: =+E46-F48-F47-F46 -> 2410 | J49: =ROUNDDOWN(F49*$G$40,2) -> 67480
A50: =+基本情報!B12 -> 46143 | B50: =+$B$46 -> 20 | C50: =+$C$46 -> 500 | D50: =ROUNDDOWN(B50*C50,2) -> 10000 | E50: =+基本情報!D12 -> 2370 | F50: 0 | G50: =ROUNDDOWN(F50*$G$37,2) -> 0 | K50: =SUM(G50:J53) -> 64860 | M50: =ROUNDDOWN(D50+K50,0) -> 74860
F51: 120 | H51: =ROUNDDOWN(F51*$G$38,2) -> 2400
F52: 180 | I52: =ROUNDDOWN(F52*$G$39,2) -> 4500
F53: =+E50-F52-F51-F50 -> 2070 | J53: =ROUNDDOWN(F53*$G$40,2) -> 57960
A54: =+基本情報!B13 -> 46174 | B54: =+$B$46 -> 20 | C54: =+$C$46 -> 500 | D54: =ROUNDDOWN(B54*C54,2) -> 10000 | E54: =+基本情報!D13 -> 2120 | F54: 0 | G54: =ROUNDDOWN(F54*$G$37,2) -> 0 | K54: =SUM(G54:J57) -> 57860 | M54: =ROUNDDOWN(D54+K54,0) -> 67860
F55: 120 | H55: =ROUNDDOWN(F55*$G$38,2) -> 2400
F56: 180 | I56: =ROUNDDOWN(F56*$G$39,2) -> 4500
F57: =+E54-F56-F55-F54 -> 1820 | J57: =ROUNDDOWN(F57*$G$40,2) -> 50960
A58: =+基本情報!B14 -> 46204 | B58: =+$B$46 -> 20 | C58: =+$C$46 -> 500 | D58: =ROUNDDOWN(B58*C58,2) -> 10000 | E58: =+基本情報!D14 -> 2260 | F58: 0 | G58: =ROUNDDOWN(F58*$G$37,2) -> 0 | K58: =SUM(G58:J61) -> 61780 | M58: =ROUNDDOWN(D58+K58,0) -> 71780
F59: 120 | H59: =ROUNDDOWN(F59*$G$38,2) -> 2400
F60: 180 | I60: =ROUNDDOWN(F60*$G$39,2) -> 4500
F61: =+E58-F60-F59-F58 -> 1960 | J61: =ROUNDDOWN(F61*$G$40,2) -> 54880
A62: =+基本情報!B15 -> 46235 | B62: =+$B$46 -> 20 | C62: =+$C$46 -> 500 | D62: =ROUNDDOWN(B62*C62,2) -> 10000 | E62: =+基本情報!D15 -> 2310 | F62: 0 | G62: =ROUNDDOWN(F62*$G$37,2) -> 0 | K62: =SUM(G62:J65) -> 63180 | M62: =ROUNDDOWN(D62+K62,0) -> 73180
F63: 120 | H63: =ROUNDDOWN(F63*$G$38,2) -> 2400
F64: 180 | I64: =ROUNDDOWN(F64*$G$39,2) -> 4500
F65: =+E62-F64-F63-F62 -> 2010 | J65: =ROUNDDOWN(F65*$G$40,2) -> 56280
A66: =+基本情報!B16 -> 46266 | B66: =+$B$46 -> 20 | C66: =+$C$46 -> 500 | D66: =ROUNDDOWN(B66*C66,2) -> 10000 | E66: =+基本情報!D16 -> 2280 | F66: 0 | G66: =ROUNDDOWN(F66*$G$37,2) -> 0 | K66: =SUM(G66:J69) -> 62340 | M66: =ROUNDDOWN(D66+K66,0) -> 72340
F67: 120 | H67: =ROUNDDOWN(F67*$G$38,2) -> 2400
F68: 180 | I68: =ROUNDDOWN(F68*$G$39,2) -> 4500
F69: =+E66-F68-F67-F66 -> 1980 | J69: =ROUNDDOWN(F69*$G$40,2) -> 55440
A70: =+基本情報!B17 -> 46296 | B70: =+$B$46 -> 20 | C70: =+$C$46 -> 500 | D70: =ROUNDDOWN(B70*C70,2) -> 10000 | E70: =+基本情報!D17 -> 2500 | F70: 0 | G70: =ROUNDDOWN(F70*$G$37,2) -> 0 | K70: =SUM(G70:J73) -> 68500 | M70: =ROUNDDOWN(D70+K70,0) -> 78500
F71: 120 | H71: =ROUNDDOWN(F71*$G$38,2) -> 2400
F72: 180 | I72: =ROUNDDOWN(F72*$G$39,2) -> 4500
F73: =+E70-F72-F71-F70 -> 2200 | J73: =ROUNDDOWN(F73*$G$40,2) -> 61600
A74: =+基本情報!B18 -> 46327 | B74: =+$B$46 -> 20 | C74: =+$C$46 -> 500 | D74: =ROUNDDOWN(B74*C74,2) -> 10000 | E74: =+基本情報!D18 -> 2800 | F74: 0 | G74: =ROUNDDOWN(F74*$G$37,2) -> 0 | K74: =SUM(G74:J77) -> 76900 | M74: =ROUNDDOWN(D74+K74,0) -> 86900
F75: 120 | H75: =ROUNDDOWN(F75*$G$38,2) -> 2400
F76: 180 | I76: =ROUNDDOWN(F76*$G$39,2) -> 4500
F77: =+E74-F76-F75-F74 -> 2500 | J77: =ROUNDDOWN(F77*$G$40,2) -> 70000
A78: =+基本情報!B19 -> 46357 | B78: =+$B$46 -> 20 | C78: =+$C$46 -> 500 | D78: =ROUNDDOWN(B78*C78,2) -> 10000 | E78: =+基本情報!D19 -> 3170 | F78: 0 | G78: =ROUNDDOWN(F78*$G$37,2) -> 0 | K78: =SUM(G78:J81) -> 87260 | M78: =ROUNDDOWN(D78+K78,0) -> 97260
F79: 120 | H79: =ROUNDDOWN(F79*$G$38,2) -> 2400
F80: 180 | I80: =ROUNDDOWN(F80*$G$39,2) -> 4500
F81: =+E78-F80-F79-F78 -> 2870 | J81: =ROUNDDOWN(F81*$G$40,2) -> 80360
A82: =+基本情報!B20 -> 46388 | B82: =+$B$46 -> 20 | C82: =+$C$46 -> 500 | D82: =ROUNDDOWN(B82*C82,2) -> 10000 | E82: =+基本情報!D20 -> 3290 | F82: 0 | G82: =ROUNDDOWN(F82*$G$37,2) -> 0 | K82: =SUM(G82:J85) -> 90620 | M82: =ROUNDDOWN(D82+K82,0) -> 100620
F83: 120 | H83: =ROUNDDOWN(F83*$G$38,2) -> 2400
F84: 180 | I84: =ROUNDDOWN(F84*$G$39,2) -> 4500
F85: =+E82-F84-F83-F82 -> 2990 | J85: =ROUNDDOWN(F85*$G$40,2) -> 83720
A86: =+基本情報!B21 -> 46419 | B86: =+$B$46 -> 20 | C86: =+$C$46 -> 500 | D86: =ROUNDDOWN(B86*C86,2) -> 10000 | E86: =+基本情報!D21 -> 2990 | F86: 0 | G86: =ROUNDDOWN(F86*$G$37,2) -> 0 | K86: =SUM(G86:J89) -> 82220 | M86: =ROUNDDOWN(D86+K86,0) -> 92220
F87: 120 | H87: =ROUNDDOWN(F87*$G$38,2) -> 2400
F88: 180 | I88: =ROUNDDOWN(F88*$G$39,2) -> 4500
F89: =+E86-F88-F87-F86 -> 2690 | J89: =ROUNDDOWN(F89*$G$40,2) -> 75320
A90: =+基本情報!B22 -> 46447 | B90: =+$B$46 -> 20 | C90: =+$C$46 -> 500 | D90: =ROUNDDOWN(B90*C90,2) -> 10000 | E90: =+基本情報!D22 -> 2900 | F90: 0 | G90: =ROUNDDOWN(F90*$G$37,2) -> 0 | K90: =SUM(G90:J93) -> 79700 | M90: =ROUNDDOWN(D90+K90,0) -> 89700
F91: 120 | H91: =ROUNDDOWN(F91*$G$38,2) -> 2400
F92: 180 | I92: =ROUNDDOWN(F92*$G$39,2) -> 4500
F93: =+E90-F92-F91-F90 -> 2600 | J93: =ROUNDDOWN(F93*$G$40,2) -> 72800
A94: 合計 | B94: － | D94: =SUM(D46:D90) -> 120000 | E94: =SUM(E46:E93) -> 31700 | F94: =SUM(F46:F93) -> 31700 | K94: =SUM(K46:K90) -> 869600 | M94: =SUM(M46:M93) -> 989600
K95: （B)消費税及び地方消費税額 | M95: =+M94-M96 -> 73303
K96: （A）税抜き金額 | M96: =ROUNDUP(M94/1.08,0) -> 916297
A98: 上記の計算書の数式は以下のとおりです。
K99: 見積内訳書合計金額
A100: （A）見積金額＝（C)税込み金額×100÷108 | K100: 区分 | M100: 金額
A101: ※円未満を切り上げるものとする。
K102: １低圧電力 | M102: =+N32 -> 562362
A103: （B）消費税及び地方消費税額＝（C）予定価格（税込金額）－（A）予定価格（税抜金額）
K104: ２従量電灯 | M104: =+M96 -> 916297
...
