Workbook

Sheet 入札書
B2: 入 札 書
C7: 物件の名称 ： | D7: 令和８年度東信森林管理署庁舎等電力供給業務（単価）
B11: 入札金額 | C11: 億 | D11: 千万 | E11: 百万 | F11: 十万 | G11: 万 | H11: 千 | I11: 百 | J11: 十 | K11: 円
C12: =IF(LEN($T$6)=8,"\",IF((LEN($T$6)-9)<=-2,"",MID($T$6,LEN($T$6)-8,1))) | D12: =IF(LEN($T$6)=7,"\",IF((LEN($T$6)-8)<=-2,"",MID($T$6,LEN($T$6)-7,1))) | E12: =IF(LEN($T$6)=6,"\",IF((LEN($T$6)-7)<=-2,"",MID($T$6,LEN($T$6)-6,1))) | F12: =IF(LEN($T$6)=5,"\",IF((LEN($T$6)-6)<=-2,"",MID($T$6,LEN($T$6)-5,1))) | G12: =IF($T$6=0,"",MID($T$6,LEN($T$6)-4,1)) | H12: =IF($T$6=0,"",MID($T$6,LEN($T$6)-3,1)) | I12: =IF($T$6=0,"",MID($T$6,LEN($T$6)-2,1)) | J12: =IF($T$6=0,"",MID($T$6,LEN($T$6)-1,1)) | K12: =IF($T$6=0,"",RIGHT($T$6,1))
C14: ＊金額の先頭へ￥マークを記載すること。
B15: ①上記金額は消費税相当額を除いた金額であるので、契約額は上記金額に10％に相当する額を加算した金額となること及び、入札公告並びに中部森林管理局競争契約入札心得を承知のうえ入札します。
B17: ②発電費用等の変動による調整額及び再生可能エネルギー賦課金については、入札金額に含めないこととする。
C22: 令和 年 月 日
C25: 分任支出負担行為担当官
C26: 東信森林管理署長 佐野 周二 殿
C30: 所 在 地
C31: 会 社 名
C32: 代表者氏名
C35: 代 理 人
D37: （押印を省略する場合は記載すること）
D39: 会社名および部署名：
D40: 本件責任者（氏名）：
D41: 担 当 者 （氏名）：
D42: 連絡先１：
D43: 連絡先２：

Sheet 入札書 (記載例)
A1: （記載例）
A2: 入 札 書
A7: 物件の名称 ： 令和○年度東信森林管理署庁舎電力供給業務（単価）
A12: 入札金額 | B12: 億 | C12: 千万 | D12: 百万 | E12: 十万 | F12: 万 | G12: 千 | H12: 百 | I12: 十 | J12: 円
B13: =IF(LEN($S$6)=8,"\",IF((LEN($S$6)-9)<=-2,"",MID($S$6,LEN($S$6)-8,1))) | C13: ￥ | D13: 7 | E13: 4 | F13: 4 | G13: 0 | H13: 2 | I13: 5 | J13: 0 | L13: ='内訳書（記載例）'!M31 -> 7440250
B15: ＊金額の先頭へ￥マークを記載すること。
A16: ①上記金額は消費税相当額を除いた金額であるので、契約額は上記金額に10％に相当する額を加算した金額となること及び、入札公告並びに中部森林管理局競争契約入札心得を承知のうえ入札します。
A18: ②発電費用等の変動による調整額及び再生可能エネルギー賦課金については、入札金額に含めないこととする。
B24: 令和 年 月 日
B27: 分任支出負担行為担当官
B28: 東信森林管理署長 佐野 周二 殿
B32: 所 在 地 | E32: 長野県長野市大字栗田○○○－○
B33: 会 社 名 | E33: 株式会社 ○○○○
B34: 代表者氏名 | E34: 代表取締役 ○○ ○○
B37: 代 理 人
C39: （押印を省略する場合は記載すること）
C41: 会社名および部署名：
C42: 本件責任者（氏名）：
C43: 担 当 者 （氏名）：
C44: 連絡先１：
C45: 連絡先２：

Sheet 施設一覧
A2: 入札価格内訳書
A4: 契約名： | B4: =入札書!D7 -> 令和８年度東信森林管理署庁舎等電力供給業務（単価）
A6: 番号 | B6: 施設名 | C6: 供給地点特定番号 | D6: 契約内容 | E6: 金 額（税抜）
A7: 1 | B7: 東信森林管理署庁舎 | C7: 04-0522-0100-1555-4000-0000 | D7: 従量電灯C 45kVA
A8: 2 | B8: 東信森林管理署庁舎 | C8: 04-0522-0100-1555-4100-0000 | D8: 低圧電力 19kw
A9: 3 | B9: 東信森林管理署防災倉庫電灯 | C9: 04-0522-8311-0618-0000-0000 | D9: 従量電灯B 20A
A10: 4 | B10: 東信森林管理署防災倉庫動力 | C10: 04-0522-8311-0618-0100-0000 | D10: 低圧電力 6kw
A11: 5 | B11: 佐久平森林事務所庁舎 | C11: 04-0522-8006-4570-1000-0000 | D11: 従量電灯B 40A
A12: 6 | B12: 佐久平森林事務所車庫 | C12: 04-0522-8006-4570-6000-0000 | D12: 従量電灯B 30A
A13: 7 | B13: 佐久平森林事務所車庫 | C13: 04-0522-8006-4570-6100-0000 | D13: 低圧電力 3kw
A14: 8 | B14: 相木森林事務所庁舎 | C14: 04-0522-8431-0271-2000-0000 | D14: 従量電灯B 40A
A15: 9 | B15: 東部森林事務所庁舎 | C15: 04-0520-3241-4070-2000-0000 | D15: 従量電灯B 30A
A16: 10 | B16: 小諸森林事務所庁舎 | C16: 04-0522-5151-0115-0000-0000 | D16: 従量電灯B 30A
A17: 11 | B17: 大門森林事務所庁舎 | C17: 04-0520-4302-0272-1000-0000 | D17: 従量電灯B 40A
A18: 12 | B18: 青木森林事務所庁舎 | C18: 04-0520-2107-0172-4000-0000 | D18: 従量電灯B 30A
D19: 入札書記載金額（税抜）

Sheet 東信署従量
M1: №１－１
A2: 入札価格内訳書
A4: 契約名： | B4: =施設一覧!B4 -> 令和８年度東信森林管理署庁舎等電力供給業務（単価）
A5: 施設名： | B5: 東信森林管理署
A6: 供給地点特定番号： | C6: 04-0522-0100-1555-4000-0000
A8: 従量電灯Ｃ
A9: 区 分 ・ 単 位 | G9: 単 価
A10: 基本料金 | C10: 契約電力（45kVA） | H10: 円／月
A11: 電力量料金 | C11: 最低月額料金 | H11: 円／kw・月
C12: 最初の１２０kWhまで | H12: 円／kw・時
C13: １２０kＷhこえ３００kＷhまで | H13: 円／kw・時
C14: ３００kＷhをこえる分 | H14: 円／kw・時 | I14: ※単価は税込みを表示
B16: ①基本料金 （円） | E16: ②電力量料金 （円） | M16: 月額電気
A17: 月別 | B17: 契約電力(ａ) | C17: 基本料金 | D17: ①金額 | E17: 予定使用 | F17: 予定使用 | G17: 最低 月額料金 | H17: 最初の120kWhまで | I17: 120kＷhこえ300kＷhまで | J17: 300kＷhを こえる分 | K17: ②金額 | M17: 料金
D18: (B)×１ヶ月 | E18: 電力量(ｄ) | F18: 電力量(ｄ) | K18: （C）＋（Ｄ）＋(Ｅ)＋(F) | M18: (①＋②)
B19: （Ａ） | C19: (B) | D19: （円） | E19: （kWh） | F19: （kWh） | G19: (C) | H19: (D) | I19: ( E ) | J19: (F) | K19: （円） | M19: （円）
A20: ８年４月 | B20: 45 | E20: 2000 | F20: 0 | H20: - | I20: - | J20: -
F21: 120 | G21: - | I21: - | J21: -
F22: 180 | G22: - | H22: - | J22: -
F23: =+E20-300 -> 1700 | G23: - | H23: - | I23: -
A24: ８年５月 | B24: 45 | E24: 1700 | F24: 0 | H24: - | I24: - | J24: -
F25: 120 | G25: - | I25: - | J25: -
F26: 180 | G26: - | H26: - | J26: -
F27: =+E24-300 -> 1400 | G27: - | H27: - | I27: -
A28: ８年６月 | B28: 45 | E28: 1500 | F28: 0 | H28: - | I28: - | J28: -
F29: 120 | G29: - | I29: - | J29: -
F30: 180 | G30: - | H30: - | J30: -
F31: =+E28-300 -> 1200 | G31: - | H31: - | I31: -
A32: ８年７月 | B32: 45 | E32: 1500 | F32: 0 | H32: - | I32: - | J32: -
F33: 120 | G33: - | I33: - | J33: -
F34: 180 | G34: - | H34: - | J34: -
F35: =+E32-300 -> 1200 | G35: - | H35: - | I35: -
A36: ８年８月 | B36: 45 | E36: 1500 | F36: 0 | H36: - | I36: - | J36: -
F37: 120 | G37: - | I37: - | J37: -
F38: 180 | G38: - | H38: - | J38: -
F39: =+E36-300 -> 1200 | G39: - | H39: - | I39: -
A40: ８年９月 | B40: 45 | E40: 1400 | F40: 0 | H40: - | I40: - | J40: -
F41: 120 | G41: - | I41: - | J41: -
F42: 180 | G42: - | H42: - | J42: -
F43: =+E40-300 -> 1100 | G43: - | H43: - | I43: -
...

Sheet 東信署低圧
N1: №１－２
A2: 入札価格内訳書
A4: 契約名： | B4: =施設一覧!B4 -> 令和８年度東信森林管理署庁舎等電力供給業務（単価）
A5: 施設名： | B5: 東信森林管理署
A6: 供給地点特定番号： | C6: 04-0522-0100-1555-4100-0000
A8: 低圧電力
A9: 区 分 ・ 単 位 | G9: 単 価
A10: 基本料金 | C10: 契約電力（19kw） | H10: 円／kw・月
A11: 電力量料金 | C11: 夏季（７月１日～９月３０日） | H11: 円／kw・時
C12: その他季（上記以外の月日） | H12: 円／kw・時 | I12: ※単価は税込みを表示
B14: ①基本料金 （円） | G14: ②電力量料金 （円） | N14: 月額電気
B15: 基本料金 | G15: 夏季月 | J15: その他季月 | M15: ②
A16: 月別 | B16: 契約電力(ａ) | C16: 予定力率 | D16: 単価（ｂ） | E16: 力率調整 | F16: ①金額 | G16: 予定使用 | H16: 単価（ｅ） | I16: 金額 | J16: 予定使用 | K16: 単価（'ｅ） | L16: 金額 | M16: 合計 | N16: 料金
F17: (a)×(ｂ)×(ｃ） | G17: 電力量(ｄ) | I17: （f）=（ｄ）×（ｅ） | J17: 電力量('ｄ) | L17: （'f）=（'ｄ）×（'ｅ） | M17: （f）+（'f） | N17: (①＋②)
B18: （kW） | C18: （%） | D18: （円/kW） | E18: （ｃ） | F18: （円） | G18: （kWh） | H18: （円/kWh） | I18: （円） | J18: （kWh） | K18: （円/kWh） | L18: （円） | M18: （円） | N18: （円）
A19: ８年４月 | B19: 19 | C19: 90 | G19: - | H19: - | I19: - | J19: 1200
A20: ８年５月 | B20: 19 | C20: 90 | G20: - | H20: - | I20: - | J20: 300
A21: ８年６月 | B21: 19 | C21: 90 | G21: - | H21: - | I21: - | J21: 400
A22: ８年７月 | B22: 19 | C22: 90 | G22: 500 | J22: -
A23: ８年８月 | B23: 19 | C23: 90 | G23: 900 | J23: -
A24: ８年９月 | B24: 19 | C24: 90 | G24: 800 | J24: -
A25: ８年１０月 | B25: 19 | C25: 90 | G25: - | H25: - | I25: - | J25: 600
A26: ８年１１月 | B26: 19 | C26: 90 | G26: - | H26: - | I26: - | J26: 400
A27: ８年１２月 | B27: 19 | C27: 90 | G27: - | H27: - | I27: - | J27: 900
A28: ９年１月 | B28: 19 | C28: 90 | G28: - | H28: - | I28: - | J28: 1100
A29: ９年２月 | B29: 19 | C29: 90 | G29: - | H29: - | I29: - | J29: 1500
A30: ９年３月 | B30: 19 | C30: 90 | G30: - | H30: - | I30: - | J30: 1400
A31: 合計 | B31: － | D31: － | E31: － | F31: =SUM(F19:F30) -> 0 | G31: =SUM(G19:G30) -> 2200 | H31: － | I31: =SUM(I19:I30) -> 0 | J31: =SUM(J19:J30) -> 7800 | K31: － | L31: =SUM(L19:L30) -> 0 | M31: =SUM(M19:M30) -> 0 | N31: =SUM(N19:N30) -> 0
L32: （B)消費税及び地方消費税額 | N32: =N31-N33 -> 0
L33: （A）税抜き金額 | N33: =ROUNDUP(N31/1.1,0) -> 0
A36: 上記の計算書の数式は以下のとおりです。
A38: （A）入札金額＝（C)税込み金額×100÷110
A39: ※円未満を切り上げるものとする。
A41: （B）消費税及び地方消費税額＝（C）入札価格（税込金額）－（A）入札価格（税抜金額）
A43: 端数処理は次のとおり
A44: 小数点以下切捨て・・・・・・・・･・・・・・・・・・ | E44: 月額電気料金
A45: 小数点以下第1位四捨五入・・・・・・・・・・・ | E45: 契約電力、予定力率、予定使用電力量
A46: 小数点以下第２位未満切捨て・・・・・・・・・ | E46: 基本料金単価、基本料金、電力量単価、電力量料金

Sheet 倉庫従量
M1: №１－３
A2: 入札価格内訳書
A4: 契約名： | B4: =施設一覧!B4 -> 令和８年度東信森林管理署庁舎等電力供給業務（単価）
A5: 施設名： | B5: 東信森林管理署防災倉庫電灯
A6: 供給地点特定番号： | C6: 04-0522-8311-0618-0000-0000
A8: 従量電灯B
A9: 区 分 ・ 単 位 | G9: 単 価
A10: 基本料金 | C10: 契約電力（２０A） | H10: 円／月
A11: 電力量料金 | C11: 最低月額料金 | H11: 円／kw・月
C12: 最初の１２０kWhまで | H12: 円／kw・時
C13: １２０kＷhこえ３００kＷhまで | H13: 円／kw・時
C14: ３００kＷhをこえる分 | H14: 円／kw・時 | I14: ※単価は税込みを表示
B16: ①基本料金 （円） | E16: ②電力量料金 （円） | M16: 月額電気
A17: 月別 | B17: 契約電力(ａ) | C17: 基本料金 | D17: ①金額 | E17: 予定使用 | F17: 予定使用 | G17: 最低 月額料金 | H17: 最初の120kWhまで | I17: 120kＷhこえ300kＷhまで | J17: 300kＷhを こえる分 | K17: ②金額 | M17: 料金
D18: (B)×1ヶ月 | E18: 電力量(ｄ) | F18: 電力量(ｄ) | K18: （C）＋（Ｄ）＋(Ｅ)＋(F) | M18: (①＋②)
B19: （Ａ） | C19: (B) | D19: （円） | E19: （kWh） | F19: （kWh） | G19: (C) | H19: (D) | I19: ( E ) | J19: (F) | K19: （円） | M19: （円）
A20: ８年４月 | B20: 20 | E20: 15 | F20: 0 | H20: - | I20: - | J20: -
F21: 120 | G21: - | I21: - | J21: -
F22: =E20-F21 -> -105 | G22: - | H22: - | I22: - | J22: -
F23: 0 | G23: - | H23: - | I23: - | J23: -
A24: ８年５月 | B24: 20 | E24: 15 | F24: 0 | H24: - | I24: - | J24: -
F25: 120 | G25: - | I25: - | J25: -
F26: =E24-F25 -> -105 | G26: - | H26: - | I26: - | J26: -
F27: 0 | G27: - | H27: - | I27: - | J27: -
A28: ８年６月 | B28: 20 | E28: 15 | F28: 0 | H28: - | I28: - | J28: -
F29: 120 | G29: - | I29: - | J29: -
F30: =E28-F29 -> -105 | G30: - | H30: - | I30: - | J30: -
F31: 0 | G31: - | H31: - | I31: - | J31: -
A32: ８年７月 | B32: 20 | E32: 15 | F32: 0 | H32: - | I32: - | J32: -
F33: 120 | G33: - | I33: - | J33: -
F34: =E32-F33 -> -105 | G34: - | H34: - | I34: - | J34: -
F35: 0 | G35: - | H35: - | I35: - | J35: -
A36: ８年８月 | B36: 20 | E36: 15 | F36: 0 | H36: - | I36: - | J36: -
F37: 120 | G37: - | I37: - | J37: -
F38: =E36-F37 -> -105 | G38: - | H38: - | I38: - | J38: -
F39: 0 | G39: - | H39: - | I39: - | J39: -
A40: ８年９月 | B40: 20 | E40: 15 | F40: 0 | H40: - | I40: - | J40: -
F41: 120 | G41: - | I41: - | J41: -
F42: =E40-F41 -> -105 | G42: - | H42: - | I42: - | J42: -
F43: 0 | G43: - | H43: - | I43: - | J43: -
...

Sheet 倉庫低圧
N1: №１－４
A2: 入札価格内訳書
A4: 契約名： | B4: =施設一覧!B4 -> 令和８年度東信森林管理署庁舎等電力供給業務（単価）
A5: 施設名： | B5: 東信森林管理署防災倉庫動力
A6: 供給地点特定番号： | C6: 04-0522-8311-0618-0100-0000
A8: 低圧電力
A9: 区 分 ・ 単 位 | G9: 単 価
A10: 基本料金 | C10: 契約電力（６kw） | H10: 円／kw・月
A11: 電力量料金 | C11: 夏季（７月１日～９月３０日） | H11: 円／kw・時
C12: その他季（上記以外の月日） | H12: 円／kw・時 | I12: ※単価は税込みを表示
B14: ①基本料金 （円） | G14: ②電力量料金 （円） | N14: 月額電気
B15: 基本料金 | G15: 夏季月 | J15: その他季月 | M15: ②
A16: 月別 | B16: 契約電力(ａ) | C16: 予定力率 | D16: 単価（ｂ） | E16: 力率調整 | F16: ①金額 | G16: 予定使用 | H16: 単価（ｅ） | I16: 金額 | J16: 予定使用 | K16: 単価（'ｅ） | L16: 金額 | M16: 合計 | N16: 料金
F17: (a)×(ｂ)×(ｃ） | G17: 電力量(ｄ) | I17: （f）=（ｄ）×（ｅ） | J17: 電力量('ｄ) | L17: （'f）=（'ｄ）×（'ｅ） | M17: （f）+（'f） | N17: (①＋②)
B18: （kW） | C18: （%） | D18: （円/kW） | E18: （ｃ） | F18: （円） | G18: （kWh） | H18: （円/kWh） | I18: （円） | J18: （kWh） | K18: （円/kWh） | L18: （円） | M18: （円） | N18: （円）
A19: ８年４月 | B19: 6 | C19: 85 | G19: - | H19: - | I19: - | J19: 25
A20: ８年５月 | B20: 6 | C20: 85 | G20: - | H20: - | I20: - | J20: 25
A21: ８年６月 | B21: 6 | C21: 85 | G21: - | H21: - | I21: - | J21: 25
A22: ８年７月 | B22: 6 | C22: 85 | G22: 25 | J22: -
A23: ８年８月 | B23: 6 | C23: 85 | G23: 25 | J23: -
A24: ８年９月 | B24: 6 | C24: 85 | G24: 25 | J24: -
A25: ８年１０月 | B25: 6 | C25: 85 | G25: - | H25: - | I25: - | J25: 25
A26: ８年１１月 | B26: 6 | C26: 85 | G26: - | H26: - | I26: - | J26: 25
A27: ８年１２月 | B27: 6 | C27: 85 | G27: - | H27: - | I27: - | J27: 25
A28: ９年１月 | B28: 6 | C28: 85 | G28: - | H28: - | I28: - | J28: 25
A29: ９年２月 | B29: 6 | C29: 85 | G29: - | H29: - | I29: - | J29: 25
A30: ９年３月 | B30: 6 | C30: 85 | G30: - | H30: - | I30: - | J30: 25
A31: 合計 | B31: － | D31: － | E31: － | F31: =SUM(F19:F30) -> 0 | G31: =SUM(G19:G30) -> 75 | H31: － | I31: =SUM(I19:I30) -> 0 | J31: =SUM(J19:J30) -> 225 | K31: － | L31: =SUM(L19:L30) -> 0 | M31: =SUM(M19:M30) -> 0 | N31: =SUM(N19:N30) -> 0
L32: （B)消費税及び地方消費税額 | N32: =N31-N33 -> 0
L33: （A）税抜き金額 | N33: =ROUNDUP(N31/1.1,0) -> 0
A36: 上記の計算書の数式は以下のとおりです。
A38: （A）入札金額＝（C)税込み金額×100÷110
A39: ※円未満を切り上げるものとする。
A41: （B）消費税及び地方消費税額＝（C）入札価格（税込金額）－（A）入札価格（税抜金額）
A43: 端数処理は次のとおり
A44: 小数点以下切捨て・・・・・・・・･・・・・・・・・・ | E44: 月額電気料金
A45: 小数点以下第1位四捨五入・・・・・・・・・・・ | E45: 契約電力、予定力率、予定使用電力量
A46: 小数点以下第２位未満切捨て・・・・・・・・・ | E46: 基本料金単価、基本料金、電力量単価、電力量料金

Sheet 佐久平従量
M1: №１－３
A2: 入札価格内訳書
A4: 契約名： | B4: =施設一覧!B4 -> 令和８年度東信森林管理署庁舎等電力供給業務（単価）
A5: 施設名： | B5: 佐久平森林事務所庁舎
A6: 供給地点特定番号： | C6: 04-0522-8006-4570-1000-0000
A8: 従量電灯B
A9: 区 分 ・ 単 位 | G9: 単 価
A10: 基本料金 | C10: 契約電力（４０A） | H10: 円／月
A11: 電力量料金 | C11: 最低月額料金 | H11: 円／kw・月
C12: 最初の１２０kWhまで | H12: 円／kw・時
C13: １２０kＷhこえ３００kＷhまで | H13: 円／kw・時
C14: ３００kＷhをこえる分 | H14: 円／kw・時 | I14: ※単価は税込みを表示
B16: ①基本料金 （円） | E16: ②電力量料金 （円） | M16: 月額電気
A17: 月別 | B17: 契約電力(ａ) | C17: 基本料金 | D17: ①金額 | E17: 予定使用 | F17: 予定使用 | G17: 最低 月額料金 | H17: 最初の120kWhまで | I17: 120kＷhこえ300kＷhまで | J17: 300kＷhを こえる分 | K17: ②金額 | M17: 料金
D18: (B)×1ヶ月 | E18: 電力量(ｄ) | F18: 電力量(ｄ) | K18: （C）＋（Ｄ）＋(Ｅ)＋(F) | M18: (①＋②)
B19: （Ａ） | C19: (B) | D19: （円） | E19: （kWh） | F19: （kWh） | G19: (C) | H19: (D) | I19: ( E ) | J19: (F) | K19: （円） | M19: （円）
A20: ８年４月 | B20: 40 | E20: 350 | F20: 0 | H20: - | I20: - | J20: -
F21: 120 | G21: - | I21: - | J21: -
F22: 180 | G22: - | H22: - | I22: - | J22: -
F23: =E20-300 -> 50 | G23: - | H23: - | I23: -
A24: ８年５月 | B24: 40 | E24: 250 | F24: 0 | H24: - | I24: - | J24: -
F25: 120 | G25: - | I25: - | J25: -
F26: =E24-F25 -> 130 | G26: - | H26: - | I26: - | J26: -
F27: 0 | G27: - | H27: - | I27: - | J27: -
A28: ８年６月 | B28: 40 | E28: 200 | F28: 0 | H28: - | I28: - | J28: -
F29: 120 | G29: - | I29: - | J29: -
F30: =E28-F29 -> 80 | G30: - | H30: - | I30: - | J30: -
F31: 0 | G31: - | H31: - | I31: - | J31: -
A32: ８年７月 | B32: 40 | E32: 250 | F32: 0 | H32: - | I32: - | J32: -
F33: 120 | G33: - | I33: - | J33: -
F34: =E32-F33 -> 130 | G34: - | H34: - | I34: - | J34: -
F35: 0 | G35: - | H35: - | I35: - | J35: -
A36: ８年８月 | B36: 40 | E36: 250 | F36: 0 | H36: - | I36: - | J36: -
F37: 120 | G37: - | I37: - | J37: -
F38: =E36-F37 -> 130 | G38: - | H38: - | I38: - | J38: -
F39: 0 | G39: - | H39: - | I39: - | J39: -
A40: ８年９月 | B40: 40 | E40: 250 | F40: 0 | H40: - | I40: - | J40: -
F41: 120 | G41: - | I41: - | J41: -
F42: =E40-F41 -> 130 | G42: - | H42: - | I42: - | J42: -
F43: 0 | G43: - | H43: - | I43: - | J43: -
...

Sheet 車庫従量
M1: №１－３
A2: 入札価格内訳書
A4: 契約名： | B4: =施設一覧!B4 -> 令和８年度東信森林管理署庁舎等電力供給業務（単価）
A5: 施設名： | B5: 佐久平森林事務所車庫
A6: 供給地点特定番号： | C6: 04-0522-8006-4570-6000-0000
A8: 従量電灯B
A9: 区 分 ・ 単 位 | G9: 単 価
A10: 基本料金 | C10: 契約電力（３０A） | H10: 円／月
A11: 電力量料金 | C11: 最低月額料金 | H11: 円／kw・月
C12: 最初の１２０kWhまで | H12: 円／kw・時
C13: １２０kＷhこえ３００kＷhまで | H13: 円／kw・時
C14: ３００kＷhをこえる分 | H14: 円／kw・時 | I14: ※単価は税込みを表示
B16: ①基本料金 （円） | E16: ②電力量料金 （円） | M16: 月額電気
A17: 月別 | B17: 契約電力(ａ) | C17: 基本料金 | D17: ①金額 | E17: 予定使用 | F17: 予定使用 | G17: 最低 月額料金 | H17: 最初の120kWhまで | I17: 120kＷhこえ300kＷhまで | J17: 300kＷhを こえる分 | K17: ②金額 | M17: 料金
D18: (B)×1ヶ月 | E18: 電力量(ｄ) | F18: 電力量(ｄ) | K18: （C）＋（Ｄ）＋(Ｅ)＋(F) | M18: (①＋②)
B19: （Ａ） | C19: (B) | D19: （円） | E19: （kWh） | F19: （kWh） | G19: (C) | H19: (D) | I19: ( E ) | J19: (F) | K19: （円） | M19: （円）
A20: ８年４月 | B20: 30 | E20: 20 | F20: 0 | H20: - | I20: - | J20: -
F21: 120 | G21: - | I21: - | J21: -
F22: =E20-F21 -> -100 | G22: - | H22: - | I22: - | J22: -
F23: 0 | G23: - | H23: - | I23: - | J23: -
A24: ８年５月 | B24: 30 | E24: 10 | F24: 0 | H24: - | I24: - | J24: -
F25: 120 | G25: - | I25: - | J25: -
F26: =E24-F25 -> -110 | G26: - | H26: - | I26: - | J26: -
F27: 0 | G27: - | H27: - | I27: - | J27: -
A28: ８年６月 | B28: 30 | E28: 10 | F28: 0 | H28: - | I28: - | J28: -
F29: 120 | G29: - | I29: - | J29: -
F30: =E28-F29 -> -110 | G30: - | H30: - | I30: - | J30: -
F31: 0 | G31: - | H31: - | I31: - | J31: -
A32: ８年７月 | B32: 30 | E32: 10 | F32: 0 | H32: - | I32: - | J32: -
F33: 120 | G33: - | I33: - | J33: -
F34: =E32-F33 -> -110 | G34: - | H34: - | I34: - | J34: -
F35: 0 | G35: - | H35: - | I35: - | J35: -
A36: ８年８月 | B36: 30 | E36: 10 | F36: 0 | H36: - | I36: - | J36: -
F37: 120 | G37: - | I37: - | J37: -
F38: =E36-F37 -> -110 | G38: - | H38: - | I38: - | J38: -
F39: 0 | G39: - | H39: - | I39: - | J39: -
A40: ８年９月 | B40: 30 | E40: 10 | F40: 0 | H40: - | I40: - | J40: -
F41: 120 | G41: - | I41: - | J41: -
F42: =E40-F41 -> -110 | G42: - | H42: - | I42: - | J42: -
F43: 0 | G43: - | H43: - | I43: - | J43: -
...

Sheet 車庫低圧
N1: №１－４
A2: 入札価格内訳書
A4: 契約名： | B4: =施設一覧!B4 -> 令和８年度東信森林管理署庁舎等電力供給業務（単価）
A5: 施設名： | B5: 佐久平森林事務所車庫
A6: 供給地点特定番号： | C6: 04-0522-8006-4570-6100-0000
A8: 低圧電力
A9: 区 分 ・ 単 位 | G9: 単 価
A10: 基本料金 | C10: 契約電力（３kw） | H10: 円／kw・月
A11: 電力量料金 | C11: 夏季（７月１日～９月３０日） | H11: 円／kw・時
C12: その他季（上記以外の月日） | H12: 円／kw・時 | I12: ※単価は税込みを表示
B14: ①基本料金 （円） | G14: ②電力量料金 （円） | N14: 月額電気
B15: 基本料金 | G15: 夏季月 | J15: その他季月 | M15: ②
A16: 月別 | B16: 契約電力(ａ) | C16: 予定力率 | D16: 単価（ｂ） | E16: 力率調整 | F16: ①金額 | G16: 予定使用 | H16: 単価（ｅ） | I16: 金額 | J16: 予定使用 | K16: 単価（'ｅ） | L16: 金額 | M16: 合計 | N16: 料金
F17: (a)×(ｂ)×(ｃ） | G17: 電力量(ｄ) | I17: （f）=（ｄ）×（ｅ） | J17: 電力量('ｄ) | L17: （'f）=（'ｄ）×（'ｅ） | M17: （f）+（'f） | N17: (①＋②)
B18: （kW） | C18: （%） | D18: （円/kW） | E18: （ｃ） | F18: （円） | G18: （kWh） | H18: （円/kWh） | I18: （円） | J18: （kWh） | K18: （円/kWh） | L18: （円） | M18: （円） | N18: （円）
A19: ８年４月 | B19: 3 | C19: 80 | G19: - | H19: - | I19: - | J19: 100
A20: ８年５月 | B20: 3 | C20: 80 | G20: - | H20: - | I20: - | J20: 80
A21: ８年６月 | B21: 3 | C21: 80 | G21: - | H21: - | I21: - | J21: 50
A22: ８年７月 | B22: 3 | C22: 80 | G22: 10 | J22: -
A23: ８年８月 | B23: 3 | C23: 80 | G23: 10 | J23: -
A24: ８年９月 | B24: 3 | C24: 80 | G24: 10 | J24: -
A25: ８年１０月 | B25: 3 | C25: 80 | G25: - | H25: - | I25: - | J25: 10
A26: ８年１１月 | B26: 3 | C26: 80 | G26: - | H26: - | I26: - | J26: 30
A27: ８年１２月 | B27: 3 | C27: 80 | G27: - | H27: - | I27: - | J27: 100
A28: ９年１月 | B28: 3 | C28: 80 | G28: - | H28: - | I28: - | J28: 100
A29: ９年２月 | B29: 3 | C29: 80 | G29: - | H29: - | I29: - | J29: 100
A30: ９年３月 | B30: 3 | C30: 80 | G30: - | H30: - | I30: - | J30: 100
A31: 合計 | B31: － | D31: － | E31: － | F31: =SUM(F19:F30) -> 0 | G31: =SUM(G19:G30) -> 30 | H31: － | I31: =SUM(I19:I30) -> 0 | J31: =SUM(J19:J30) -> 670 | K31: － | L31: =SUM(L19:L30) -> 0 | M31: =SUM(M19:M30) -> 0 | N31: =SUM(N19:N30) -> 0
L32: （B)消費税及び地方消費税額 | N32: =N31-N33 -> 0
L33: （A）税抜き金額 | N33: =ROUNDUP(N31/1.1,0) -> 0
A36: 上記の計算書の数式は以下のとおりです。
A38: （A）入札金額＝（C)税込み金額×100÷110
A39: ※円未満を切り上げるものとする。
A41: （B）消費税及び地方消費税額＝（C）入札価格（税込金額）－（A）入札価格（税抜金額）
A43: 端数処理は次のとおり
A44: 小数点以下切捨て・・・・・・・・･・・・・・・・・・ | E44: 月額電気料金
A45: 小数点以下第1位四捨五入・・・・・・・・・・・ | E45: 契約電力、予定力率、予定使用電力量
A46: 小数点以下第２位未満切捨て・・・・・・・・・ | E46: 基本料金単価、基本料金、電力量単価、電力量料金

Sheet 相木従量
M1: №１－３
A2: 入札価格内訳書
A4: 契約名： | B4: =施設一覧!B4 -> 令和８年度東信森林管理署庁舎等電力供給業務（単価）
A5: 施設名： | B5: 相木森林事務所庁舎
A6: 供給地点特定番号： | C6: 04-0522-8431-0271-2000-0000
A8: 従量電灯B
A9: 区 分 ・ 単 位 | G9: 単 価
A10: 基本料金 | C10: 契約電力（４０A） | H10: 円／月
A11: 電力量料金 | C11: 最低月額料金 | H11: 円／kw・月
C12: 最初の１２０kWhまで | H12: 円／kw・時
C13: １２０kＷhこえ３００kＷhまで | H13: 円／kw・時
C14: ３００kＷhをこえる分 | H14: 円／kw・時 | I14: ※単価は税込みを表示
B16: ①基本料金 （円） | E16: ②電力量料金 （円） | M16: 月額電気
A17: 月別 | B17: 契約電力(ａ) | C17: 基本料金 | D17: ①金額 | E17: 予定使用 | F17: 予定使用 | G17: 最低 月額料金 | H17: 最初の120kWhまで | I17: 120kＷhこえ300kＷhまで | J17: 300kＷhを こえる分 | K17: ②金額 | M17: 料金
D18: (B)×1ヶ月 | E18: 電力量(ｄ) | F18: 電力量(ｄ) | K18: （C）＋（Ｄ）＋(Ｅ)＋(F) | M18: (①＋②)
B19: （Ａ） | C19: (B) | D19: （円） | E19: （kWh） | F19: （kWh） | G19: (C) | H19: (D) | I19: ( E ) | J19: (F) | K19: （円） | M19: （円）
A20: ８年４月 | B20: 40 | E20: 200 | F20: 0 | H20: - | I20: - | J20: -
F21: 120 | G21: - | I21: - | J21: -
F22: =E20-F21 -> 80 | G22: - | H22: - | I22: - | J22: -
F23: 0 | G23: - | H23: - | I23: - | J23: -
A24: ８年５月 | B24: 40 | E24: 150 | F24: 0 | H24: - | I24: - | J24: -
F25: 120 | G25: - | I25: - | J25: -
F26: =E24-F25 -> 30 | G26: - | H26: - | I26: - | J26: -
F27: 0 | G27: - | H27: - | I27: - | J27: -
A28: ８年６月 | B28: 40 | E28: 150 | F28: 0 | H28: - | I28: - | J28: -
F29: 120 | G29: - | I29: - | J29: -
F30: =E28-F29 -> 30 | G30: - | H30: - | I30: - | J30: -
F31: 0 | G31: - | H31: - | I31: - | J31: -
A32: ８年７月 | B32: 40 | E32: 150 | F32: 0 | H32: - | I32: - | J32: -
F33: 120 | G33: - | I33: - | J33: -
F34: =E32-F33 -> 30 | G34: - | H34: - | I34: - | J34: -
F35: 0 | G35: - | H35: - | I35: - | J35: -
A36: ８年８月 | B36: 40 | E36: 150 | F36: 0 | H36: - | I36: - | J36: -
F37: 120 | G37: - | I37: - | J37: -
F38: =E36-F37 -> 30 | G38: - | H38: - | I38: - | J38: -
F39: 0 | G39: - | H39: - | I39: - | J39: -
A40: ８年９月 | B40: 40 | E40: 150 | F40: 0 | H40: - | I40: - | J40: -
F41: 120 | G41: - | I41: - | J41: -
F42: =E40-F41 -> 30 | G42: - | H42: - | I42: - | J42: -
F43: 0 | G43: - | H43: - | I43: - | J43: -
...

Sheet 東部従量
M1: №１－３
A2: 入札価格内訳書
A4: 契約名： | B4: =施設一覧!B4 -> 令和８年度東信森林管理署庁舎等電力供給業務（単価）
A5: 施設名： | B5: 東部森林事務所庁舎
A6: 供給地点特定番号： | C6: 04-0520-3241-4070-2000-0000
A8: 従量電灯B
A9: 区 分 ・ 単 位 | G9: 単 価
A10: 基本料金 | C10: 契約電力（３０A） | H10: 円／月
A11: 電力量料金 | C11: 最低月額料金 | H11: 円／kw・月
C12: 最初の１２０kWhまで | H12: 円／kw・時
C13: １２０kＷhこえ３００kＷhまで | H13: 円／kw・時
C14: ３００kＷhをこえる分 | H14: 円／kw・時 | I14: ※単価は税込みを表示
B16: ①基本料金 （円） | E16: ②電力量料金 （円） | M16: 月額電気
A17: 月別 | B17: 契約電力(ａ) | C17: 基本料金 | D17: ①金額 | E17: 予定使用 | F17: 予定使用 | G17: 最低 月額料金 | H17: 最初の120kWhまで | I17: 120kＷhこえ300kＷhまで | J17: 300kＷhを こえる分 | K17: ②金額 | M17: 料金
D18: (B)×1ヶ月 | E18: 電力量(ｄ) | F18: 電力量(ｄ) | K18: （C）＋（Ｄ）＋(Ｅ)＋(F) | M18: (①＋②)
B19: （Ａ） | C19: (B) | D19: （円） | E19: （kWh） | F19: （kWh） | G19: (C) | H19: (D) | I19: ( E ) | J19: (F) | K19: （円） | M19: （円）
A20: ８年４月 | B20: 30 | E20: 200 | F20: 0 | H20: - | I20: - | J20: -
F21: 120 | G21: - | I21: - | J21: -
F22: =E20-F21 -> 80 | G22: - | H22: - | I22: - | J22: -
F23: 0 | G23: - | H23: - | I23: - | J23: -
A24: ８年５月 | B24: 30 | E24: 200 | F24: 0 | H24: - | I24: - | J24: -
F25: 120 | G25: - | I25: - | J25: -
F26: =E24-F25 -> 80 | G26: - | H26: - | I26: - | J26: -
F27: 0 | G27: - | H27: - | I27: - | J27: -
A28: ８年６月 | B28: 30 | E28: 200 | F28: 0 | H28: - | I28: - | J28: -
F29: 120 | G29: - | I29: - | J29: -
F30: =E28-F29 -> 80 | G30: - | H30: - | I30: - | J30: -
F31: 0 | G31: - | H31: - | I31: - | J31: -
A32: ８年７月 | B32: 30 | E32: 250 | F32: 0 | H32: - | I32: - | J32: -
F33: 120 | G33: - | I33: - | J33: -
F34: =E32-F33 -> 130 | G34: - | H34: - | I34: - | J34: -
F35: 0 | G35: - | H35: - | I35: - | J35: -
A36: ８年８月 | B36: 30 | E36: 200 | F36: 0 | H36: - | I36: - | J36: -
F37: 120 | G37: - | I37: - | J37: -
F38: =E36-F37 -> 80 | G38: - | H38: - | I38: - | J38: -
F39: 0 | G39: - | H39: - | I39: - | J39: -
A40: ８年９月 | B40: 30 | E40: 200 | F40: 0 | H40: - | I40: - | J40: -
F41: 120 | G41: - | I41: - | J41: -
F42: =E40-F41 -> 80 | G42: - | H42: - | I42: - | J42: -
F43: 0 | G43: - | H43: - | I43: - | J43: -
...

Sheet 小諸従量
M1: №１－３
A2: 入札価格内訳書
A4: 契約名： | B4: =施設一覧!B4 -> 令和８年度東信森林管理署庁舎等電力供給業務（単価）
A5: 施設名： | B5: 小諸森林事務所庁舎
A6: 供給地点特定番号： | C6: 04-0522-5151-0115-0000-0000
A8: 従量電灯B
A9: 区 分 ・ 単 位 | G9: 単 価
A10: 基本料金 | C10: 契約電力（３０A） | H10: 円／月
A11: 電力量料金 | C11: 最低月額料金 | H11: 円／kw・月
C12: 最初の１２０kWhまで | H12: 円／kw・時
C13: １２０kＷhこえ３００kＷhまで | H13: 円／kw・時
C14: ３００kＷhをこえる分 | H14: 円／kw・時 | I14: ※単価は税込みを表示
B16: ①基本料金 （円） | E16: ②電力量料金 （円） | M16: 月額電気
A17: 月別 | B17: 契約電力(ａ) | C17: 基本料金 | D17: ①金額 | E17: 予定使用 | F17: 予定使用 | G17: 最低 月額料金 | H17: 最初の120kWhまで | I17: 120kＷhこえ300kＷhまで | J17: 300kＷhを こえる分 | K17: ②金額 | M17: 料金
D18: (B)×1ヶ月 | E18: 電力量(ｄ) | F18: 電力量(ｄ) | K18: （C）＋（Ｄ）＋(Ｅ)＋(F) | M18: (①＋②)
B19: （Ａ） | C19: (B) | D19: （円） | E19: （kWh） | F19: （kWh） | G19: (C) | H19: (D) | I19: ( E ) | J19: (F) | K19: （円） | M19: （円）
A20: ８年４月 | B20: 30 | E20: 400 | F20: 0 | H20: - | I20: - | J20: -
F21: 120 | G21: - | I21: - | J21: -
F22: 180 | G22: - | H22: - | I22: - | J22: -
F23: =E20-300 -> 100 | G23: - | H23: - | I23: -
A24: ８年５月 | B24: 30 | E24: 400 | F24: 0 | H24: - | I24: - | J24: -
F25: 120 | G25: - | I25: - | J25: -
F26: 180 | G26: - | H26: - | I26: - | J26: -
F27: =E24-300 -> 100 | G27: - | H27: - | I27: -
A28: ８年６月 | B28: 30 | E28: 400 | F28: 0 | H28: - | I28: - | J28: -
F29: 120 | G29: - | I29: - | J29: -
F30: 180 | G30: - | H30: - | I30: - | J30: -
F31: =E28-300 -> 100 | G31: - | H31: - | I31: -
A32: ８年７月 | B32: 30 | E32: 400 | F32: 0 | H32: - | I32: - | J32: -
F33: 120 | G33: - | I33: - | J33: -
F34: 180 | G34: - | H34: - | I34: - | J34: -
F35: =E32-300 -> 100 | G35: - | H35: - | I35: -
A36: ８年８月 | B36: 30 | E36: 400 | F36: 0 | H36: - | I36: - | J36: -
F37: 120 | G37: - | I37: - | J37: -
F38: 180 | G38: - | H38: - | I38: - | J38: -
F39: =E36-300 -> 100 | G39: - | H39: - | I39: -
A40: ８年９月 | B40: 30 | E40: 400 | F40: 0 | H40: - | I40: - | J40: -
F41: 120 | G41: - | I41: - | J41: -
F42: 180 | G42: - | H42: - | I42: - | J42: -
F43: =E40-300 -> 100 | G43: - | H43: - | I43: -
...

Sheet 大門従量
M1: №１－３
A2: 入札価格内訳書
A4: 契約名： | B4: =施設一覧!B4 -> 令和８年度東信森林管理署庁舎等電力供給業務（単価）
A5: 施設名： | B5: 大門森林事務所庁舎
A6: 供給地点特定番号： | C6: 04-0520-4302-0272-1000-0000
A8: 従量電灯B
A9: 区 分 ・ 単 位 | G9: 単 価
A10: 基本料金 | C10: 契約電力（４０A） | H10: 円／月
A11: 電力量料金 | C11: 最低月額料金 | H11: 円／kw・月
C12: 最初の１２０kWhまで | H12: 円／kw・時
C13: １２０kＷhこえ３００kＷhまで | H13: 円／kw・時
C14: ３００kＷhをこえる分 | H14: 円／kw・時 | I14: ※単価は税込みを表示
B16: ①基本料金 （円） | E16: ②電力量料金 （円） | M16: 月額電気
A17: 月別 | B17: 契約電力(ａ) | C17: 基本料金 | D17: ①金額 | E17: 予定使用 | F17: 予定使用 | G17: 最低 月額料金 | H17: 最初の120kWhまで | I17: 120kＷhこえ300kＷhまで | J17: 300kＷhを こえる分 | K17: ②金額 | M17: 料金
D18: (B)×1ヶ月 | E18: 電力量(ｄ) | F18: 電力量(ｄ) | K18: （C）＋（Ｄ）＋(Ｅ)＋(F) | M18: (①＋②)
B19: （Ａ） | C19: (B) | D19: （円） | E19: （kWh） | F19: （kWh） | G19: (C) | H19: (D) | I19: ( E ) | J19: (F) | K19: （円） | M19: （円）
A20: ８年４月 | B20: 40 | E20: 100 | F20: 0 | H20: - | I20: - | J20: -
F21: 120 | G21: - | I21: - | J21: -
F22: =E20-F21 -> -20 | G22: - | H22: - | I22: - | J22: -
F23: 0 | G23: - | H23: - | I23: - | J23: -
A24: ８年５月 | B24: 40 | E24: 100 | F24: 0 | H24: - | I24: - | J24: -
F25: 120 | G25: - | I25: - | J25: -
F26: =E24-F25 -> -20 | G26: - | H26: - | I26: - | J26: -
F27: 0 | G27: - | H27: - | I27: - | J27: -
A28: ８年６月 | B28: 40 | E28: 100 | F28: 0 | H28: - | I28: - | J28: -
F29: 120 | G29: - | I29: - | J29: -
F30: =E28-F29 -> -20 | G30: - | H30: - | I30: - | J30: -
F31: 0 | G31: - | H31: - | I31: - | J31: -
A32: ８年７月 | B32: 40 | E32: 100 | F32: 0 | H32: - | I32: - | J32: -
F33: 120 | G33: - | I33: - | J33: -
F34: =E32-F33 -> -20 | G34: - | H34: - | I34: - | J34: -
F35: 0 | G35: - | H35: - | I35: - | J35: -
A36: ８年８月 | B36: 40 | E36: 100 | F36: 0 | H36: - | I36: - | J36: -
F37: 120 | G37: - | I37: - | J37: -
F38: =E36-F37 -> -20 | G38: - | H38: - | I38: - | J38: -
F39: 0 | G39: - | H39: - | I39: - | J39: -
A40: ８年９月 | B40: 40 | E40: 100 | F40: 0 | H40: - | I40: - | J40: -
F41: 120 | G41: - | I41: - | J41: -
F42: =E40-F41 -> -20 | G42: - | H42: - | I42: - | J42: -
F43: 0 | G43: - | H43: - | I43: - | J43: -
...

Sheet 青木従量
M1: №１－３
A2: 入札価格内訳書
A4: 契約名： | B4: =施設一覧!B4 -> 令和８年度東信森林管理署庁舎等電力供給業務（単価）
A5: 施設名： | B5: 青木森林事務所庁舎
A6: 供給地点特定番号： | C6: 04-0520-2107-0172-4000-0000
A8: 従量電灯B
A9: 区 分 ・ 単 位 | G9: 単 価
A10: 基本料金 | C10: 契約電力（３０A） | H10: 円／月
A11: 電力量料金 | C11: 最低月額料金 | H11: 円／kw・月
C12: 最初の１２０kWhまで | H12: 円／kw・時
C13: １２０kＷhこえ３００kＷhまで | H13: 円／kw・時
C14: ３００kＷhをこえる分 | H14: 円／kw・時 | I14: ※単価は税込みを表示
B16: ①基本料金 （円） | E16: ②電力量料金 （円） | M16: 月額電気
A17: 月別 | B17: 契約電力(ａ) | C17: 基本料金 | D17: ①金額 | E17: 予定使用 | F17: 予定使用 | G17: 最低 月額料金 | H17: 最初の120kWhまで | I17: 120kＷhこえ300kＷhまで | J17: 300kＷhを こえる分 | K17: ②金額 | M17: 料金
D18: (B)×1ヶ月 | E18: 電力量(ｄ) | F18: 電力量(ｄ) | K18: （C）＋（Ｄ）＋(Ｅ)＋(F) | M18: (①＋②)
B19: （Ａ） | C19: (B) | D19: （円） | E19: （kWh） | F19: （kWh） | G19: (C) | H19: (D) | I19: ( E ) | J19: (F) | K19: （円） | M19: （円）
A20: ８年４月 | B20: 30 | E20: 200 | F20: 0 | H20: - | I20: - | J20: -
F21: 120 | G21: - | I21: - | J21: -
F22: =E20-F21 -> 80 | G22: - | H22: - | I22: - | J22: -
F23: 0 | G23: - | H23: - | I23: - | J23: -
A24: ８年５月 | B24: 30 | E24: 200 | F24: 0 | H24: - | I24: - | J24: -
F25: 120 | G25: - | I25: - | J25: -
F26: =E24-F25 -> 80 | G26: - | H26: - | I26: - | J26: -
F27: 0 | G27: - | H27: - | I27: - | J27: -
A28: ８年６月 | B28: 30 | E28: 150 | F28: 0 | H28: - | I28: - | J28: -
F29: 120 | G29: - | I29: - | J29: -
F30: =E28-F29 -> 30 | G30: - | H30: - | I30: - | J30: -
F31: 0 | G31: - | H31: - | I31: - | J31: -
A32: ８年７月 | B32: 30 | E32: 150 | F32: 0 | H32: - | I32: - | J32: -
F33: 120 | G33: - | I33: - | J33: -
F34: =E32-F33 -> 30 | G34: - | H34: - | I34: - | J34: -
F35: 0 | G35: - | H35: - | I35: - | J35: -
A36: ８年８月 | B36: 30 | E36: 200 | F36: 0 | H36: - | I36: - | J36: -
F37: 120 | G37: - | I37: - | J37: -
F38: =E36-F37 -> 80 | G38: - | H38: - | I38: - | J38: -
F39: 0 | G39: - | H39: - | I39: - | J39: -
A40: ８年９月 | B40: 30 | E40: 200 | F40: 0 | H40: - | I40: - | J40: -
F41: 120 | G41: - | I41: - | J41: -
F42: =E40-F41 -> 80 | G42: - | H42: - | I42: - | J42: -
F43: 0 | G43: - | H43: - | I43: - | J43: -
...

Sheet 内訳書（記載例）
A1: 入札金額内訳書（記載例）
I2: 所在地 | J2: 長野県長野市大字栗田○○○－○
A3: 契約名： | B3: 令和〇年度中部森林管理局庁舎電力供給業務（単価） | I3: 会社名 | J3: 株式会社 ○○○○
A4: 施設名： | B4: 中部森林管理局庁舎 | I4: 代表者氏名 | J4: 代表取締役 ○○ ○○
F5: 単価入力箇所 | I5: 代理人
A7: 区 分 ・ 単 位 | F7: 単 価
A8: 基本料金 | C8: 予定契約電力（261kW） b | F8: 1123.2 | G8: 円／kw・月
A9: 電力量料金 | C9: 夏季（７月１日～９月30日） e | F9: 16.73 | G9: 円／kw・時
C10: その他季（上記以外の月日） 'e | F10: 15.21 | G10: 円／kw・時 | H10: ※単価は税込みを表示
B12: ①基本料金 （円） | F12: ②電力量料金 （円）
B13: 通常電力 | F13: 夏季 | I13: その他季 | L13: ②合計 | M13: 総計
A14: 月別 | B14: 契約電力 ａ | C14: 単価 ｂ | D14: 予定力率 ｃ | E14: ①計 | F14: 予定使用 | G14: 単価 ｅ | H14: 夏季月計 | I14: 予定使用 | J14: 単価 'ｅ | K14: その他季計
E15: a×ｂ×ｃ | F15: 電力量 ｄ | H15: f=ｄ×ｅ | I15: 電力量 'ｄ | K15: f='ｄ×'ｅ | L15: f＋'f | M15: ①＋②
B16: （kW） | C16: （円/kW ・月） | D16: （%） | E16: （円） | F16: （kWh） | G16: （円/kWh） | H16: （円） | I16: （kWh） | J16: （円/kWh） | K16: （円） | L16: （円） | M16: （円）
A17: ５年４月 | B17: 212 | C17: =+F8 -> 1123.2 | D17: 1 | E17: =ROUNDDOWN(B17*C17*D17,2) -> 238118.4 | I17: 26828 | J17: =+F10 -> 15.21 | K17: =ROUNDDOWN(I17*J17,2) -> 408053.88 | L17: =H17+K17 -> 408053.88 | M17: =ROUNDDOWN(E17+L17,0) -> 646172
A18: ５年５月 | B18: 212 | C18: =$C$17 -> 1123.2 | D18: =$D$17 -> 1 | E18: =ROUNDDOWN(B18*C18*D18,2) -> 238118.4 | I18: 12049 | J18: =$J$17 -> 15.21 | K18: =ROUNDDOWN(I18*J18,2) -> 183265.29 | L18: =H18+K18 -> 183265.29 | M18: =ROUNDDOWN(E18+L18,0) -> 421383
A19: ５年６月 | B19: 212 | C19: =$C$17 -> 1123.2 | D19: =$D$17 -> 1 | E19: =ROUNDDOWN(B19*C19*D19,2) -> 238118.4 | I19: 15601 | J19: =$J$17 -> 15.21 | K19: =ROUNDDOWN(I19*J19,2) -> 237291.21 | L19: =H19+K19 -> 237291.21 | M19: =ROUNDDOWN(E19+L19,0) -> 475409
A20: ５年７月 | B20: 212 | C20: =$C$17 -> 1123.2 | D20: =$D$17 -> 1 | E20: =ROUNDDOWN(B20*C20*D20,2) -> 238118.4 | F20: 18457 | G20: =+F9 -> 16.73 | H20: =ROUNDDOWN(F20*G20,2) -> 308785.61 | L20: =H20+K20 -> 308785.61 | M20: =ROUNDDOWN(E20+L20,0) -> 546904
A21: ５年８月 | B21: 212 | C21: =$C$17 -> 1123.2 | D21: =$D$17 -> 1 | E21: =ROUNDDOWN(B21*C21*D21,2) -> 238118.4 | F21: 34920 | G21: =$G$20 -> 16.73 | H21: =ROUNDDOWN(F21*G21,2) -> 584211.6 | L21: =H21+K21 -> 584211.6 | M21: =ROUNDDOWN(E21+L21,0) -> 822330
A22: ５年９月 | B22: 212 | C22: =$C$17 -> 1123.2 | D22: =$D$17 -> 1 | E22: =ROUNDDOWN(B22*C22*D22,2) -> 238118.4 | F22: 21190 | G22: =$G$20 -> 16.73 | H22: =ROUNDDOWN(F22*G22,2) -> 354508.7 | L22: =H22+K22 -> 354508.7 | M22: =ROUNDDOWN(E22+L22,0) -> 592627
A23: ５年10月 | B23: 212 | C23: =$C$17 -> 1123.2 | D23: =$D$17 -> 1 | E23: =ROUNDDOWN(B23*C23*D23,2) -> 238118.4 | I23: 17231 | J23: =$J$17 -> 15.21 | K23: =ROUNDDOWN(I23*J23,2) -> 262083.51 | L23: =H23+K23 -> 262083.51 | M23: =ROUNDDOWN(E23+L23,0) -> 500201
A24: ５年11月 | B24: 212 | C24: =$C$17 -> 1123.2 | D24: =$D$17 -> 1 | E24: =ROUNDDOWN(B24*C24*D24,2) -> 238118.4 | I24: 27643 | J24: =$J$17 -> 15.21 | K24: =ROUNDDOWN(I24*J24,2) -> 420450.03 | L24: =H24+K24 -> 420450.03 | M24: =ROUNDDOWN(E24+L24,0) -> 658568
A25: ５年12月 | B25: 212 | C25: =$C$17 -> 1123.2 | D25: =$D$17 -> 1 | E25: =ROUNDDOWN(B25*C25*D25,2) -> 238118.4 | I25: 43470 | J25: =$J$17 -> 15.21 | K25: =ROUNDDOWN(I25*J25,2) -> 661178.7 | L25: =H25+K25 -> 661178.7 | M25: =ROUNDDOWN(E25+L25,0) -> 899297
A26: ６年１月 | B26: 212 | C26: =$C$17 -> 1123.2 | D26: =$D$17 -> 1 | E26: =ROUNDDOWN(B26*C26*D26,2) -> 238118.4 | I26: 47346 | J26: =$J$17 -> 15.21 | K26: =ROUNDDOWN(I26*J26,2) -> 720132.66 | L26: =H26+K26 -> 720132.66 | M26: =ROUNDDOWN(E26+L26,0) -> 958251
A27: ６年２月 | B27: 212 | C27: =$C$17 -> 1123.2 | D27: =$D$17 -> 1 | E27: =ROUNDDOWN(B27*C27*D27,2) -> 238118.4 | I27: 41974 | J27: =$J$17 -> 15.21 | K27: =ROUNDDOWN(I27*J27,2) -> 638424.54 | L27: =H27+K27 -> 638424.54 | M27: =ROUNDDOWN(E27+L27,0) -> 876542
A28: ６年３月 | B28: 212 | C28: =$C$17 -> 1123.2 | D28: =$D$17 -> 1 | E28: =ROUNDDOWN(B28*C28*D28,2) -> 238118.4 | I28: 36060 | J28: =$J$17 -> 15.21 | K28: =ROUNDDOWN(I28*J28,2) -> 548472.6 | L28: =H28+K28 -> 548472.6 | M28: =ROUNDDOWN(E28+L28,0) -> 786591
A29: 合計 | B29: － | C29: － | E29: =SUM(E17:E28) -> 2857420.8 | F29: =SUM(F17:F28) -> 74567 | G29: － | H29: =SUM(H17:H28) -> 1247505.9 | I29: =SUM(I17:I28) -> 268202 | J29: － | K29: =SUM(K17:K28) -> 4079352.4 | L29: =SUM(L17:L28) -> 5326858.3 | M29: =SUM(M17:M28) -> 8184275
K30: 【B】消費税及び地方消費税額 | M30: =M29-M31 -> 744025
K31: 【A】入札金額 | M31: =ROUNDUP(M29/1.1,0) -> 7440250
A33: 上記の計算書の数式は以下のとおりです。
A35: 【A】入札金額＝【C】税込み金額×100÷110 ※円未満を切り上げるものとする。
A37: 【B】消費税及び地方消費税額＝【C】税込金額－【A】入札金額
A39: ※基本料金の力率は、仕様書に基づいた値で積算するものとする（実際の料金請求における基本料金の力率割引割増は、実際の各月の力率により算定する）。
A40: ※電力量料金における料金単価区分は、仕様書にも基づくものとする。
A41: ※燃料費調整および市場価格調整は、上記に含めないものとする。
A42: ※各月の総計を合算したのもを年計の総計とするものとする（端数処理により、基本料金、電力量料金の合計とは一致しない場合もある）。
A43: ※端数処理
A44: 少数点以下切捨・・・・・・・・ 総計
A45: 少数点以下第２位未満切捨・・・ 基本料金単価 ｂ、基本料金計 ①、電力量料金単価 e及び'e、電力量料金計 ②
A47: ※注意
...
