Workbook

Sheet 実施状況報告
J1: 別記様式２（工事）
A2: ウィークリースタンス実施状況報告書
A4: （１）基本情報 | J4: 提出日
B5: 工事名 | P5: 1 | Q5: 休日の翌日（月曜日等）は依頼の期限日としない。
B6: 工期 | H6: ～ | P6: 2 | Q6: 休日の前日（金曜日等）は新たな依頼をしない。
B7: 発注者 | C7: 発注者名 | P7: 3 | Q7: ノー残業デーは勤務時間外に依頼しない。
C8: 役職名 | P8: 4 | Q8: 打合せの開始時に終了時刻を定め、原則としてその時刻までに打合せを終了する。
C9: 氏名 | P9: 5 | Q9: 午後４時以降の打合せ、現地立会は行わない。
B10: 受注者 | C10: 受注者名 | P10: 6 | Q10: 作業内容に見合った作業期間を確保する。
C11: 役職名 | P11: 7 | Q11: 業務時間外に応答が必要な連絡を行わない。
C12: 氏名 | P12: 8 | Q12: その他、任意で設定する取組
P13: 9
A14: （２）実施状況及び改善点
A15: ① | B15: 休日の翌日（月曜日等）は依頼の期限日としない。
B16: 実施状況： | P16: 1 | Q16: 実施できた
B17: 「実施できた・どちらかというと実施できた」以外を選択した場合、その理由を以下に記入 | P17: 2 | Q17: どちらかというと実施できた
P18: 3 | Q18: どちらかというと実施できなかった
P19: 4 | Q19: 全く実施できなかった
A20: ② | B20: 休日の前日（金曜日等）は新たな依頼をしない。 | P20: 5 | Q20: 対象外
B21: 実施状況： | P21: 6
B22: 「実施できた・どちらかというと実施できた」以外を選択した場合、その理由を以下に記入
P24: 1 | Q24: 有
A25: ③ | B25: ノー残業デーは勤務時間外に依頼しない。 | P25: 2 | Q25: 無
B26: 実施状況： | P26: 3
B27: 「実施できた・どちらかというと実施できた」以外を選択した場合、その理由を以下に記入
A30: ④ | B30: 打合せの開始時に終了時刻を定め、原則としてその時刻までに打合せを終了する。
B31: 実施状況：
B32: 「実施できた・どちらかというと実施できた」以外を選択した場合、その理由を以下に記入
A35: ⑤ | B35: 午後４時以降の打合せ、現地立会は行わない。
B36: 実施状況：
B37: 「実施できた・どちらかというと実施できた」以外を選択した場合、その理由を以下に記入
A40: ⑥ | B40: 作業内容に見合った作業期間を確保する。
B41: 実施状況：
B42: 「実施できた・どちらかというと実施できた」以外を選択した場合、その理由を以下に記入
A45: ⑦ | B45: 業務時間外に応答が必要な連絡を行わない。
B46: 実施状況：
B47: 「実施できた・どちらかというと実施できた」以外を選択した場合、その理由を以下に記入
A50: ⑧ | B50: その他、任意で設定する取組
B51: 設定の有無：
B52: 設定ありの場合の内容：
...

Sheet 実施状況報告 (記載例)
B1: 【記載例】 | J1: 別記様式２（工事）
A2: ウィークリースタンス実施状況報告書
A4: （１）基本情報 | J4: 提出日 | K4: 45392
B5: 工事名 | C5: ●●工事 | P5: 1 | Q5: 休日の翌日（月曜日等）は依頼の期限日としない。
B6: 工期 | C6: 45383 | H6: ～ | I6: 45747 | P6: 2 | Q6: 休日の前日（金曜日等）は新たな依頼をしない。
B7: 発注者 | C7: 発注者名 | D7: ○○森林管理署 | P7: 3 | Q7: ノー残業デーは勤務時間外に依頼しない。
C8: 役職名 | D8: 監督職員 | P8: 4 | Q8: 打合せの開始時に終了時刻を定め、原則としてその時刻までに打合せを終了する。
C9: 氏名 | D9: ○○ ○○ | P9: 5 | Q9: 午後４時以降の打合せ、現地立会は行わない。
B10: 受注者 | C10: 会社名 | D10: ○○建設(株) | P10: 6 | Q10: 作業内容に見合った作業期間を確保する。
C11: 役職名 | D11: 監理（主任）技術者 | G11: 現場代理人 | P11: 7 | Q11: 業務時間外に応答が必要な連絡を行わない。
C12: 氏名 | D12: ○○ ○○ | G12: ○○ ○○ | P12: 8 | Q12: その他、任意で設定する取組
P13: 9
A14: （２）実施状況及び改善点
A15: ① | B15: 休日の翌日（月曜日等）は依頼の期限日としない。
B16: 実施状況： | D16: 実施できた | P16: 1 | Q16: 実施できた
B17: 「実施できた・どちらかというと実施できた」以外を選択した場合、その理由を以下に記入 | P17: 2 | Q17: どちらかというと実施できた
P18: 3 | Q18: どちらかというと実施できなかった
P19: 4 | Q19: 全く実施できなかった
A20: ② | B20: 休日の前日（金曜日等）は新たな依頼をしない。 | P20: 5 | Q20: 対象外
B21: 実施状況： | D21: どちらかというと実施できた | P21: 6
B22: 「実施できた・どちらかというと実施できた」以外を選択した場合、その理由を以下に記入
P24: 1 | Q24: 有
A25: ③ | B25: ノー残業デーは勤務時間外に依頼しない。 | P25: 2 | Q25: 無
B26: 実施状況： | D26: 実施できた | P26: 3
B27: 「実施できた・どちらかというと実施できた」以外を選択した場合、その理由を以下に記入
A30: ④ | B30: 打合せの開始時に終了時刻を定め、原則としてその時刻までに打合せを終了する。
B31: 実施状況： | D31: 全く実施できなかった
B32: 「実施できた・どちらかというと実施できた」以外を選択した場合、その理由を以下に記入
B33: 打合せを効率的に実施することができず、長引き設定した時間内に終了しなかった
A35: ⑤ | B35: 午後４時以降の打合せ、現地立会は行わない。
B36: 実施状況： | D36: どちらかというと実施できなかった
B37: 「実施できた・どちらかというと実施できた」以外を選択した場合、その理由を以下に記入
B38: 急ぎ決めたい内容が発生し、16時以降に打合せすることがあった
A40: ⑥ | B40: 作業内容に見合った作業期間を確保する。
B41: 実施状況： | D41: 実施できた
B42: 「実施できた・どちらかというと実施できた」以外を選択した場合、その理由を以下に記入
A45: ⑦ | B45: 業務時間外に応答が必要な連絡を行わない。
B46: 実施状況： | D46: 実施できた
B47: 「実施できた・どちらかというと実施できた」以外を選択した場合、その理由を以下に記入
A50: ⑧ | B50: その他、任意で設定する取組
...

Sheet 集計
F1: ① | H1: ② | J1: ③ | L1: ④ | N1: ⑤ | P1: ⑥ | R1: ⑦ | T1: ⑧ | X1: ⑨
A2: 発注者 | B2: 受注者 | C2: 工事名 | D2: 工期（自） | E2: 工期（至） | F2: =実施状況報告!B15 -> 休日の翌日（月曜日等）は依頼の期限日としない。 | H2: =実施状況報告!B20 -> 休日の前日（金曜日等）は新たな依頼をしない。 | J2: =実施状況報告!B25 -> ノー残業デーは勤務時間外に依頼しない。 | L2: =実施状況報告!B30 -> 打合せの開始時に終了時刻を定め、原則としてその時刻までに打合せを終了する。 | N2: =実施状況報告!B35 -> 午後４時以降の打合せ、現地立会は行わない。 | P2: =実施状況報告!B40 -> 作業内容に見合った作業期間を確保する。 | R2: =実施状況報告!B45 -> 業務時間外に応答が必要な連絡を行わない。 | T2: =実施状況報告!B50 -> その他、任意で設定する取組 | X2: 問題点や改善点
F3: 実施状況 | G3: 実施できなかった理由 | H3: 実施状況 | I3: 実施できなかった理由 | J3: 実施状況 | K3: 実施できなかった理由 | L3: 実施状況 | M3: 実施できなかった理由 | N3: 実施状況 | O3: 実施できなかった理由 | P3: 実施状況 | Q3: 実施できなかった理由 | R3: 実施状況 | S3: 実施できなかった理由 | T3: 設定の有無 | U3: 内容 | V3: 実施状況 | W3: 実施できなかった理由
A4: =実施状況報告!D7 -> 0 | B4: =実施状況報告!D10 -> 0 | C4: =実施状況報告!C5 -> 0 | D4: =実施状況報告!C6 -> 0 | E4: =実施状況報告!I6 -> 0 | F4: =実施状況報告!D16 -> 0 | G4: =実施状況報告!B18 -> 0 | H4: =実施状況報告!D21 -> 0 | I4: =実施状況報告!B23 -> 0 | J4: =実施状況報告!D26 -> 0 | K4: =実施状況報告!B28 -> 0 | L4: =実施状況報告!D31 -> 0 | M4: =実施状況報告!B33 -> 0 | N4: =実施状況報告!D36 -> 0 | O4: =実施状況報告!B38 -> 0 | P4: =実施状況報告!D41 -> 0 | Q4: =実施状況報告!B43 -> 0 | R4: =実施状況報告!D46 -> 0 | S4: =実施状況報告!B48 -> 0 | T4: =実施状況報告!D51 -> 0 | U4: =実施状況報告!D52 -> 0 | V4: =実施状況報告!D53 -> 0 | W4: =実施状況報告!B55 -> 0
