Workbook

Sheet ﾁｪｯｸｼｰﾄ
J1: 別記様式１（工事）
A2: ウィークリースタンス推進チェックシート（初回打合せ時）
A4: （１）参加者 | J4: 実施日
B5: 工事名
B6: 工期 | H6: ～
B7: 発注者 | C7: 発注者名
C8: 役職名
C9: 氏名
B10: 受注者 | C10: 受注者名
C11: 役職名
C12: 氏名
A14: （２）営業時間等
B15: 発注者 | H15: 受注者
B16: 始業時間 | H16: 始業時間
B17: 終業時間 | H17: 終業時間
B18: ノー残業デー※１ | H18: ノー残業デー※１
B19: ※1 毎月の定時退社・退庁の曜日または日を記入すること。
A21: （３）ウィークリースタンス取り組み実施内容 （■実施項目）
B22: 実施項目 | H22: 特記事項（日付け等の設定） | L22: 実施
B23: （１）休日の翌日（月曜日等）は依頼の期限日としない。 | L23: ■ | P23: =+IF(L23="","",VLOOKUP(L23,リスト!$A$2:$B$5,2,FALSE)) -> 1 | Q23: =+B23&H23 -> （１）休日の翌日（月曜日等）は依頼の期限日としない。
B24: （２）休日の前日（金曜日等）は新たな依頼をしない。 | L24: ■ | P24: =+IF(L24="","",VLOOKUP(L24,リスト!$A$2:$B$5,2,FALSE)) -> 1 | Q24: =+B24&H24 -> （２）休日の前日（金曜日等）は新たな依頼をしない。
B25: （３）ノー残業デーは勤務時間外に依頼しない。 | L25: ■ | P25: =+IF(L25="","",VLOOKUP(L25,リスト!$A$2:$B$5,2,FALSE)) -> 1 | Q25: =+B25&H25 -> （３）ノー残業デーは勤務時間外に依頼しない。
B26: （４）打合せの開始時に終了時刻を定め、原則としてその時刻までに打合せを終了する。 | L26: ■ | P26: =+IF(L26="","",VLOOKUP(L26,リスト!$A$2:$B$5,2,FALSE)) -> 1 | Q26: =+B26&H26 -> （４）打合せの開始時に終了時刻を定め、原則としてその時刻までに打合せを終了する。
B27: （５）午後４時以降の打合せ、現地立会は行わない。 | L27: ■ | P27: =+IF(L27="","",VLOOKUP(L27,リスト!$A$2:$B$5,2,FALSE)) -> 1 | Q27: =+B27&H27 -> （５）午後４時以降の打合せ、現地立会は行わない。
B28: （６）作業内容に見合った作業期間を確保する。 | L28: ■ | P28: =+IF(L28="","",VLOOKUP(L28,リスト!$A$2:$B$5,2,FALSE)) -> 1 | Q28: =+B28&H28 -> （６）作業内容に見合った作業期間を確保する。
B29: （７）業務時間外に応答が必要な連絡を行わない。 | L29: ■ | P29: =+IF(L29="","",VLOOKUP(L29,リスト!$A$2:$B$5,2,FALSE)) -> 1 | Q29: =+B29&H29 -> （７）業務時間外に応答が必要な連絡を行わない。
B30: （８）その他の項目※2
P31: =+IF(L31="","",VLOOKUP(L31,リスト!$A$2:$B$5,2,FALSE)) | Q31: =+B31&H31
P32: =+IF(L32="","",VLOOKUP(L32,リスト!$A$2:$B$5,2,FALSE)) | Q32: =+B32&H32
P33: =+IF(L33="","",VLOOKUP(L33,リスト!$A$2:$B$5,2,FALSE)) | Q33: =+B33&H33
B34: ※2 (1)～(7)以外で取り組む内容がある場合に記入する。
B35: ※ 受注者の希望する実施項目は「□」とし、初回打合せを踏まえ実施する項目を「■」とする。
A38: （４）緊急時等の対処方法
B39: 緊急時等の対処方法
P40: =+IF(B40="","",1) | Q40: =+B40 -> 0
P41: =+IF(B41="","",1) | Q41: =+B41 -> 0
P42: =+IF(B42="","",1) | Q42: =+B42 -> 0
P43: =+IF(B43="","",1) | Q43: =+B43 -> 0
B44: ※ 工事の内容や特性を踏まえ、緊急的な対応、第三者等の要求に伴う対応及び休日又は夜間作業等により、設定した取り組みが実施できない場合の対処方法（依頼や期限に関する特例、代休、振替休日の措置等）について双方で確認し設定する。

Sheet ﾁｪｯｸｼｰﾄ (記載例) 
B1: 【記載例】 | J1: 別記様式１（工事）
A2: ウィークリースタンス推進チェックシート（初回打合せ時）
A4: （１）参加者 | J4: 実施日 | K4: 45392
B5: 工事名 | C5: ●●工事
B6: 工期 | C6: 45383 | H6: ～ | I6: 45747
B7: 発注者 | C7: 発注者名 | D7: ○○森林管理署
C8: 役職名 | D8: 監督職員
C9: 氏名 | D9: ○○ ○○
B10: 受注者 | C10: 会社名 | D10: ○○建設(株)
C11: 役職名 | D11: 監理（主任）技術者 | G11: 現場代理人
C12: 氏名 | D12: ○○ ○○ | G12: ○○ ○○
A14: （２）営業時間等
B15: 発注者 | H15: 受注者
B16: 始業時間 | E16: 0.35416667 | H16: 始業時間 | K16: 0.38541667
B17: 終業時間 | E17: 0.71875 | H17: 終業時間 | K17: 0.75
B18: ノー残業デー※１ | E18: 毎週水、金曜日、毎月16日 | H18: ノー残業デー※１ | K18: 毎月10日、15日、20日、25日
B19: ※1 毎月の定時退社・退庁の曜日または日を記入すること。
A21: （３）ウィークリースタンス取り組み実施内容 （■実施項目）
B22: 実施項目 | H22: 特記事項（日付け等の設定） | L22: 実施
B23: （１）休日の翌日（月曜日等）は依頼の期限日としない。 | H23: 月曜日等（第三者の要求対応を除く） | L23: ■ | P23: =+IF(L23="","",VLOOKUP(L23,リスト!$A$2:$B$5,2,FALSE)) -> 1 | Q23: =+B23 -> （１）休日の翌日（月曜日等）は依頼の期限日としない。
B24: （２）休日の前日（金曜日等）は新たな依頼をしない。 | H24: 金曜日等（第三者の要求対応を除く） | L24: ■ | P24: =+IF(L24="","",VLOOKUP(L24,リスト!$A$2:$B$5,2,FALSE)) -> 1 | Q24: =+B24 -> （２）休日の前日（金曜日等）は新たな依頼をしない。
B25: （３）ノー残業デーは勤務時間外に依頼しない。 | H25: 毎週水曜日（第三者の要求対応を除く） | L25: ■ | P25: =+IF(L25="","",VLOOKUP(L25,リスト!$A$2:$B$5,2,FALSE)) -> 1 | Q25: =+B25 -> （３）ノー残業デーは勤務時間外に依頼しない。
B26: （４）打合せの開始時に終了時刻を定め、原則としてその時刻までに打合せを終了する。 | L26: ■ | P26: =+IF(L26="","",VLOOKUP(L26,リスト!$A$2:$B$5,2,FALSE)) -> 1 | Q26: =+B26 -> （４）打合せの開始時に終了時刻を定め、原則としてその時刻までに打合せを終了する。
B27: （５）午後４時以降の打合せ、現地立会は行わない。 | H27: １６時以降開始する打合せを行わない。 | L27: ■ | P27: =+IF(L27="","",VLOOKUP(L27,リスト!$A$2:$B$5,2,FALSE)) -> 1 | Q27: =+B27 -> （５）午後４時以降の打合せ、現地立会は行わない。
B28: （６）作業内容に見合った作業期間を確保する。 | L28: ■ | P28: =+IF(L28="","",VLOOKUP(L28,リスト!$A$2:$B$5,2,FALSE)) -> 1 | Q28: =+B28 -> （６）作業内容に見合った作業期間を確保する。
B29: （７）業務時間外に応答が必要な連絡を行わない。 | L29: ■ | P29: =+IF(L29="","",VLOOKUP(L29,リスト!$A$2:$B$5,2,FALSE)) -> 1 | Q29: =+B29 -> （７）業務時間外に応答が必要な連絡を行わない。
B30: （８）その他の項目※2
B31: 打合せは午前１０時～午後４時までの時間とする | L31: □ | P31: =+IF(L31="","",VLOOKUP(L31,リスト!$A$2:$B$5,2,FALSE)) -> 2 | Q31: =+B31 -> 打合せは午前１０時～午後４時までの時間とする
B32: ノー残業デーは定時の帰宅に心がける | L32: □ | P32: =+IF(L32="","",VLOOKUP(L32,リスト!$A$2:$B$5,2,FALSE)) -> 2 | Q32: =+B32 -> ノー残業デーは定時の帰宅に心がける
B33: 打合せはＷＥＢ会議を活用するなど、効率的な実施に努める | L33: □ | P33: =+IF(L33="","",VLOOKUP(L33,リスト!$A$2:$B$5,2,FALSE)) -> 2 | Q33: =+B33 -> 打合せはＷＥＢ会議を活用するなど、効率的な実施に努める
B34: ※2 (1)～(7)以外で取り組む内容がある場合に記入する。
B35: ※ 受注者の希望する実施項目は「□」とし、初回打合せを踏まえ実施する項目を「■」とする。
A38: （４）緊急時等の対処方法
B39: 緊急時等の対処方法
B40: 受注者は権利者等との調整の結果、休日の作業となる場合は休日の翌日（●曜日）を振替日（休日）とする。 | P40: =+IF(B40="","",1) -> 1 | Q40: =+B40 -> 受注者は権利者等との調整の結果、休日の作業となる場合は休日の翌日（●曜日）を振替日（休日）とする。
B41: ノー残業デーは権利者等の第三者の要求によるものを除き勤務時間外の業務対応を求めない。 | P41: =+IF(B41="","",1) -> 1 | Q41: =+B41 -> ノー残業デーは権利者等の第三者の要求によるものを除き勤務時間外の業務対応を求めない。
P42: =+IF(B42="","",1) | Q42: =+B42 -> 0
P43: =+IF(B43="","",1) | Q43: =+B43 -> 0
B44: ※ 工事の内容や特性を踏まえ、緊急的な対応、第三者等の要求に伴う対応及び休日又は夜間作業等により、設定した取り組みが実施できない場合の対処方法（依頼や期限に関する特例、代休、振替休日の措置等）について双方で確認し設定する。

Sheet リスト
A2: ■ | B2: 1
A3: □ | B3: 2
A4: － | B4: 3
B5: 4

Sheet 集計
G1: 発注者 | J1: 受注者 | M1: ① | O1: ② | Q1: ③ | S1: ④ | U1: ⑤ | W1: ⑥ | Y1: ⑦ | AA1: ⑧ | AC1: ⑨ | AE1: ⑩ | AG1: 緊急等対処方法
B2: 工事名 | C2: 発注者 | D2: 受注者 | E2: 工期（自） | F2: 工期（至） | G2: 営業（始） | H2: 営業（終） | I2: ノー残業デー | J2: 営業（始） | K2: 営業（終） | L2: ノー残業デー | M2: =ﾁｪｯｸｼｰﾄ!B23 -> （１）休日の翌日（月曜日等）は依頼の期限日としない。 | O2: =ﾁｪｯｸｼｰﾄ!B24 -> （２）休日の前日（金曜日等）は新たな依頼をしない。 | Q2: =ﾁｪｯｸｼｰﾄ!B25 -> （３）ノー残業デーは勤務時間外に依頼しない。 | S2: =ﾁｪｯｸｼｰﾄ!B26 -> （４）打合せの開始時に終了時刻を定め、原則としてその時刻までに打合せを終了する。 | U2: =ﾁｪｯｸｼｰﾄ!B27 -> （５）午後４時以降の打合せ、現地立会は行わない。 | W2: =ﾁｪｯｸｼｰﾄ!B28 -> （６）作業内容に見合った作業期間を確保する。 | Y2: =ﾁｪｯｸｼｰﾄ!B29 -> （７）業務時間外に応答が必要な連絡を行わない。 | AA2: =ﾁｪｯｸｼｰﾄ!B31 -> 0 | AC2: =ﾁｪｯｸｼｰﾄ!B32 -> 0 | AE2: =ﾁｪｯｸｼｰﾄ!B33 -> 0 | AG2: =ﾁｪｯｸｼｰﾄ!B40 -> 0 | AH2: =ﾁｪｯｸｼｰﾄ!B41 -> 0 | AI2: =ﾁｪｯｸｼｰﾄ!B42 -> 0 | AJ2: =ﾁｪｯｸｼｰﾄ!B43 -> 0
M3: 実施の有無 | N3: 特記事項 | O3: 実施の有無 | P3: 特記事項 | Q3: 実施の有無 | R3: 特記事項 | S3: 実施の有無 | T3: 特記事項 | U3: 実施の有無 | V3: 特記事項 | W3: 実施の有無 | X3: 特記事項 | Y3: 実施の有無 | Z3: 特記事項 | AA3: 実施の有無 | AB3: 特記事項 | AC3: 実施の有無 | AD3: 特記事項 | AE3: 実施の有無 | AF3: 特記事項
B4: =+ﾁｪｯｸｼｰﾄ!C5 -> 0 | C4: =+ﾁｪｯｸｼｰﾄ!D7 -> 0 | D4: =+ﾁｪｯｸｼｰﾄ!D10 -> 0 | E4: =ﾁｪｯｸｼｰﾄ!C6 -> 0 | F4: =ﾁｪｯｸｼｰﾄ!I6 -> 0 | G4: =+ﾁｪｯｸｼｰﾄ!E16 -> 0 | H4: =+ﾁｪｯｸｼｰﾄ!E17 -> 0 | I4: =+ﾁｪｯｸｼｰﾄ!E18 -> 0 | J4: =+ﾁｪｯｸｼｰﾄ!K16 -> 0 | K4: =+ﾁｪｯｸｼｰﾄ!K17 -> 0 | L4: =+ﾁｪｯｸｼｰﾄ!K18 -> 0 | M4: =IF(OR(ﾁｪｯｸｼｰﾄ!P23=1,ﾁｪｯｸｼｰﾄ!P23=2),"有り","無し") -> 有り | N4: =ﾁｪｯｸｼｰﾄ!H23 -> 0 | O4: =IF(OR(ﾁｪｯｸｼｰﾄ!P24=1,ﾁｪｯｸｼｰﾄ!P24=2),"有り","無し") -> 有り | P4: =ﾁｪｯｸｼｰﾄ!H24 -> 0 | Q4: =IF(OR(ﾁｪｯｸｼｰﾄ!P25=1,ﾁｪｯｸｼｰﾄ!P25=2),"有り","無し") -> 有り | R4: =ﾁｪｯｸｼｰﾄ!H25 -> 0 | S4: =IF(OR(ﾁｪｯｸｼｰﾄ!P26=1,ﾁｪｯｸｼｰﾄ!P26=2),"有り","無し") -> 有り | T4: =ﾁｪｯｸｼｰﾄ!H26 -> 0 | U4: =IF(OR(ﾁｪｯｸｼｰﾄ!P27=1,ﾁｪｯｸｼｰﾄ!P27=2),"有り","無し") -> 有り | V4: =ﾁｪｯｸｼｰﾄ!H27 -> 0 | W4: =IF(OR(ﾁｪｯｸｼｰﾄ!P28=1,ﾁｪｯｸｼｰﾄ!P28=2),"有り","無し") -> 有り | X4: =ﾁｪｯｸｼｰﾄ!H28 -> 0 | Y4: =IF(OR(ﾁｪｯｸｼｰﾄ!P29=1,ﾁｪｯｸｼｰﾄ!P29=2),"有り","無し") -> 有り | Z4: =ﾁｪｯｸｼｰﾄ!H29 -> 0 | AA4: =IF(OR(ﾁｪｯｸｼｰﾄ!P31=1,ﾁｪｯｸｼｰﾄ!P31=2),"有り","無し") -> 無し | AB4: =ﾁｪｯｸｼｰﾄ!H31 -> 0 | AC4: =IF(OR(ﾁｪｯｸｼｰﾄ!P32=1,ﾁｪｯｸｼｰﾄ!P32=2),"有り","無し") -> 無し | AD4: =ﾁｪｯｸｼｰﾄ!H32 -> 0 | AE4: =IF(OR(ﾁｪｯｸｼｰﾄ!P33=1,ﾁｪｯｸｼｰﾄ!P33=2),"有り","無し") -> 無し | AF4: =ﾁｪｯｸｼｰﾄ!H33 -> 0
