Workbook
Name aaaa: {"'旅費精算ＤＴ２'!$A$1:$N$40"}
Name 区分コード: #REF!
Name 経費科目: #REF!
Name 経費科目_コード: #REF!
Name 経費科目_略称: #REF!
Name 項: #REF!
Name 細分: #REF!
Name 祝日: #REF!
Name 祝日: #REF!
Name 整列: #REF!
Name 単位: #REF!
Name 担当: #REF!
Name 適合項目: #REF!
Name 内訳書: #REF!
Name 納品数: #REF!
Name 名称: #REF!
Name 目: #REF!
Name 略称: #REF!

Sheet 見積書
A1: 別紙様式第1号
A3: 見 積 書
I5: 令和 年 月 日
I6: （提出年月日を記載）
B8: 分任支出負担行為担当官
B9: 北信森林管理署長 林 満 殿
G11: （見積人）
G12: 住 所
G13: 商号又は名称
G14: 代表者氏名
C18: ￥
C20: ただし | D20: 北信森林管理署大型除雪機等購入 | H20: の代金
B23: 上記のとおり、中部森林管理局オープン方式実施要領、見積依頼公告及び仕様書等を
B24: 承知のうえ、見積りします。
G27: （押印を省略する場合は記載すること）
G28: 本件責任者：
G29: 本件担当者：
G30: 連 絡 先１：
G31: 連 絡 先２：
A33: （注意事項）
A34: １ | B34: 金額は円単位とし、アラビア数字をもって明記すること。
A35: ２ | B35: 記載する金額は、税抜き金額とする。
A36: ３ | B36: 本件責任者氏名、担当者氏名及び連絡先２件を記入し、押印を省略することができる。
B37: 責任者と担当者は、別の者を記入することを原則とするが、個人事業者等で担当者及び連絡先が複数ない場
B38: 合は、責任者と担当者に同一の者を記載し、又、連絡先の記載が１件でも構わないものとする。
A39: ４ | B39: 押印を省略しない場合は、社印、代表者印を押印すること。
A40: ５ | B40: なお、任意の見積書を使用する場合は、中部森林管理局オープンカウンター方式実施要領、見積依頼公告及び
B41: 仕様書等発注者が示す条件等を承知のうえ、見積書を提出したものとする。

Sheet 内訳
A1: 内訳書
A3: № | B3: 品 名 | C3: 規格 | D3: 数量 | E3: 単位 | F3: 単価 | G3: 金額
A4: =[1]仕様書!A6 -> 1 | B4: =[1]仕様書!B6 -> 除雪機 | C4: =[1]仕様書!C6 -> 使用燃料：ディーゼル軽油、エンジン出力：22馬力、除雪幅：1100mm、除雪高：715mm（運搬費含む） | D4: =[1]仕様書!D6 -> 1 | E4: 台
A5: =[1]仕様書!A7 -> 2 | B5: =[1]仕様書!B7 -> アルミブリッジ | C5: =[1]仕様書!C7 -> 積載重量：0.8t、長さ：1800mm、有効幅：300mm、2本セット | D5: =[1]仕様書!D7 -> 1 | E5: 組
A6: =[1]仕様書!A8 -> 3 | B6: =[1]仕様書!B8 -> 安全ボルト | C6: =[1]仕様書!C8 -> 8×25（10セット入り）、除雪機汎用シャーボルト | D6: =[1]仕様書!D8 -> 3 | E6: 袋
A7: =[1]仕様書!A9 -> 4 | B7: =[1]仕様書!B9 -> 安全ボルト | C7: =[1]仕様書!C9 -> 6×25（10セット入り）、除雪機汎用シャーボルト | D7: =[1]仕様書!D9 -> 5 | E7: 袋
A8: =[1]仕様書!A10 -> 5 | B8: =[1]仕様書!B10 -> 安全ボルト | C8: =[1]仕様書!C10 -> 10×30（10セット入り）、除雪機汎用シャーボルト | D8: =[1]仕様書!D10 -> 2 | E8: 袋
A9: =[1]仕様書!A11 -> 6 | B9: =[1]仕様書!B11 -> エンジンスターター | C9: =[1]仕様書!C11 -> バッテリー容量：24000mAh、出力：12V/24V兼用、出力容量：シガーソケットDC12V/10A、USBDC5V/1A･DC5V/2.1A | D9: =[1]仕様書!D11 -> 2 | E9: 台
A10: =[1]仕様書!A12 -> 7 | B10: =[1]仕様書!B12 -> 洗浄機 | C10: =[1]仕様書!C12 -> モーター式、電源AC100V、定格出力：1400w、吐出数量6L/min、最高出力8.0MPa | D10: =[1]仕様書!D12 -> 3 | E10: 台
A11: 計（税抜き）
A12: 消費税
A13: 合計
