Workbook
Name コード: [1]Cood!$N:$N
Name 一般管理費＿改修建築: [2]共通費!$F$33
Name 会計法リスト: [3]基礎ﾃﾞｰﾀ!$B$2:$B$12
Name 機械器具損料: '[2]直接修繕(別紙明細)'!$G$30
Name 共通仮設費: '[2]Ⅰ共通仮設(科目別内訳)'!$F$6
Name 局検査職員リスト2: [3]基礎ﾃﾞｰﾀ!$A$49:$A$85
Name 現場管理費＿改修建築: [2]共通費!$F$25
Name 戸別必要仮設: '[2]1.直接仮設(細目内訳)'!$G$10
Name 災害防止: '[2]直接修繕(別紙明細)'!$G$22
Name 所属リスト: [3]基礎ﾃﾞｰﾀ!$A$2:$A$23
Name 整理清掃後片付け: '[2]直接修繕(別紙明細)'!$G$12
Name 整列: [1]Cood!$I$1:$I$30
Name 全体必要仮設: '[2]1.直接仮設(細目内訳)'!$G$15
Name 担当: [1]Cood!$M:$M
Name 直接仮設費: '[2]Ⅰ宿舎(中科目内訳)'!$F$6
Name 直接修繕費: '[2]直接工事費Ⅰ宿舎(科目別内訳)'!$F$8
Name 摘要欄リスト: [3]基礎ﾃﾞｰﾀ!$D$2:$D$62
Name 内装改修: '[2]2.内装改修(細目内訳)'!$G$30
Name 内装改修費: '[2]Ⅰ宿舎(中科目内訳)'!$F$12
Name 内部仕上足場: '[2]直接修繕(別紙明細)'!$G$16
Name 納付場所リスト: [3]基礎ﾃﾞｰﾀ!$A$25:$A$47
Name 発生材処分: '[2]3.発生材処分(細目内訳)'!$G$7
Name 発生材処分費: '[2]Ⅰ宿舎(中科目内訳)'!$F$15
Name 副資材消耗品: '[2]直接修繕(別紙明細)'!$G$37
Name 墨出し: '[2]直接修繕(別紙明細)'!#REF!
Name 墨出し: '[2]直接修繕(別紙明細)'!#REF!
Name 予決令リスト: [3]基礎ﾃﾞｰﾀ!$C$2:$C$35
Name 養生: '[2]直接修繕(別紙明細)'!$G$8
Name 略称: [1]Cood!$L$1:$L$30

Sheet 見積書（計算式あり）
A2: 様式1
A4: 見 積 書
A8: 件名：物品購入（燃料類の単価契約、中信森林管理署外1）
S9: 見積金額
A10: 品 目 | C10: ①予定数量 | F10: ②令和8年2月4日に資源エネルギー庁が公表した給油所小売価格調査の長野県内価格 （消費税込み、円／ℓ） | I10: ③調整額 （消費税込み、円／ℓ） ④－② | S10: ='見積金額計算書（計算式あり）'!B23 -> 0
A11: 揮発油（無鉛） | C11: 6000 | E11: ℓ | F11: 162.2 | H11: 円 | I11: =G14-F11 -> -162.2 | K11: 円
A12: 灯油（白、配達） | C12: 4000 | E12: ℓ | F12: 131.2 | H12: 円 | I12: =G15-F12 -> -131.2 | K12: 円
A13: （小数点第二位以下の端数があるときは、小数点第二位以下を切捨てとする。）
A14: ④契約単価 （消費税込み、円／ℓ） | C14: =A11 -> 揮発油（無鉛） | G14: =仕様書別紙1_明細書!E7 -> 0 | J14: 円
C15: 灯油（白、配達） | G15: =仕様書別紙1_明細書!E8 -> 0 | J15: 円
A16: （小数点第二位以下の端数があるときは、小数点第二位以下を切捨てとする。）
A18: 見積金額 （総 額） （消費税抜き） | C18: 千万 | D18: 百万 | F18: 十万 | G18: 万 | H18: 千 | I18: 百 | J18: 十 | K18: 円
C19: =IF(LEN($S$10)=7,"\",IF((LEN($S$10)-8)<=-2,"",MID($S$10,LEN($S$10)-7,1))) | D19: =IF(LEN($S$10)=6,"\",IF((LEN($S$10)-7)<=-2,"",MID($S$10,LEN($S$10)-6,1))) | E19: =IF(LEN($S$10)=6,"\",IF((LEN($S$10)-7)<=-2,"",MID($S$10,LEN($S$10)-6,1))) | F19: =IF(LEN($S$10)=5,"\",IF((LEN($S$10)-6)<=-2,"",MID($S$10,LEN($S$10)-5,1))) | G19: =IF($S$10=0,"",MID($S$10,LEN($S$10)-4,1)) | H19: =IF($S$10=0,"",MID($S$10,LEN($S$10)-3,1)) | I19: =IF($S$10=0,"",MID($S$10,LEN($S$10)-2,1)) | J19: =IF($S$10=0,"",MID($S$10,LEN($S$10)-1,1)) | K19: =IF($S$10=0,"",RIGHT($S$10,1))
A20: ※1 消費税抜き額とし、金額の先頭に¥マークを記載すること ※2 ④契約単価に①予定数量を乗じた額の100/110を記載すること
A22: 上記金額で中部森林管理局オープンカウンター方式実施要領、見積依頼公告及び仕様書等、その他関係事項一切を承知のうえ、見積します。
B25: 令和 年 月 日
B27: 分任支出負担行為担当官 中信森林管理署長 髙塚 慎司 殿
B29: 住所
B30: 商号又は名称
B31: 代表者氏名
B32: 代理人
B35: （押印を省略する場合は記載すること）
B36: 本件責任者（氏名）：
B37: 担当者（氏名）：
B38: 連絡先１：
B39: 連絡先２：
A42: （注意事項）
A43: 1 | B43: 金額はアラビア数字をもって明記すること。
A44: 2 | B44: 用紙の寸法は、日本産業規格Ａ列４番とし、縦長に使用すること。
A45: 3 | B45: 本件責任者氏名、担当者氏名及び連絡先２件を記入し、押印を省略することができる。 責任者と担当者は、別の者を記入することを原則とするが、個人事業者等で担当者及び連絡先が複数ない場合は、責任者と担当者に同一の者を記載し、又、連絡先の記載が１件でも構わないものとする。
A46: 4 | B46: 押印を省略しない場合は、社印、代表者印、代理人へ委任している場合は、代理人使用印鑑を押印すること。

Sheet 見積金額計算書（計算式あり）
A1: 見積金額計算書 | I1: 「消費税抜き価格B」を入力すると、入札金額を計算します。
A3: ='見積書（計算式あり）'!A8 -> 件名：物品購入（燃料類の単価契約、中信森林管理署外1）
A5: 1 見積価格計算
A6: 品名 | B6: 規格 | C6: 予定数量 Ａ（㍑） | D6: 消費税込み単価 | E6: 消費税抜き単価 Ｂ | F6: 金額 Ａ×Ｂ | G6: 備考
A7: 揮発油 | B7: 無鉛 | C7: ='見積書（計算式あり）'!$C$11 -> 6000 | D7: =ROUNDDOWN(E7*1.1,1) -> 0 | F7: =C7*E7 -> 0
A8: 灯油 | B8: 白 | C8: ='見積書（計算式あり）'!$C$12 -> 4000 | D8: =ROUNDDOWN(E8*1.1,1) -> 0 | F8: =C8*E8 -> 0 | G8: 配達灯油
A10: ①計 | F10: =SUM(F7:F9) -> 0 | G10: 見積金額（総額）
A14: 2 消費税相当額計算
A15: 品名 | B15: 規格 | C15: 予定数量 a（㍑） | D15: 消費税込み単価 | E15: 消費税抜き単価ｂ | F15: 金額 a×b | G15: 備考
A16: 揮発油 | B16: 無鉛 | C16: =C7 -> 6000 | D16: =D7 -> 0 | E16: =E7 -> 0 | F16: =C16*E16 -> 0
A17: 灯油 | B17: 白 | C17: =C8 -> 4000 | D17: =D8 -> 0 | E17: =E8 -> 0 | F17: =C17*E17 -> 0
A19: 消費税課税額 | F19: =SUM(F16:F18) -> 0
A20: ②消費税相当額 | F20: =ROUNDDOWN(F19*0.1,0) -> 0 | G20: 1円未満下切り捨て
A22: 総額
A23: ①計 | B23: =$F$10 -> 0 | C23: 見積金額（総額）
A24: ②消費税相当額 | B24: =$F$20 -> 0
A25: 合計 | B25: =SUM(B23:B24) -> 0 | C25: 契約予定総金額
A27: 油種毎の見積単価欄「黄色セル」に消費税額を除いた単価を入力すると見積金額を自動計算します。
A28: なお、見積書にも反映します。

Sheet 仕様書別紙1_明細書
A1: 仕様書 別紙１
A2: 明細書
A4: 中信森林管理署外１
A5: 燃料種別 | B5: 予定購入数量 （ℓ） | C5: 令和8年2月4日に資源エネルギー庁が公表した給油所小売価格調査の長野県内価格 （消費税込み、円／ℓ） | D5: 契約単価 | F5: 調整額 （消費税込み、円／ℓ）
D6: （消費税抜、円／ℓ） | E6: （消費税込み、円／ℓ）
A7: 揮発油（レギュラー） | B7: 6000 | C7: 162.2 | D7: ='見積金額計算書（計算式あり）'!E7 -> 0 | E7: ='見積金額計算書（計算式あり）'!D7 -> 0 | F7: =E7-C7 -> -162.2
A8: 灯油（白、配達） | B8: 4000 | C8: 131.2 | D8: ='見積金額計算書（計算式あり）'!E8 -> 0 | E8: ='見積金額計算書（計算式あり）'!D8 -> 0 | F8: =E8-C8 -> -131.2

Sheet 委任状
B3: 様式第2号（第3条）
A5: 委 任 状
A7: 物件の名称 ： 令和8年度中信森林管理署庁舎清掃等業務
D10: 代理人氏名
D14: 上記の者を私の代理人と定め、下記権限を委任します。
A16: 記
C18: １ 見積年月日 | H18: 令和 年 月 日
C20: ２ 件 名 | G20: 物品購入（燃料類の単価契約、中信森林管理署外1）
C22: ３ 見積書提出に関する一切の件
E25: 令和 年 月 日
G26: 住 所
G27: 商号又は名称
G28: 代表者氏名
C30: 分任支出負担行為担当官
C31: =[4]入札書!D21 -> 中信森林管理署長 髙塚 慎司 殿
H33: （押印を省略する場合は記載すること)
H34: 本件責任者：
H35: 本件担当者：
H36: 連絡先 １：
H37: 連絡先 ２：
B39: （注意事項）
B40: 1 | C40: 用紙の寸法は、日本産業規格Ａ列４番とし、縦長に使用すること。
B41: 2 | C41: 本件責任者氏名、担当者氏名及び連絡先２件を記入し、押印を省略することができる。 責任者と担当者は、別の者を記入することを原則とするが、個人事業者等で担当者及び連絡先が複数ない場合は、責任者と担当者に同一の者を記載し、又、連絡先の記載が１件でも構わないものとする。
B42: 3 | C42: 押印を省略しない場合は、社印、代表者印、代理人使用印鑑を代理人氏名の余白に押印すること。
