Workbook
Name 一般管理費＿改修建築: [1]共通費!$F$33
Name 機械器具損料: '[1]直接修繕(別紙明細)'!$G$30
Name 共通仮設費: '[1]Ⅰ共通仮設(科目別内訳)'!$F$6
Name 現場管理費＿改修建築: [1]共通費!$F$25
Name 戸別必要仮設: '[1]1.直接仮設(細目内訳)'!$G$10
Name 災害防止: '[1]直接修繕(別紙明細)'!$G$22
Name 整理清掃後片付け: '[1]直接修繕(別紙明細)'!$G$12
Name 全体必要仮設: '[1]1.直接仮設(細目内訳)'!$G$15
Name 直接仮設費: '[1]Ⅰ宿舎(中科目内訳)'!$F$6
Name 直接修繕費: '[1]直接工事費Ⅰ宿舎(科目別内訳)'!$F$8
Name 内装改修: '[1]2.内装改修(細目内訳)'!$G$30
Name 内装改修費: '[1]Ⅰ宿舎(中科目内訳)'!$F$12
Name 内部仕上足場: '[1]直接修繕(別紙明細)'!$G$16
Name 発生材処分: '[1]3.発生材処分(細目内訳)'!$G$7
Name 発生材処分費: '[1]Ⅰ宿舎(中科目内訳)'!$F$15
Name 副資材消耗品: '[1]直接修繕(別紙明細)'!$G$37
Name 墨出し: '[1]直接修繕(別紙明細)'!#REF!
Name 墨出し: '[1]直接修繕(別紙明細)'!#REF!
Name 養生: '[1]直接修繕(別紙明細)'!$G$8

Sheet 入札書
A3: 様式第５号（第４条）
A5: 入 札 書
R6: 入札金額
B7: 入札件名：中信森林管理署上高地治山事業所デジタル複写機（複合機）保守業務 | R7: =入札金額内訳書!B28 -> 0
B9: 入札金額 | C9: 億 | D9: 千万 | E9: 百万 | F9: 十万 | G9: 万 | H9: 千 | I9: 百 | J9: 十 | K9: 円
D10: =IF(LEN($R$7)=7,"\",IF((LEN($R$7)-8)<=-2,"",MID($R$7,LEN($R$7)-7,1))) | E10: =IF(LEN($R$7)=6,"\",IF((LEN($R$7)-7)<=-2,"",MID($R$7,LEN($R$7)-6,1))) | F10: =IF(LEN($R$7)=5,"\",IF((LEN($R$7)-6)<=-2,"",MID($R$7,LEN($R$7)-5,1))) | G10: =IF(LEN($R$7)=4,"\",IF((LEN($R$7)-5)<=-2,"",MID($R$7,LEN($R$7)-4,1))) | H10: =IF(LEN($R$7)=3,"\",IF((LEN($R$7)-4)<=-2,"",MID($R$7,LEN($R$7)-3,1))) | I10: =IF(LEN($R$7)=2,"\",IF((LEN($R$7)-3)<=-2,"",MID($R$7,LEN($R$7)-2,1))) | J10: =IF($R$7=0,"",MID($R$7,LEN($R$7)-1,1)) | K10: =IF($R$7=0,"",RIGHT($R$7,1))
C11: ＊金額の先頭へ￥マークを記載すること。
B13: 上記金額は、消費税相当額を除いた金額であるので、契約額は上記金額に10％に相当する額を加算した金額となること及び、入札公告・仕様書・契約条件並びに中部森林管理局競争契約入札心得の一切を承知のうえ入札します。
C17: 平成 年 月 日 | D17: 令和 年 月 日
C20: 分任支出負担行為担当官
D21: 中信森林管理署長 髙塚 慎司 殿
D25: 所 在 地
D27: 会 社 名
D29: 代表者氏名
D31: 代 理 人
C34: （押印を省略する場合は記載すること）
C36: 本件責任者（氏名）：
C37: 本件担当者（氏名）：
C38: 連絡先１：
C39: 連絡先２：
B42: （注意事項）
B43: 1 | C43: 金額はアラビア数字をもって明記すること。
B44: 2 | C44: 用紙の寸法は、日本産業規格Ａ列４番とし、縦長に使用すること。
B45: 3 | C45: 本件責任者氏名、担当者氏名及び連絡先２件を記入し、押印を省略することができる。 責任者と担当者は、別の者を記入することを原則とするが、個人事業者等で担当者及び連絡先が複数ない場合は、責任者と担当者に同一の者を記載し、又、連絡先の記載が１件でも構わないものとする。
B46: 4 | C46: 押印を省略しない場合は、社印、代表者印、代理人へ委任している場合は、代理人使用印鑑を押印すること。

Sheet 入札書 (記載例)
A1: 様式第５号（第４条）
A3: 入 札 書（記載例）
R4: 入札金額
B5: =入札書!B7 -> 入札件名：中信森林管理署上高地治山事業所デジタル複写機（複合機）保守業務 | R5: =入札金額内訳書記載例!B29 -> 292800
B7: 入札金額 | C7: 億 | D7: 千万 | E7: 百万 | F7: 十万 | G7: 万 | H7: 千 | I7: 百 | J7: 十 | K7: 円
D8: =IF(LEN($R$5)=7,"\",IF((LEN($R$5)-8)<=-2,"",MID($R$5,LEN($R$5)-7,1))) | E8: =IF(LEN($R$5)=6,"\",IF((LEN($R$5)-7)<=-2,"",MID($R$5,LEN($R$5)-6,1))) -> \ | F8: =IF(LEN($R$5)=5,"\",IF((LEN($R$5)-6)<=-2,"",MID($R$5,LEN($R$5)-5,1))) -> 2 | G8: =IF(LEN($R$5)=4,"\",IF((LEN($R$5)-5)<=-2,"",MID($R$5,LEN($R$5)-4,1))) -> 9 | H8: =IF(LEN($R$5)=3,"\",IF((LEN($R$5)-4)<=-2,"",MID($R$5,LEN($R$5)-3,1))) -> 2 | I8: =IF(LEN($R$5)=2,"\",IF((LEN($R$5)-3)<=-2,"",MID($R$5,LEN($R$5)-2,1))) -> 8 | J8: =IF($R$5=0,"",MID($R$5,LEN($R$5)-1,1)) -> 0 | K8: =IF($R$5=0,"",RIGHT($R$5,1)) -> 0
C9: ＊金額の先頭へ￥マークを記載すること。
B11: 上記金額は、消費税相当額を除いた金額であるので、契約額は上記金額に10％に相当する額を加算した金額となること及び、入札公告・仕様書・契約条件並びに中部森林管理局競争契約入札心得の一切を承知のうえ入札します。
C15: 平成 年 月 日 | D15: 令和 年 月 日
C18: 分任支出負担行為担当官
D19: =入札書!D21 -> 中信森林管理署長 髙塚 慎司 殿
D23: 所 在 地 | F23: ○○県○○市大字○○XXX-X
D25: 会 社 名 | F25: 株式会社 ○○○○
D27: 代表者氏名 | F27: 代表取締役 ○○ ○○
D29: 代 理 人
C32: （押印を省略する場合は記載すること）
C34: 本件責任者（氏名）：
C35: 本件担当者（氏名）：
C36: 連絡先１：
C37: 連絡先２：
B40: （注意事項）
B41: 1 | C41: 金額はアラビア数字をもって明記すること。
B42: 2 | C42: 用紙の寸法は、日本産業規格Ａ列４番とし、縦長に使用すること。
B43: 3 | C43: 本件責任者氏名、担当者氏名及び連絡先２件を記入し、押印を省略することができる。 責任者と担当者は、別の者を記入することを原則とするが、個人事業者等で担当者及び連絡先が複数ない場合は、責任者と担当者に同一の者を記載し、又、連絡先の記載が１件でも構わないものとする。
B44: 4 | C44: 押印を省略しない場合は、社印、代表者印、代理人へ委任している場合は、代理人使用印鑑を押印すること。
A46: ※注意
A47: この記載例に示す、金額は、記載方法を示すための例であるから、実際の応札にあたっては、各社の積算した価格で入札すること。

Sheet 入札金額内訳書
A1: (様式例)
A3: 入札金額内訳書
A5: =入札書!B7 -> 入札件名：中信森林管理署上高地治山事業所デジタル複写機（複合機）保守業務
E7: 住 所
E8: 会 社 名
E9: 代表者氏名
A12: 1ヶ月当たり保守料
A13: 設置場所 | B13: 機種 | C13: 区分 | D13: 保守料金別 | G13: 保守料内訳
D14: 枚数区分 | G14: 保守枚数 | H14: 単価 | I14: 月額
G15: A | H15: B | I15: A*B
A16: 上高地治山事業所 | B16: KONICA MINOLTA bizhub C251i | C16: モノクロ | D16: 1枚目 | E16: ～ | G16: 700 | I16: =G16*H16 -> 0
C17: フルカラー | D17: 1枚目 | E17: ～ | G17: 500 | I17: =G17*H17 -> 0
C18: 計Ｃ | G18: =SUM(G16:G17) -> 1200 | I18: =SUM(I16:I17) -> 0
A21: 保守料の合計（12ヶ月分）
A22: 月額計 | B22: 保守月数 | C22: 保守料 計 | E22: 消費税 | F22: 合計
A23: Ｃ | B23: Ｄ | C23: Ｃ＊Ｄ
A24: =I18 -> 0 | B24: 12 | C24: =A24*B24 -> 0 | E24: =ROUNDDOWN(C24*0.1,0) -> 0 | F24: =SUM(C24:E24) -> 0
A27: 入札金額 | B27: 税抜き
A28: 保守料 計 | B28: =C24 -> 0
A31: 注意１
A32: 保守料の単価については、少数点以下第2位止めとします。
A34: 注意２
A35: 保守料計算中の各使用場所毎の保守枚数については、仕様書に示された予定使用枚数と一致すること。
A37: 注意３
A38: 入札金額内訳書は、応札各社による任意様式とする。ただし、この（様式例）による要件については、当然備わっているものとする。

Sheet 入札金額内訳書記載例
A1: （記載例）
A3: 入札金額内訳書
A5: =入札書!B7 -> 入札件名：中信森林管理署上高地治山事業所デジタル複写機（複合機）保守業務
E7: 住 所 | F7: ○○県○○市大字○○XXX-X
E8: 会 社 名 | F8: 株式会社 ○○○○
E9: 代表者氏名 | F9: 代表取締役 ○○ ○○
A12: 1ヶ月当たり保守料
A13: 設置場所 | B13: 機種 | C13: 区分 | D13: 保守料金別 | G13: 保守料内訳
D14: 枚数区分 | G14: 保守枚数 | H14: 単価 | I14: 月額
G15: A | H15: B | I15: A*B
A16: 上高地治山事業所 | B16: KONICA MINOLTA bizhub C251i | C16: モノクロ | D16: 1枚目 | E16: ～ | F16: 一律 | G16: =入札金額内訳書!G16 -> 700 | H16: 7 | I16: =G16*H16 -> 4900
C17: フルカラー | D17: 1枚目 | E17: ～ | F17: 一律 | G17: =入札金額内訳書!G17 -> 500 | H17: 39 | I17: =G17*H17 -> 19500
C18: 計Ｃ | G18: =SUM(G16:G17) -> 1200 | I18: =SUM(I16:I17) -> 24400
A22: 保守料の合計（12ヶ月分）
A23: 月額計 | B23: 保守月数 | C23: 保守料 計 | E23: 消費税 | F23: 合計
A24: Ｃ | B24: Ｄ | C24: Ｃ＊Ｄ
A25: =I18 -> 24400 | B25: 12 | C25: =A25*B25 -> 292800 | E25: =ROUNDDOWN(C25*0.1,0) -> 29280 | F25: =SUM(C25:E25) -> 322080
A28: 入札金額 | B28: 税抜き
A29: 保守料 計 | B29: =C25 -> 292800
A32: 注意１
A33: この記載例に示す全ての金額については、計算過程を示すための例である。
A35: 注意２
A36: 保守料の単価については、少数点以下第2位止めとする。
A38: 注意３
A39: この記載例による保守料計算の表記（枚数区分）については、「一律」としてあるが、応札者の見積もりに当たっては、
A40: これに限定するものではない。
A42: 注意４
A43: 保守料計算中の各使用場所毎の保守枚数については、仕様書に示された予定使用枚数と一致すること。
A45: 注意５
A46: 入札金額内訳書は、応札各社による任意様式とする。ただし、この（記載例）による要件については、当然備わっているものとする。
A48: 注意６
A49: この記載例に示す金額は、記載方法を示すための例であるから、実際の応札にあたっては、各社の積算した価格で入札すること。

Sheet 委任状
B3: 様式第６号（第４条）
A5: 委 任 状
A7: 物件の名称 ： 令和8年度中信森林管理署庁舎清掃等業務
D10: 代理人氏名
D14: 上記の者を私の代理人と定め、下記権限を委任します。
A16: 記
C18: １ 入札年月日 | H18: 令和 年 月 日
C20: ２ 件 名 | G20: 中信森林管理署上高地治山事業所デジタル複写機（複合機）保守業務
C22: ３ 入札に関する一切の件
E25: 令和 年 月 日
G26: 住 所
G27: 商号又は名称
G28: 代表者氏名
C30: 分任支出負担行為担当官
C31: =入札書!D21 -> 中信森林管理署長 髙塚 慎司 殿
H33: （押印を省略する場合は記載すること)
H34: 本件責任者：
H35: 本件担当者：
H36: 連絡先 １：
H37: 連絡先 ２：
B39: （注意事項）
B40: 1 | C40: 用紙の寸法は、日本産業規格Ａ列４番とし、縦長に使用すること。
B41: 2 | C41: 本件責任者氏名、担当者氏名及び連絡先２件を記入し、押印を省略することができる。 責任者と担当者は、別の者を記入することを原則とするが、個人事業者等で担当者及び連絡先が複数ない場合は、責任者と担当者に同一の者を記載し、又、連絡先の記載が１件でも構わないものとする。
B42: 3 | C42: 押印を省略しない場合は、社印、代表者印、代理人使用印鑑を代理人氏名の余白に押印すること。

Sheet 入札辞退届
A2: 様式8号（第4条の2）
A5: 入 札 辞 退 届
G8: 令和 年 月 日
B10: 分任支出負担行為担当官
B11: 中信森林管理署長 髙塚 慎司 殿
E16: （入札者）
E18: 住 所
E20: 商号又は名称
E22: 代表者氏名
E25: （代理人）
E27: 氏 名
B33: 件 名
B37: 上記について競争参加資格の確認を受けましたが、都合により入札を辞退します。
E41: （押印を省略する場合は記載すること)
E42: 本件責任者：
E43: 本件担当者：
E44: 連絡先 １：
E45: 連絡先 ２：
A48: （注意事項）
A49: 1 | B49: 用紙の寸法は、日本産業規格Ａ列４番とし、縦長に使用すること。
A50: 2 | B50: 本件責任者氏名、担当者氏名及び連絡先２件を記入し、押印を省略することができる。 責任者と担当者は、別の者を記入することを原則とするが、個人事業者等で担当者及び連絡先が複数ない場合は、責任者と担当者に同一の者を記載し、又、連絡先の記載が１件でも構わないものとする。
A51: 3 | B51: 押印を省略しない場合は、社印、代表者印、代理人へ委任している場合は、代理人使用印鑑を押印すること。
