Workbook
Name 一般管理費＿改修建築: [1]共通費!$F$33
Name 機械器具損料: '[1]直接修繕(別紙明細)'!$G$30
Name 共通仮設費: '[1]Ⅰ共通仮設(科目別内訳)'!$F$6
Name 現場管理費＿改修建築: [1]共通費!$F$25
Name 戸別必要仮設: '[1]1.直接仮設(細目内訳)'!$G$10
Name 災害防止: '[1]直接修繕(別紙明細)'!$G$22
Name 整理清掃後片付け: '[1]直接修繕(別紙明細)'!$G$12
Name 全体必要仮設: '[1]1.直接仮設(細目内訳)'!$G$15
Name 直接仮設費: '[1]Ⅰ宿舎(中科目内訳)'!$F$6
Name 直接修繕費: '[1]直接工事費Ⅰ宿舎(科目別内訳)'!$F$8
Name 内装改修: '[1]2.内装改修(細目内訳)'!$G$30
Name 内装改修費: '[1]Ⅰ宿舎(中科目内訳)'!$F$12
Name 内部仕上足場: '[1]直接修繕(別紙明細)'!$G$16
Name 発生材処分: '[1]3.発生材処分(細目内訳)'!$G$7
Name 発生材処分費: '[1]Ⅰ宿舎(中科目内訳)'!$F$15
Name 副資材消耗品: '[1]直接修繕(別紙明細)'!$G$37
Name 墨出し: '[1]直接修繕(別紙明細)'!#REF!
Name 墨出し: '[1]直接修繕(別紙明細)'!#REF!
Name 養生: '[1]直接修繕(別紙明細)'!$G$8

Sheet 入札書
A1: 様式第５号（第４条）
A3: 入 札 書
R4: 入札金額
B5: 入札物件名：令和8年度中信森林管理署庁舎清掃等業務 | R5: ='入札金額内訳書 '!$I$22 -> 0
B7: 入札金額 | C7: 億 | D7: 千万 | E7: 百万 | F7: 十万 | G7: 万 | H7: 千 | I7: 百 | J7: 十 | K7: 円
D8: =IF(LEN($R$5)=7,"\",IF((LEN($R$5)-8)<=-2,"",MID($R$5,LEN($R$5)-7,1))) | E8: =IF(LEN($R$5)=6,"\",IF((LEN($R$5)-7)<=-2,"",MID($R$5,LEN($R$5)-6,1))) | F8: =IF(LEN($R$5)=5,"\",IF((LEN($R$5)-6)<=-2,"",MID($R$5,LEN($R$5)-5,1))) | G8: =IF(LEN($R$5)=4,"\",IF((LEN($R$5)-5)<=-2,"",MID($R$5,LEN($R$5)-4,1))) | H8: =IF(LEN($R$5)=3,"\",IF((LEN($R$5)-4)<=-2,"",MID($R$5,LEN($R$5)-3,1))) | I8: =IF(LEN($R$5)=2,"\",IF((LEN($R$5)-3)<=-2,"",MID($R$5,LEN($R$5)-2,1))) | J8: =IF($R$5=0,"",MID($R$5,LEN($R$5)-1,1)) | K8: =IF($R$5=0,"",RIGHT($R$5,1))
C9: ＊金額の先頭へ￥マークを記載すること。
B11: 上記金額は、消費税相当額を除いた金額であるので、契約額は上記金額に10％に相当する額を加算した金額となること及び、入札公告・契約条件・入札説明資料並びに中部森林管理局競争契約入札心得の一切を承知のうえ入札します。
C15: 平成 年 月 日 | D15: 令和 年 月 日
C18: 分任支出負担行為担当官
D19: 中信森林管理署長 髙塚 慎司 殿
D23: 所 在 地
D25: 会 社 名
D27: 代表者氏名
D29: 代 理 人
C32: （押印を省略する場合は記載すること）
C34: 本件責任者（氏名）：
C35: 本件担当者（氏名）：
C36: 連絡先１：
C37: 連絡先２：
B40: （注意事項）
B41: 1 | C41: 金額はアラビア数字をもって明記すること。
B42: 2 | C42: 用紙の寸法は、日本産業規格Ａ列４番とし、縦長に使用すること。
B43: 3 | C43: 本件責任者氏名、担当者氏名及び連絡先２件を記入し、押印を省略することができる。 責任者と担当者は、別の者を記入することを原則とするが、個人事業者等で担当者及び連絡先が複数ない場合は、責任者と担当者に同一の者を記載し、又、連絡先の記載が１件でも構わないものとする。
B44: 4 | C44: 押印を省略しない場合は、社印、代表者印、代理人へ委任している場合は、代理人使用印鑑を押印すること。

Sheet 入札書 (記載例)
A1: 様式第５号（第４条）
A3: 入 札 書（記載例）
R4: 入札金額
B5: =入札書!B5 -> 入札物件名：令和8年度中信森林管理署庁舎清掃等業務 | R5: ='入札金額内訳書 (記載例)'!I22 -> 1240000
B7: 入札金額 | C7: 億 | D7: 千万 | E7: 百万 | F7: 十万 | G7: 万 | H7: 千 | I7: 百 | J7: 十 | K7: 円
D8: =IF(LEN($R$5)=7,"\",IF((LEN($R$5)-8)<=-2,"",MID($R$5,LEN($R$5)-7,1))) -> \ | E8: =IF(LEN($R$5)=6,"\",IF((LEN($R$5)-7)<=-2,"",MID($R$5,LEN($R$5)-6,1))) -> 1 | F8: =IF(LEN($R$5)=5,"\",IF((LEN($R$5)-6)<=-2,"",MID($R$5,LEN($R$5)-5,1))) -> 2 | G8: =IF(LEN($R$5)=4,"\",IF((LEN($R$5)-5)<=-2,"",MID($R$5,LEN($R$5)-4,1))) -> 4 | H8: =IF(LEN($R$5)=3,"\",IF((LEN($R$5)-4)<=-2,"",MID($R$5,LEN($R$5)-3,1))) -> 0 | I8: =IF(LEN($R$5)=2,"\",IF((LEN($R$5)-3)<=-2,"",MID($R$5,LEN($R$5)-2,1))) -> 0 | J8: =IF($R$5=0,"",MID($R$5,LEN($R$5)-1,1)) -> 0 | K8: =IF($R$5=0,"",RIGHT($R$5,1)) -> 0
C9: ＊金額の先頭へ￥マークを記載すること。
B11: 上記金額は、消費税相当額を除いた金額であるので、契約額は上記金額に10％に相当する額を加算した金額となること及び、入札公告・契約条件・入札説明資料並びに中部森林管理局競争契約入札心得の一切を承知のうえ入札します。
C15: 平成 年 月 日 | D15: 令和 年 月 日
C18: 分任支出負担行為担当官
D19: =入札書!D19 -> 中信森林管理署長 髙塚 慎司 殿
D23: 所 在 地 | F23: 長野県松本市島立1256-1
D25: 会 社 名 | F25: 株式会社 松本清掃事業
D27: 代表者氏名 | F27: 代表取締役 松本太郎
D29: 代 理 人
C32: （押印を省略する場合は記載すること）
C34: 本件責任者（氏名）：
C35: 本件担当者（氏名）：
C36: 連絡先１：
C37: 連絡先２：
B40: （注意事項）
B41: 1 | C41: 金額はアラビア数字をもって明記すること。
B42: 2 | C42: 用紙の寸法は、日本産業規格Ａ列４番とし、縦長に使用すること。
B43: 3 | C43: 本件責任者氏名、担当者氏名及び連絡先２件を記入し、押印を省略することができる。 責任者と担当者は、別の者を記入することを原則とするが、個人事業者等で担当者及び連絡先が複数ない場合は、責任者と担当者に同一の者を記載し、又、連絡先の記載が１件でも構わないものとする。
B44: 4 | C44: 押印を省略しない場合は、社印、代表者印、代理人へ委任している場合は、代理人使用印鑑を押印すること。

Sheet 入札金額内訳書 
A2: 入札金額内訳書
B5: =入札書!B5 -> 入札物件名：令和8年度中信森林管理署庁舎清掃等業務
F8: 住 所
F9: 会 社 名
F10: 代表者氏名
F11: 代 理 人
A15: 作業項目 | C15: 細目 | G15: 単価 | H15: 数量 | I15: 金額 | J15: 備考
G16: Ａ | H16: Ｂ | I16: Ａ×Ｂ
A17: 日常清掃 | C17: 床清掃・床以外の清掃・巡回清掃 | H17: 12 | J17: 左記の単価は、月毎単価
A19: 定期清掃 | C19: 床清掃（ワックス仕上げ） | H19: 2 | J19: 左記の単価は、１作業毎単価
A20: 〃 | C20: 窓ガラス清掃 | H20: 2
A22: 計
A23: 消費税（10％）
A24: 総計

Sheet 入札金額内訳書  (記載例)
A2: 入札金額内訳書（記載例）
B5: =入札書!B5 -> 入札物件名：令和8年度中信森林管理署庁舎清掃等業務
F8: 住 所 | H8: 長野県松本市島立1256-1
F9: 会 社 名 | H9: 株式会社 松本清掃事業
F10: 代表者氏名 | H10: 代表取締役 松本太郎
F11: 代 理 人
A15: 作業項目 | C15: 細目 | G15: 単価 | H15: 数量 | I15: 金額 | J15: 備考
G16: Ａ | H16: Ｂ | I16: Ａ×Ｂ
A17: 日常清掃 | C17: 床清掃・床以外の清掃・巡回清掃 | G17: 80000 | H17: 12 | I17: =G17*H17 -> 960000 | J17: 左記の単価は、月毎単価
A19: 定期清掃 | C19: 床清掃（ワックス仕上げ） | G19: 100000 | H19: 2 | I19: =G19*H19 -> 200000 | J19: 左記の単価は、１作業毎単価
A20: 〃 | C20: 窓ガラス清掃 | G20: 40000 | H20: 2 | I20: =G20*H20 -> 80000
A22: 計 | I22: =SUM(I17:I20) -> 1240000
A23: 消費税（10％） | I23: =ROUNDDOWN(I22*0.1,0) -> 124000
A24: 総計 | I24: =I22+I23 -> 1364000

Sheet 委任状
B3: 様式第６号（第４条）
A5: 委 任 状
A7: 物件の名称 ： 令和8年度中信森林管理署庁舎清掃等業務
D10: 代理人氏名
D14: 上記の者を私の代理人と定め、下記権限を委任します。
A16: 記
C18: １ 入札年月日 | H18: 令和 年 月 日
C20: ２ 件 名 | G20: 令和8年度中信森林管理署庁舎清掃等業務
C22: ３ 入札に関する一切の件
E25: 令和 年 月 日
G26: 住 所
G27: 商号又は名称
G28: 代表者氏名
C30: 分任支出負担行為担当官
C31: =入札書!D19 -> 中信森林管理署長 髙塚 慎司 殿
H33: （押印を省略する場合は記載すること)
H34: 本件責任者：
H35: 本件担当者：
H36: 連絡先 １：
H37: 連絡先 ２：
B39: （注意事項）
B40: 1 | C40: 用紙の寸法は、日本産業規格Ａ列４番とし、縦長に使用すること。
B41: 2 | C41: 本件責任者氏名、担当者氏名及び連絡先２件を記入し、押印を省略することができる。 責任者と担当者は、別の者を記入することを原則とするが、個人事業者等で担当者及び連絡先が複数ない場合は、責任者と担当者に同一の者を記載し、又、連絡先の記載が１件でも構わないものとする。
B42: 3 | C42: 押印を省略しない場合は、社印、代表者印、代理人使用印鑑を代理人氏名の余白に押印すること。

Sheet 入札辞退届
A2: 様式8号（第4条の2）
A5: 入 札 辞 退 届
G8: 令和 年 月 日
B10: 分任支出負担行為担当官
B11: 中信森林管理署長 髙塚 慎司 殿
E16: （入札者）
E18: 住 所
E20: 商号又は名称
E22: 代表者氏名
E25: （代理人）
E27: 氏 名
B33: 件 名
B37: 上記について競争参加資格確認通知書の交付を受けましたが、都合
B38: により入札を辞退します。
E41: （押印を省略する場合は記載すること)
E42: 本件責任者：
E43: 本件担当者：
E44: 連絡先 １：
E45: 連絡先 ２：
A48: （注意事項）
A49: 1 | B49: 用紙の寸法は、日本産業規格Ａ列４番とし、縦長に使用すること。
A50: 2 | B50: 本件責任者氏名、担当者氏名及び連絡先２件を記入し、押印を省略することができる。 責任者と担当者は、別の者を記入することを原則とするが、個人事業者等で担当者及び連絡先が複数ない場合は、責任者と担当者に同一の者を記載し、又、連絡先の記載が１件でも構わないものとする。
A51: 3 | B51: 押印を省略しない場合は、社印、代表者印、代理人へ委任している場合は、代理人使用印鑑を押印すること。
